BEGIN:VCALENDAR
VERSION:2.0
PRODID:-//Winnipeg for Free - ECPv5.16.4//NONSGML v1.0//EN
CALSCALE:GREGORIAN
METHOD:PUBLISH
X-ORIGINAL-URL:https://wpgforfree.ca
X-WR-CALDESC:Events for Winnipeg for Free
REFRESH-INTERVAL;VALUE=DURATION:PT1H
X-Robots-Tag:noindex
X-PUBLISHED-TTL:PT1H
BEGIN:VTIMEZONE
TZID:America/Winnipeg
BEGIN:DAYLIGHT
TZOFFSETFROM:-0600
TZOFFSETTO:-0500
TZNAME:CDT
DTSTART:20240310T080000
END:DAYLIGHT
BEGIN:STANDARD
TZOFFSETFROM:-0500
TZOFFSETTO:-0600
TZNAME:CST
DTSTART:20241103T070000
END:STANDARD
END:VTIMEZONE
BEGIN:VEVENT
DTSTART;TZID=America/Winnipeg:20240630T090000
DTEND;TZID=America/Winnipeg:20240630T221500
DTSTAMP:20260422T075859
CREATED:20220624T041341Z
LAST-MODIFIED:20240624T204608Z
UID:88420-1719738000-1719785700@wpgforfree.ca
SUMMARY:Canada Day at Winnipeg Beach
DESCRIPTION:Canada Day at Winnipeg BeachShare This Story\nCelebrate Canada Day at Winnipeg Beach: A Day of Fun for the Whole Family!\nThis Canada Day\, head to Winnipeg Beach for a day filled with festive activities\, exciting entertainment\, and community spirit! Join us on June 30th\, 2024 for the Canada Day at Winnipeg Beach celebrations\, centered around the picturesque Bandstand. \nHere's a glimpse of what awaits:\n● Kickstart with Zumba: Get your energy pumping with a fun Zumba session at 9:30 am. \n● Road Hockey Tournament: Lace up your skates and join the road hockey faceoff starting at 10 am. \n● Canada Day Market: Explore a vibrant market showcasing local crafts\, delicious treats\, and unique souvenirs from 10 am to 3 pm. \n● Firefighter Water Fight: Cool down at noon as our brave firefighters engage in a refreshing water battle. \n● The article continues below \n\n\n\n● Lions Club Family Fun Zone: Bring the whole family for classic games\, friendly competitions\, and laughter between 1 pm and 3 pm. \n● Primo Wrestling Showdown: Witness thrilling wrestling matches that will keep you on the edge of your seat from 3 pm to 5 pm. \n● Dance the Night Away with Pop Vegas: Groove to the energetic tunes of Pop Vegas as the sun sets at 7 pm. \n● Grand Finale Fireworks: Cap off the night with a spectacular fireworks display illuminating the sky at approximately 10:15 pm. \nThis is just a taste of the excitement that awaits at Canada Day at Winnipeg Beach! Come celebrate our nation's birthday\, connect with your community\, and embrace the Canadian spirit. Don your red and white\, and get ready for a day of unforgettable memories! \n \n\n\n\nPlease note: This blog post is for informational purposes only. Winnipeg for Free is not associated with Winnipeg Beach in any manner. Confirm program details and availability directly with Winnipeg Beach.  \n\n\n\n\nUpcoming Events\n\n	\n		\n		\n		\n			\n					\n							08\n							January\n							2026\n							\n							\n				\n		\n			Free Entry to Manitoba Parks for 1 Year Starting April 1\, 2025Free Entry to Manitoba Parks for a Year Starting April 1\, 2025 Free Entry ito \nFind out more\n                        \n                        \n                        \n                        Multiple Locations\,\n\n\n\n\n\n\n\n\n	\n	\n		\n		\n		\n			\n					\n							21\n							April\n							2026\n							\n							\n				\n		\n			Free Admission to Winnipeg Police MuseumThe Winnipeg Police Museum offers free admission and features artifacts dating back to the late 1800s\, vintage vehicles and motorcycles\, and stories highlighting the history and service of the Winnipeg Police Service\, located at 245 Smith Street and open Tuesday to Friday from 10:00 AM to 3:00 PM. \nFind out more\n                        \n                        \n                        \n                        Winnipeg Police Museum\,\n\n245 Smith St.\n	\n		\n		Winnipeg\,\n\n	Manitoba\n\n\n	Canada\n\n\n+ Google Map\n	\n	\n		\n		\n		\n			\n					\n							24\n							April\n							2026\n							\n							\n				\n		\n			Free Admission to Canuck Amusements at Kildonan Place 2026The Canuck Amusements Carnival brings thrills\, games\, and family fun to Kildonan Place! Enjoy heart-pounding rides\, kiddie zones\, delicious treats & more. 2 Weekends! Free Entry! ($30 wristbands for unlimited rides). Don't miss out! \nFind out more\n                        \n                        \n                        \n                        Kildonan Place\,\n\n1555 Regent Ave W.\n	\n		\n		Winnipeg\,\n\n\n	R2C 4J2\n\n	CA\n\n\n+ Google Map\n	\n	\n		\n		\n		\n			\n					\n							24\n							April\n							2026\n							\n							\n				\n		\n			Weekend Round-Up: 10+ Free Events in Winnipeg April 24-26A list of free things to do in Winnipeg during the weekend including activities for the family\, live music\, arts\, movies\, and more. \nFind out more\n                        \n                        \n                        \n                        Winnipeg\, Manitoba\,\n\n\n	Winnipeg\,\n\n	Manitoba\n\n\n	Canada\n\n\n+ Google Map\n	\n	\n		\n		\n		\n			\n					\n							24\n							April\n							2026\n							\n							\n				\n		\n			Free Admission for Youth 14 and under at RodaramaHere’s a short\, SEO-friendly excerpt you can use: \n**Looking for things to do in Winnipeg this weekend?** Discover a mix of free events\, markets\, live music\, family activities\, and major attractions happening April 25. From carnival rides and car shows to community festivals and outdoor experiences\, there’s something for everyone to enjoy. \nFind out more\n                        \n                        \n                        \n                        Red River Exhibition Park\,\n\n3977 Portage Avenue\, Winnipeg\, MB R3K 2E8\n	\n		\n		Winnipeg\,\n\n\n	R3K 2E8\n\n	CA\n\n\n+ Google Map\n	\n	\n		\n		\n		\n			\n					\n							25\n							April\n							2026\n							\n							\n				\n		\n			Manitoba Robot Games 2026The Manitoba Robot Games returns to Winnipeg on April 25\, 2026\, with 17 exciting robot competitions at Tec-Voc’s Hornet Dome. Free for spectators\, it’s a fun and family-friendly way to experience STEM in action. \nFind out more\n                        \n                        \n                        \n                        Tec-Voc High School (The Hornet Dome)\,\n\n1555 Wall Street\n	\n		\n		Winnipeg\,\n\n	Manitoba\n\n\n	Canada\n\n\n+ Google Map\n	\n	\n		\n		\n		\n			\n					\n							25\n							April\n							2026\n							\n							\n				\n		\n			Astronomy Day at Assiniboine ParkEnjoy a free day of stargazing at Astronomy Day in Assiniboine Park\, featuring daytime and nighttime telescope viewing. Connect with experts and explore the wonders of the universe—no registration required. \nFind out more\n                        \n                        \n                        \n                        Assiniboine Park (Lyric Theatre and Field)\,\n\n55 Pavilion Crescent\, Winnipeg\, MB R3P 2N6\n	\n		\n		Winnipeg\,\n\n	Manitoba\n\n	R3P 2N6\n\n	Canada\n\n\n+ Google Map\n	\n	\n		\n		\n		\n			\n					\n							25\n							April\n							2026\n							\n							\n				\n		\n			Astronomy Day at Assiniboine ParkEnjoy a free day of stargazing at Astronomy Day in Assiniboine Park\, featuring daytime and nighttime telescope viewing. Connect with experts and explore the wonders of the universe—no registration required. \nFind out more\n                        \n                        \n                        \n                        Assiniboine Park (Lyric Theatre and Field)\,\n\n55 Pavilion Crescent\, Winnipeg\, MB R3P 2N6\n	\n		\n		Winnipeg\,\n\n	Manitoba\n\n	R3P 2N6\n\n	Canada\n\n\n+ Google Map\n	\n	\n		\n		\n		\n			\n					\n							01\n							May\n							2026\n							\n							\n				\n		\n			Jane's Walk Winnipeg 2026Explore Winnipeg during Jane’s Walk 2026 (May 1–3) with free\, community-led walking tours across the city featuring local history\, culture\, and hidden gems. \nFind out more\n                        \n                        \n                        \n                        Multiple Locations\,\n\n\n\n\n\n\n\n\n	\n	\n		\n		\n		\n			\n					\n							03\n							May\n							2026\n							\n							\n				\n		\n			Narcisse Snake Dens 2026See thousands of red-sided garter snakes gather at the Narcisse Snake Dens during Manitoba’s incredible spring mating season. This rare natural phenomenon offers a free\, unforgettable wildlife experience just outside Winnipeg. \nFind out more\n                        \n                        \n                        \n                        Narcisse Snake Dens\,\n\nHighway 17\n	\n		\n		Narcisse\,\n\n	Manitoba\n\n	R0C 2H0\n\n	Canada\n\n\n+ Google Map\n	\n                \n                 Load More
URL:https://wpgforfree.ca/event/canada-day-at-winnipeg-beach/
LOCATION:Winnipeg Beach\, Main Street\, Winnipeg Beach\, Manitoba\, Canada
CATEGORIES:Health
ATTACH;FMTTYPE=image/jpeg:https://wpgforfree.ca/wp-content/uploads/2022/06/Canada-Day-at-Winnipeg-Beach.jpg
GEO:50.5067073;-96.9753962
X-APPLE-STRUCTURED-LOCATION;VALUE=URI;X-ADDRESS=Winnipeg Beach Main Street Winnipeg Beach Manitoba Canada;X-APPLE-RADIUS=500;X-TITLE=Main Street:geo:-96.9753962,50.5067073
END:VEVENT
BEGIN:VEVENT
DTSTART;TZID=America/Winnipeg:20240810T190000
DTEND;TZID=America/Winnipeg:20240810T220000
DTSTAMP:20260422T075859
CREATED:20240501T005602Z
LAST-MODIFIED:20240805T020201Z
UID:128411-1723316400-1723327200@wpgforfree.ca
SUMMARY:Winnipeg Beach Bandstand Performance Series
DESCRIPTION:Winnipeg Beach Bandstand Performance SeriesShare This Story\nImmerse Yourself in Summer Nights: The Winnipeg Beach Bandstand Performance Series \nMusic lovers\, rejoice! The Winnipeg Beach Bandstand Performance Series returns this summer\, promising unforgettable evenings under the open sky. This highly popular annual event transforms the lakeside venue into a vibrant stage\, attracting thousands with its diverse and electrifying lineup. \nMore Than Just a Concert: \nThe Winnipeg Beach Bandstand Performance Series isn't just about the music; it's about the complete experience. Nestled within a Provincial Park\, the Bandstand boasts an unbeatable location. Imagine swaying to your favorite tunes with the sparkling beach as your backdrop\, the lively boardwalk buzzing nearby\, and the inviting campground offering a perfect retreat. Explore the friendly businesses of the town of Winnipeg Beach\, and discover a true summer haven. \nThe article continues below \n\n\n\nA Musical Journey for All: \nCurated with the audience in mind\, the Winnipeg Beach Bandstand Performance Series caters to a wide range of musical preferences. Organizers carefully consider attendee feedback and recommendations to create a lineup that balances returning crowd favorites with fresh\, exciting new acts. Every summer brings a chance to rediscover beloved bands and be surprised by rising stars. Additionally\, the series proudly showcases local talent\, featuring inspiring musicians and youth on select Sundays in July and August. \n \n\n\n\nThe 2024 Lineup Awaits: \nGet ready to groove under the summer sun! Here's a glimpse into the exciting 2024 Winnipeg Beach Bandstand Performance Series lineup (dates and times subject to change): \n\nJune 30: Pop Vegas – Pop\, Rock & Dance\nJuly 6: A.R. Cash – Johnny Cash Tribute\nJuly 13: Bed of Roses – Bon Jovi & Styx Tribute\nJuly 20: Free Ride – Beatles\, 50's & 60's Rock Revival\nJuly 27: Damn Straight – Classic Rock Party Band\nAugust 3: Adam T. Elvis – Elvis Tribute\nAugust 10: Rattlesnake Suitcase – Guns & Roses & AC/DC Tribute\nAugust 17: Geoff Erickson Band – Classic Rock & Country Rock\nAugust 24: Rockalypso – Calypso & Caribbean\nAugust 31: Crossroads – Pop & Classic Rock\nSeptember 1: Sean Taylor Band – Country\n\nMake plans to experience the magic of the Winnipeg Beach Bandstand Performance Series! Immerse yourself in a summer symphony of music\, laughter\, and unforgettable memories by the lake. \nEvent Series: Winnipeg Beach Bandstand Performance Series \nDates: Every Saturday\, June 30th to September 1st\, 2024 with additional Sundays \nTime: 7:00 PM – 10:00 PM \nLocation: Bandstand\, Winnipeg Beach Provincial Park \n\nPlease note: This blog post is for informational purposes only. Winnipeg for Free is not associated with the Town of Winnipeg Beach in any manner. Confirm program details and availability directly with the Town of Winnipeg Beach.  \n\n\n\n\nUpcoming Events\n\n	\n		\n		\n		\n			\n					\n							08\n							January\n							2026\n							\n							\n				\n		\n			Free Entry to Manitoba Parks for 1 Year Starting April 1\, 2025Free Entry to Manitoba Parks for a Year Starting April 1\, 2025 Free Entry ito \nFind out more\n                        \n                        \n                        \n                        Multiple Locations\,\n\n\n\n\n\n\n\n\n	\n	\n		\n		\n		\n			\n					\n							21\n							April\n							2026\n							\n							\n				\n		\n			Free Admission to Winnipeg Police MuseumThe Winnipeg Police Museum offers free admission and features artifacts dating back to the late 1800s\, vintage vehicles and motorcycles\, and stories highlighting the history and service of the Winnipeg Police Service\, located at 245 Smith Street and open Tuesday to Friday from 10:00 AM to 3:00 PM. \nFind out more\n                        \n                        \n                        \n                        Winnipeg Police Museum\,\n\n245 Smith St.\n	\n		\n		Winnipeg\,\n\n	Manitoba\n\n\n	Canada\n\n\n+ Google Map\n	\n	\n		\n		\n		\n			\n					\n							24\n							April\n							2026\n							\n							\n				\n		\n			Free Admission to Canuck Amusements at Kildonan Place 2026The Canuck Amusements Carnival brings thrills\, games\, and family fun to Kildonan Place! Enjoy heart-pounding rides\, kiddie zones\, delicious treats & more. 2 Weekends! Free Entry! ($30 wristbands for unlimited rides). Don't miss out! \nFind out more\n                        \n                        \n                        \n                        Kildonan Place\,\n\n1555 Regent Ave W.\n	\n		\n		Winnipeg\,\n\n\n	R2C 4J2\n\n	CA\n\n\n+ Google Map\n	\n	\n		\n		\n		\n			\n					\n							24\n							April\n							2026\n							\n							\n				\n		\n			Weekend Round-Up: 10+ Free Events in Winnipeg April 24-26A list of free things to do in Winnipeg during the weekend including activities for the family\, live music\, arts\, movies\, and more. \nFind out more\n                        \n                        \n                        \n                        Winnipeg\, Manitoba\,\n\n\n	Winnipeg\,\n\n	Manitoba\n\n\n	Canada\n\n\n+ Google Map\n	\n	\n		\n		\n		\n			\n					\n							24\n							April\n							2026\n							\n							\n				\n		\n			Free Admission for Youth 14 and under at RodaramaHere’s a short\, SEO-friendly excerpt you can use: \n**Looking for things to do in Winnipeg this weekend?** Discover a mix of free events\, markets\, live music\, family activities\, and major attractions happening April 25. From carnival rides and car shows to community festivals and outdoor experiences\, there’s something for everyone to enjoy. \nFind out more\n                        \n                        \n                        \n                        Red River Exhibition Park\,\n\n3977 Portage Avenue\, Winnipeg\, MB R3K 2E8\n	\n		\n		Winnipeg\,\n\n\n	R3K 2E8\n\n	CA\n\n\n+ Google Map\n	\n	\n		\n		\n		\n			\n					\n							25\n							April\n							2026\n							\n							\n				\n		\n			Manitoba Robot Games 2026The Manitoba Robot Games returns to Winnipeg on April 25\, 2026\, with 17 exciting robot competitions at Tec-Voc’s Hornet Dome. Free for spectators\, it’s a fun and family-friendly way to experience STEM in action. \nFind out more\n                        \n                        \n                        \n                        Tec-Voc High School (The Hornet Dome)\,\n\n1555 Wall Street\n	\n		\n		Winnipeg\,\n\n	Manitoba\n\n\n	Canada\n\n\n+ Google Map\n	\n	\n		\n		\n		\n			\n					\n							25\n							April\n							2026\n							\n							\n				\n		\n			Astronomy Day at Assiniboine ParkEnjoy a free day of stargazing at Astronomy Day in Assiniboine Park\, featuring daytime and nighttime telescope viewing. Connect with experts and explore the wonders of the universe—no registration required. \nFind out more\n                        \n                        \n                        \n                        Assiniboine Park (Lyric Theatre and Field)\,\n\n55 Pavilion Crescent\, Winnipeg\, MB R3P 2N6\n	\n		\n		Winnipeg\,\n\n	Manitoba\n\n	R3P 2N6\n\n	Canada\n\n\n+ Google Map\n	\n	\n		\n		\n		\n			\n					\n							25\n							April\n							2026\n							\n							\n				\n		\n			Astronomy Day at Assiniboine ParkEnjoy a free day of stargazing at Astronomy Day in Assiniboine Park\, featuring daytime and nighttime telescope viewing. Connect with experts and explore the wonders of the universe—no registration required. \nFind out more\n                        \n                        \n                        \n                        Assiniboine Park (Lyric Theatre and Field)\,\n\n55 Pavilion Crescent\, Winnipeg\, MB R3P 2N6\n	\n		\n		Winnipeg\,\n\n	Manitoba\n\n	R3P 2N6\n\n	Canada\n\n\n+ Google Map\n	\n	\n		\n		\n		\n			\n					\n							01\n							May\n							2026\n							\n							\n				\n		\n			Jane's Walk Winnipeg 2026Explore Winnipeg during Jane’s Walk 2026 (May 1–3) with free\, community-led walking tours across the city featuring local history\, culture\, and hidden gems. \nFind out more\n                        \n                        \n                        \n                        Multiple Locations\,\n\n\n\n\n\n\n\n\n	\n	\n		\n		\n		\n			\n					\n							03\n							May\n							2026\n							\n							\n				\n		\n			Narcisse Snake Dens 2026See thousands of red-sided garter snakes gather at the Narcisse Snake Dens during Manitoba’s incredible spring mating season. This rare natural phenomenon offers a free\, unforgettable wildlife experience just outside Winnipeg. \nFind out more\n                        \n                        \n                        \n                        Narcisse Snake Dens\,\n\nHighway 17\n	\n		\n		Narcisse\,\n\n	Manitoba\n\n	R0C 2H0\n\n	Canada\n\n\n+ Google Map\n	\n                \n                 Load More
URL:https://wpgforfree.ca/event/winnipeg-beach-bandstand-performance-series/
LOCATION:Winnipeg Beach\, Main Street\, Winnipeg Beach\, Manitoba\, Canada
CATEGORIES:Live Music
ATTACH;FMTTYPE=image/jpeg:https://wpgforfree.ca/wp-content/uploads/2024/04/241220243_4234369370013512_6414519537089580230_n.jpg
GEO:50.5067073;-96.9753962
X-APPLE-STRUCTURED-LOCATION;VALUE=URI;X-ADDRESS=Winnipeg Beach Main Street Winnipeg Beach Manitoba Canada;X-APPLE-RADIUS=500;X-TITLE=Main Street:geo:-96.9753962,50.5067073
END:VEVENT
BEGIN:VEVENT
DTSTART;TZID=America/Winnipeg:20240830T203000
DTEND;TZID=America/Winnipeg:20240830T223000
DTSTAMP:20260422T075900
CREATED:20240821T050053Z
LAST-MODIFIED:20240821T050252Z
UID:132085-1725049800-1725057000@wpgforfree.ca
SUMMARY:Summer Nights: Movies at Winnipeg Beach
DESCRIPTION:Upcoming Events\n\n	\n		\n		\n		\n			\n					\n							08\n							January\n							2026\n							\n							\n				\n		\n			Free Entry to Manitoba Parks for 1 Year Starting April 1\, 2025Free Entry to Manitoba Parks for a Year Starting April 1\, 2025 Free Entry ito \nFind out more\n                        \n                        \n                        \n                        Multiple Locations\,\n\n\n\n\n\n\n\n\n	\n	\n		\n		\n		\n			\n					\n							21\n							April\n							2026\n							\n							\n				\n		\n			Free Admission to Winnipeg Police MuseumThe Winnipeg Police Museum offers free admission and features artifacts dating back to the late 1800s\, vintage vehicles and motorcycles\, and stories highlighting the history and service of the Winnipeg Police Service\, located at 245 Smith Street and open Tuesday to Friday from 10:00 AM to 3:00 PM. \nFind out more\n                        \n                        \n                        \n                        Winnipeg Police Museum\,\n\n245 Smith St.\n	\n		\n		Winnipeg\,\n\n	Manitoba\n\n\n	Canada\n\n\n+ Google Map\n	\n	\n		\n		\n		\n			\n					\n							24\n							April\n							2026\n							\n							\n				\n		\n			Free Admission to Canuck Amusements at Kildonan Place 2026The Canuck Amusements Carnival brings thrills\, games\, and family fun to Kildonan Place! Enjoy heart-pounding rides\, kiddie zones\, delicious treats & more. 2 Weekends! Free Entry! ($30 wristbands for unlimited rides). Don't miss out! \nFind out more\n                        \n                        \n                        \n                        Kildonan Place\,\n\n1555 Regent Ave W.\n	\n		\n		Winnipeg\,\n\n\n	R2C 4J2\n\n	CA\n\n\n+ Google Map\n	\n	\n		\n		\n		\n			\n					\n							24\n							April\n							2026\n							\n							\n				\n		\n			Weekend Round-Up: 10+ Free Events in Winnipeg April 24-26A list of free things to do in Winnipeg during the weekend including activities for the family\, live music\, arts\, movies\, and more. \nFind out more\n                        \n                        \n                        \n                        Winnipeg\, Manitoba\,\n\n\n	Winnipeg\,\n\n	Manitoba\n\n\n	Canada\n\n\n+ Google Map\n	\n	\n		\n		\n		\n			\n					\n							24\n							April\n							2026\n							\n							\n				\n		\n			Free Admission for Youth 14 and under at RodaramaHere’s a short\, SEO-friendly excerpt you can use: \n**Looking for things to do in Winnipeg this weekend?** Discover a mix of free events\, markets\, live music\, family activities\, and major attractions happening April 25. From carnival rides and car shows to community festivals and outdoor experiences\, there’s something for everyone to enjoy. \nFind out more\n                        \n                        \n                        \n                        Red River Exhibition Park\,\n\n3977 Portage Avenue\, Winnipeg\, MB R3K 2E8\n	\n		\n		Winnipeg\,\n\n\n	R3K 2E8\n\n	CA\n\n\n+ Google Map\n	\n	\n		\n		\n		\n			\n					\n							25\n							April\n							2026\n							\n							\n				\n		\n			Manitoba Robot Games 2026The Manitoba Robot Games returns to Winnipeg on April 25\, 2026\, with 17 exciting robot competitions at Tec-Voc’s Hornet Dome. Free for spectators\, it’s a fun and family-friendly way to experience STEM in action. \nFind out more\n                        \n                        \n                        \n                        Tec-Voc High School (The Hornet Dome)\,\n\n1555 Wall Street\n	\n		\n		Winnipeg\,\n\n	Manitoba\n\n\n	Canada\n\n\n+ Google Map\n	\n	\n		\n		\n		\n			\n					\n							25\n							April\n							2026\n							\n							\n				\n		\n			Astronomy Day at Assiniboine ParkEnjoy a free day of stargazing at Astronomy Day in Assiniboine Park\, featuring daytime and nighttime telescope viewing. Connect with experts and explore the wonders of the universe—no registration required. \nFind out more\n                        \n                        \n                        \n                        Assiniboine Park (Lyric Theatre and Field)\,\n\n55 Pavilion Crescent\, Winnipeg\, MB R3P 2N6\n	\n		\n		Winnipeg\,\n\n	Manitoba\n\n	R3P 2N6\n\n	Canada\n\n\n+ Google Map\n	\n	\n		\n		\n		\n			\n					\n							25\n							April\n							2026\n							\n							\n				\n		\n			Astronomy Day at Assiniboine ParkEnjoy a free day of stargazing at Astronomy Day in Assiniboine Park\, featuring daytime and nighttime telescope viewing. Connect with experts and explore the wonders of the universe—no registration required. \nFind out more\n                        \n                        \n                        \n                        Assiniboine Park (Lyric Theatre and Field)\,\n\n55 Pavilion Crescent\, Winnipeg\, MB R3P 2N6\n	\n		\n		Winnipeg\,\n\n	Manitoba\n\n	R3P 2N6\n\n	Canada\n\n\n+ Google Map\n	\n	\n		\n		\n		\n			\n					\n							01\n							May\n							2026\n							\n							\n				\n		\n			Jane's Walk Winnipeg 2026Explore Winnipeg during Jane’s Walk 2026 (May 1–3) with free\, community-led walking tours across the city featuring local history\, culture\, and hidden gems. \nFind out more\n                        \n                        \n                        \n                        Multiple Locations\,\n\n\n\n\n\n\n\n\n	\n	\n		\n		\n		\n			\n					\n							03\n							May\n							2026\n							\n							\n				\n		\n			Narcisse Snake Dens 2026See thousands of red-sided garter snakes gather at the Narcisse Snake Dens during Manitoba’s incredible spring mating season. This rare natural phenomenon offers a free\, unforgettable wildlife experience just outside Winnipeg. \nFind out more\n                        \n                        \n                        \n                        Narcisse Snake Dens\,\n\nHighway 17\n	\n		\n		Narcisse\,\n\n	Manitoba\n\n	R0C 2H0\n\n	Canada\n\n\n+ Google Map\n	\n                \n                 Load More
URL:https://wpgforfree.ca/event/winnipeg-beach-movies/
LOCATION:Winnipeg Beach\, Main Street\, Winnipeg Beach\, Manitoba\, Canada
CATEGORIES:Movies
ATTACH;FMTTYPE=image/jpeg:https://wpgforfree.ca/wp-content/uploads/2024/08/456284823_893735516114579_7273591306164968763_n.jpg
GEO:50.5067073;-96.9753962
X-APPLE-STRUCTURED-LOCATION;VALUE=URI;X-ADDRESS=Winnipeg Beach Main Street Winnipeg Beach Manitoba Canada;X-APPLE-RADIUS=500;X-TITLE=Main Street:geo:-96.9753962,50.5067073
END:VEVENT
END:VCALENDAR