BEGIN:VCALENDAR
VERSION:2.0
PRODID:-//Winnipeg for Free - ECPv5.16.4//NONSGML v1.0//EN
CALSCALE:GREGORIAN
METHOD:PUBLISH
X-WR-CALNAME:Winnipeg for Free
X-ORIGINAL-URL:https://wpgforfree.ca
X-WR-CALDESC:Events for Winnipeg for Free
REFRESH-INTERVAL;VALUE=DURATION:PT1H
X-Robots-Tag:noindex
X-PUBLISHED-TTL:PT1H
BEGIN:VTIMEZONE
TZID:America/Winnipeg
BEGIN:DAYLIGHT
TZOFFSETFROM:-0600
TZOFFSETTO:-0500
TZNAME:CDT
DTSTART:20230312T080000
END:DAYLIGHT
BEGIN:STANDARD
TZOFFSETFROM:-0500
TZOFFSETTO:-0600
TZNAME:CST
DTSTART:20231105T070000
END:STANDARD
END:VTIMEZONE
BEGIN:VEVENT
DTSTART;TZID=America/Winnipeg:20230222T190000
DTEND;TZID=America/Winnipeg:20230222T200000
DTSTAMP:20260422T133145
CREATED:20230131T051927Z
LAST-MODIFIED:20230131T051927Z
UID:95632-1677092400-1677096000@wpgforfree.ca
SUMMARY:Lockhart Planetarium Open House
DESCRIPTION:Share This Story\nLockhart Planetarium Open House\n👉 February 22\, 7:00 PM – 8:00 PM\n👉 University of Manitoba\, 210 Dysart Rd\, Room 394 \nThere are never any clouds indoors! Come for an evening of free\, guided stargazing with us. \nWe will give a guided tour of the night sky under the dome of the Planetarium. We'll show you what can be seen from Winnipeg\, that night. We'll tell you the tales of constellation myths\, point out which planets can be seen\, and the exciting research being done in Astronomy and Astrophysics. We'll have experts tell you about the exciting research they are doing here in the Department of Physics and Astronomy. No astronomy knowledge of experience necessary\, come with your curiosity and your questions to this family-friendly event. Topics will change month to month\, as does the sky\, so there will always be something new. \nThe article continues below \n\n\n\n\n \n\n\nFor topic announcements\, please see website: http://www.physics.umanitoba.ca/astro \nor the Lockhart Planetarium's Instagram page: @lockhart_planetarium \nPlease note that the Open Houses take place at the University of Manitoba and\, as such\, follow the same COVID-19 safety protocols. All guests are required to wear a face mask while indoors. \nThe best place to park on campus is parking lot B. Parking is free on campus after 4:30pm.
URL:https://wpgforfree.ca/event/lockhart-planetarium-open-house/
LOCATION:University of Manitoba\, 210 Dysart Rd Room 394\, Winnipeg\, MB R3T 2M8\, Winnipeg\, R3T 2M8\, CA
CATEGORIES:Health
GEO:49.8113039;-97.1313242
X-APPLE-STRUCTURED-LOCATION;VALUE=URI;X-ADDRESS=University of Manitoba 210 Dysart Rd Room 394 Winnipeg MB R3T 2M8 Winnipeg R3T 2M8 CA;X-APPLE-RADIUS=500;X-TITLE=210 Dysart Rd Room 394\, Winnipeg\, MB R3T 2M8:geo:-97.1313242,49.8113039
END:VEVENT
END:VCALENDAR