BEGIN:VCALENDAR
VERSION:2.0
PRODID:-//Winnipeg for Free - ECPv5.16.4//NONSGML v1.0//EN
CALSCALE:GREGORIAN
METHOD:PUBLISH
X-WR-CALNAME:Winnipeg for Free
X-ORIGINAL-URL:https://wpgforfree.ca
X-WR-CALDESC:Events for Winnipeg for Free
REFRESH-INTERVAL;VALUE=DURATION:PT1H
X-Robots-Tag:noindex
X-PUBLISHED-TTL:PT1H
BEGIN:VTIMEZONE
TZID:America/Winnipeg
BEGIN:DAYLIGHT
TZOFFSETFROM:-0600
TZOFFSETTO:-0500
TZNAME:CDT
DTSTART:20250309T080000
END:DAYLIGHT
BEGIN:STANDARD
TZOFFSETFROM:-0500
TZOFFSETTO:-0600
TZNAME:CST
DTSTART:20251102T070000
END:STANDARD
END:VTIMEZONE
BEGIN:VEVENT
DTSTART;TZID=America/Winnipeg:20250120T100000
DTEND;TZID=America/Winnipeg:20250120T120000
DTSTAMP:20260419T151057
CREATED:20250105T234630Z
LAST-MODIFIED:20250105T235240Z
UID:135703-1737367200-1737374400@wpgforfree.ca
SUMMARY:Free Small Business Training: BEST Information Session
DESCRIPTION:Free Small Business Training: BEST Information SessionShare This Story\nBEST Information Session \nWHEN: January 20\, 2025\, 10:00 AM – 12:00 PM\nWHERE: Zoom \nThe Business Enterprise Support & Training (BEST) program offers free small business training through a 5-week program designed for Manitoba residents living on a low income who are interested in starting or expanding a business. Groups or organizations looking to establish a social enterprise are also eligible. The program is delivered via Zoom in three phases: \nPhase 1: Small Business Management Training \nPhase 2: One-to-One Business Consulting \nPhase 3: Business Launch & Aftercare \nThe article continues below \nBEST Information Session \nWHEN: January 20\, 2025\, 10:00 AM – 12:00 PM\nWHERE: Zoom \nThe Business Enterprise Support & Training (BEST) program offers free small business training through a 5-week program designed for Manitoba residents living on a low income who are interested in starting or expanding a business. Groups or organizations looking to establish a social enterprise are also eligible. The program is delivered via Zoom in three phases: \nPhase 1: Small Business Management Training \nPhase 2: One-to-One Business Consulting \nPhase 3: Business Launch & Aftercare \n\n\n\nThis cohort of training will take place on weekdays from February 19 to March 21\, 2025\, on Mondays\, Wednesdays\, and Fridays from 10:00 AM to 12:00 PM. \nAttending an information session is a required first step. Sessions are scheduled for January 8\, January 15\, and January 20\, 2025\, from 10:00 AM to 12:00 PM. After attending an information session\, participants can proceed with completing and submitting a full application. \n\n\n\n\nWho Can Apply:\nTo qualify for the program\, applicants need to meet the following criteria: \n\nReside in Manitoba\nHave a business idea aimed at creating a stronger and healthier community\nPossess some skill\, experience\, or training related to the business idea\nLive on a low income or serve individuals living on a low income\n\nA Zoom link will be sent out three business days before the program starts to all accepted participants. \nSpace is limited\, so reserving a spot early is recommended. It’s also important to note that low registration numbers may lead to the cancellation of the information session. \nThis free small business training program is an excellent opportunity to gain the skills and support needed to start or grow a business. \n\n More Info \n \n\nDisclaimer: This event description is for informational purposes only and was modified slightly by Winnipeg for Free from the original description for SEO purposes. Seed Winnipeg Inc. does not endorse this content\, and Winnipeg for Free is not affiliated with them in any way. Please confirm program details and availability directly with the event organizers. \n\n\n\n\nUpcoming Events\n\n	\n		\n		\n		\n			\n					\n							08\n							January\n							2026\n							\n							\n				\n		\n			Free Entry to Manitoba Parks for 1 Year Starting April 1\, 2025Free Entry to Manitoba Parks for a Year Starting April 1\, 2025 Free Entry ito \nFind out more\n                        \n                        \n                        \n                        Multiple Locations\,\n\n\n\n\n\n\n\n\n	\n	\n		\n		\n		\n			\n					\n							17\n							April\n							2026\n							\n							\n				\n		\n			Weekend Round-Up: 10+ Free Events in Winnipeg April 17-19A list of free things to do in Winnipeg during the weekend including activities for the family\, live music\, arts\, movies\, and more. \nFind out more\n                        \n                        \n                        \n                        Winnipeg\, Manitoba\,\n\n\n	Winnipeg\,\n\n	Manitoba\n\n\n	Canada\n\n\n+ Google Map\n	\n	\n		\n		\n		\n			\n					\n							19\n							April\n							2026\n							\n							\n				\n		\n			Community Movie Night at East End Community CentreEast End Community Club Free Movie Nights – Fall 2025 to Spring 2026 Dates: Sept \nFind out more\n                        \n                        \n                        \n                        East End Community Club\,\n\n517 Pandora Ave E.\n	\n		\n		Winnipeg\,\n\n\n	R2C 0A5\n\n	CA\n\n\n+ Google Map\n	\n	\n		\n		\n		\n			\n					\n							21\n							April\n							2026\n							\n							\n				\n		\n			Free Admission to Winnipeg Police MuseumThe Winnipeg Police Museum offers free admission and features artifacts dating back to the late 1800s\, vintage vehicles and motorcycles\, and stories highlighting the history and service of the Winnipeg Police Service\, located at 245 Smith Street and open Tuesday to Friday from 10:00 AM to 3:00 PM. \nFind out more\n                        \n                        \n                        \n                        Winnipeg Police Museum\,\n\n245 Smith St.\n	\n		\n		Winnipeg\,\n\n	Manitoba\n\n\n	Canada\n\n\n+ Google Map\n	\n	\n		\n		\n		\n			\n					\n							24\n							April\n							2026\n							\n							\n				\n		\n			Free Admission for Youth 14 and under at RodaramaHere’s a short\, SEO-friendly excerpt you can use: \n**Looking for things to do in Winnipeg this weekend?** Discover a mix of free events\, markets\, live music\, family activities\, and major attractions happening April 25. From carnival rides and car shows to community festivals and outdoor experiences\, there’s something for everyone to enjoy. \nFind out more\n                        \n                        \n                        \n                        Red River Exhibition Park\,\n\n3977 Portage Avenue\, Winnipeg\, MB R3K 2E8\n	\n		\n		Winnipeg\,\n\n\n	R3K 2E8\n\n	CA\n\n\n+ Google Map\n	\n	\n		\n		\n		\n			\n					\n							25\n							April\n							2026\n							\n							\n				\n		\n			Manitoba Robot Games 2026The Manitoba Robot Games returns to Winnipeg on April 25\, 2026\, with 17 exciting robot competitions at Tec-Voc’s Hornet Dome. Free for spectators\, it’s a fun and family-friendly way to experience STEM in action. \nFind out more\n                        \n                        \n                        \n                        Tec-Voc High School (The Hornet Dome)\,\n\n1555 Wall Street\n	\n		\n		Winnipeg\,\n\n	Manitoba\n\n\n	Canada\n\n\n+ Google Map\n	\n	\n		\n		\n		\n			\n					\n							25\n							April\n							2026\n							\n							\n				\n		\n			Astronomy Day at Assiniboine ParkEnjoy a free day of stargazing at Astronomy Day in Assiniboine Park\, featuring daytime and nighttime telescope viewing. Connect with experts and explore the wonders of the universe—no registration required. \nFind out more\n                        \n                        \n                        \n                        Assiniboine Park (Lyric Theatre and Field)\,\n\n55 Pavilion Crescent\, Winnipeg\, MB R3P 2N6\n	\n		\n		Winnipeg\,\n\n	Manitoba\n\n	R3P 2N6\n\n	Canada\n\n\n+ Google Map\n	\n	\n		\n		\n		\n			\n					\n							25\n							April\n							2026\n							\n							\n				\n		\n			Astronomy Day at Assiniboine ParkEnjoy a free day of stargazing at Astronomy Day in Assiniboine Park\, featuring daytime and nighttime telescope viewing. Connect with experts and explore the wonders of the universe—no registration required. \nFind out more\n                        \n                        \n                        \n                        Assiniboine Park (Lyric Theatre and Field)\,\n\n55 Pavilion Crescent\, Winnipeg\, MB R3P 2N6\n	\n		\n		Winnipeg\,\n\n	Manitoba\n\n	R3P 2N6\n\n	Canada\n\n\n+ Google Map\n	\n	\n		\n		\n		\n			\n					\n							01\n							May\n							2026\n							\n							\n				\n		\n			Jane's Walk Winnipeg 2026Explore Winnipeg during Jane’s Walk 2026 (May 1–3) with free\, community-led walking tours across the city featuring local history\, culture\, and hidden gems. \nFind out more\n                        \n                        \n                        \n                        Multiple Locations\,\n\n\n\n\n\n\n\n\n	\n	\n		\n		\n		\n			\n					\n							03\n							May\n							2026\n							\n							\n				\n		\n			Narcisse Snake Dens 2026See thousands of red-sided garter snakes gather at the Narcisse Snake Dens during Manitoba’s incredible spring mating season. This rare natural phenomenon offers a free\, unforgettable wildlife experience just outside Winnipeg. \nFind out more\n                        \n                        \n                        \n                        Narcisse Snake Dens\,\n\nHighway 17\n	\n		\n		Narcisse\,\n\n	Manitoba\n\n	R0C 2H0\n\n	Canada\n\n\n+ Google Map\n	\n                \n                 Load More
URL:https://wpgforfree.ca/event/free-small-business-training-best-information-session/
LOCATION:SEED Winnipeg Inc.\, 80 Salter Street\, Winnipeg\, MB\, Canada
ATTACH;FMTTYPE=image/jpeg:https://wpgforfree.ca/wp-content/uploads/2025/01/Free-Small-Business-Training-BEST-Information-Session.jpg
GEO:49.9126354;-97.143086
X-APPLE-STRUCTURED-LOCATION;VALUE=URI;X-ADDRESS=SEED Winnipeg Inc. 80 Salter Street Winnipeg MB Canada;X-APPLE-RADIUS=500;X-TITLE=80 Salter Street:geo:-97.143086,49.9126354
END:VEVENT
END:VCALENDAR