BEGIN:VCALENDAR
VERSION:2.0
PRODID:-//Winnipeg for Free - ECPv5.16.4//NONSGML v1.0//EN
CALSCALE:GREGORIAN
METHOD:PUBLISH
X-WR-CALNAME:Winnipeg for Free
X-ORIGINAL-URL:https://wpgforfree.ca
X-WR-CALDESC:Events for Winnipeg for Free
REFRESH-INTERVAL;VALUE=DURATION:PT1H
X-Robots-Tag:noindex
X-PUBLISHED-TTL:PT1H
BEGIN:VTIMEZONE
TZID:America/Winnipeg
BEGIN:DAYLIGHT
TZOFFSETFROM:-0600
TZOFFSETTO:-0500
TZNAME:CDT
DTSTART:20250309T080000
END:DAYLIGHT
BEGIN:STANDARD
TZOFFSETFROM:-0500
TZOFFSETTO:-0600
TZNAME:CST
DTSTART:20251102T070000
END:STANDARD
END:VTIMEZONE
BEGIN:VEVENT
DTSTART;TZID=America/Winnipeg:20250317T100000
DTEND;TZID=America/Winnipeg:20250318T000000
DTSTAMP:20260420T132551
CREATED:20250226T064834Z
LAST-MODIFIED:20250226T064834Z
UID:136983-1742205600-1742256000@wpgforfree.ca
SUMMARY:St. Patrick's Day at McPhillips Station Casino
DESCRIPTION:Scan to win up to $10\,000 cash! \nDay Draws\n5 Winners of $1\,000 cash\nScan between 10 AM – 4 PM\nPosted at 5 PM\, must claim by 6 PM \nEvening Draw\n$5\,000 cash\nScan between 5 PM – 9 PM\nPosted at 9:30 PM\, 15 mins to claim \n2x Player Points\n10 AM – Midnight \n\n\n\nPrize Wall\nStarts at 2 PM | $2\,500 Prize Pool \nRandom Rewards\n$1\,000 cash prizes\nDraws at 12 PM\, 1 PM\, 6 PM\, 7 PM & 8 PM \nPlus entertainment & giveaways! \nConditions apply. \nA club card is needed to participate for the giveaways. Club cards are free to get.\n Get Your Club Card \n \n  \nDisclaimer: This event description is for informational purposes only and was modified slightly by Winnipeg for Free from the original description for readability and SEO purposes. Insert does not endorse this content\, and Winnipeg for Free is not affiliated with them in any way. Please confirm program details and availability directly with the event organizers. \nDisclaimer: This event description is for informational purposes only and was written by Winnipeg for Free. While Winnipeg for Free takes every step to provide accurate information\, insert does not endorse this content\, and Winnipeg for Free is not affiliated with them in any way. Please confirm program details and availability directly with the event organizer. \nDisclaimer: This blog post is for informational purposes only and was written by Winnipeg for Free. While Winnipeg for Free takes every step to provide accurate information\, insert does not endorse this content\, and Winnipeg for Free is not affiliated with them in any way. Please confirm program details and availability directly with company/organization mentioned. \n\n\n\n\nUpcoming Events\n\n	\n		\n		\n		\n			\n					\n							08\n							January\n							2026\n							\n							\n				\n		\n			Free Entry to Manitoba Parks for 1 Year Starting April 1\, 2025Free Entry to Manitoba Parks for a Year Starting April 1\, 2025 Free Entry ito \nFind out more\n                        \n                        \n                        \n                        Multiple Locations\,\n\n\n\n\n\n\n\n\n	\n	\n		\n		\n		\n			\n					\n							21\n							April\n							2026\n							\n							\n				\n		\n			Free Admission to Winnipeg Police MuseumThe Winnipeg Police Museum offers free admission and features artifacts dating back to the late 1800s\, vintage vehicles and motorcycles\, and stories highlighting the history and service of the Winnipeg Police Service\, located at 245 Smith Street and open Tuesday to Friday from 10:00 AM to 3:00 PM. \nFind out more\n                        \n                        \n                        \n                        Winnipeg Police Museum\,\n\n245 Smith St.\n	\n		\n		Winnipeg\,\n\n	Manitoba\n\n\n	Canada\n\n\n+ Google Map\n	\n	\n		\n		\n		\n			\n					\n							24\n							April\n							2026\n							\n							\n				\n		\n			Free Admission for Youth 14 and under at RodaramaHere’s a short\, SEO-friendly excerpt you can use: \n**Looking for things to do in Winnipeg this weekend?** Discover a mix of free events\, markets\, live music\, family activities\, and major attractions happening April 25. From carnival rides and car shows to community festivals and outdoor experiences\, there’s something for everyone to enjoy. \nFind out more\n                        \n                        \n                        \n                        Red River Exhibition Park\,\n\n3977 Portage Avenue\, Winnipeg\, MB R3K 2E8\n	\n		\n		Winnipeg\,\n\n\n	R3K 2E8\n\n	CA\n\n\n+ Google Map\n	\n	\n		\n		\n		\n			\n					\n							25\n							April\n							2026\n							\n							\n				\n		\n			Manitoba Robot Games 2026The Manitoba Robot Games returns to Winnipeg on April 25\, 2026\, with 17 exciting robot competitions at Tec-Voc’s Hornet Dome. Free for spectators\, it’s a fun and family-friendly way to experience STEM in action. \nFind out more\n                        \n                        \n                        \n                        Tec-Voc High School (The Hornet Dome)\,\n\n1555 Wall Street\n	\n		\n		Winnipeg\,\n\n	Manitoba\n\n\n	Canada\n\n\n+ Google Map\n	\n	\n		\n		\n		\n			\n					\n							25\n							April\n							2026\n							\n							\n				\n		\n			Astronomy Day at Assiniboine ParkEnjoy a free day of stargazing at Astronomy Day in Assiniboine Park\, featuring daytime and nighttime telescope viewing. Connect with experts and explore the wonders of the universe—no registration required. \nFind out more\n                        \n                        \n                        \n                        Assiniboine Park (Lyric Theatre and Field)\,\n\n55 Pavilion Crescent\, Winnipeg\, MB R3P 2N6\n	\n		\n		Winnipeg\,\n\n	Manitoba\n\n	R3P 2N6\n\n	Canada\n\n\n+ Google Map\n	\n	\n		\n		\n		\n			\n					\n							25\n							April\n							2026\n							\n							\n				\n		\n			Astronomy Day at Assiniboine ParkEnjoy a free day of stargazing at Astronomy Day in Assiniboine Park\, featuring daytime and nighttime telescope viewing. Connect with experts and explore the wonders of the universe—no registration required. \nFind out more\n                        \n                        \n                        \n                        Assiniboine Park (Lyric Theatre and Field)\,\n\n55 Pavilion Crescent\, Winnipeg\, MB R3P 2N6\n	\n		\n		Winnipeg\,\n\n	Manitoba\n\n	R3P 2N6\n\n	Canada\n\n\n+ Google Map\n	\n	\n		\n		\n		\n			\n					\n							01\n							May\n							2026\n							\n							\n				\n		\n			Jane's Walk Winnipeg 2026Explore Winnipeg during Jane’s Walk 2026 (May 1–3) with free\, community-led walking tours across the city featuring local history\, culture\, and hidden gems. \nFind out more\n                        \n                        \n                        \n                        Multiple Locations\,\n\n\n\n\n\n\n\n\n	\n	\n		\n		\n		\n			\n					\n							03\n							May\n							2026\n							\n							\n				\n		\n			Narcisse Snake Dens 2026See thousands of red-sided garter snakes gather at the Narcisse Snake Dens during Manitoba’s incredible spring mating season. This rare natural phenomenon offers a free\, unforgettable wildlife experience just outside Winnipeg. \nFind out more\n                        \n                        \n                        \n                        Narcisse Snake Dens\,\n\nHighway 17\n	\n		\n		Narcisse\,\n\n	Manitoba\n\n	R0C 2H0\n\n	Canada\n\n\n+ Google Map\n	\n	\n		\n		\n		\n			\n					\n							03\n							May\n							2026\n							\n							\n				\n		\n			Community Movie Night at East End Community CentreEast End Community Club Free Movie Nights – Fall 2025 to Spring 2026 Dates: Sept \nFind out more\n                        \n                        \n                        \n                        East End Community Club\,\n\n517 Pandora Ave E.\n	\n		\n		Winnipeg\,\n\n\n	R2C 0A5\n\n	CA\n\n\n+ Google Map\n	\n	\n		\n		\n		\n			\n					\n							08\n							May\n							2026\n							\n							\n				\n		\n			City of Winnipeg Compost GiveawayFree compost is available for Winnipeg residents for a limited time\, while quantities last. Bring your own containers and take advantage of this giveaway to boost your garden and soil naturally. \nFind out more\n                        \n                        \n                        \n                        Multiple Locations\,\n\n\n\n\n\n\n\n\n	\n                \n                 Load More
URL:https://wpgforfree.ca/event/st-patricks-day-at-mcphillips-station-casino/
LOCATION:McPhillips Station Casino\, 484 McPhillips St\, Winnipeg\, Manitoba\, Canada
CATEGORIES:Giveaway
ATTACH;FMTTYPE=image/webp:https://wpgforfree.ca/wp-content/uploads/2025/02/St.-Patricks-Day-at-McPhillips-Station-Casino.webp
GEO:49.9196047;-97.1712325
X-APPLE-STRUCTURED-LOCATION;VALUE=URI;X-ADDRESS=McPhillips Station Casino 484 McPhillips St Winnipeg Manitoba Canada;X-APPLE-RADIUS=500;X-TITLE=484 McPhillips St:geo:-97.1712325,49.9196047
END:VEVENT
END:VCALENDAR