BEGIN:VCALENDAR
VERSION:2.0
PRODID:-//Winnipeg for Free - ECPv5.16.4//NONSGML v1.0//EN
CALSCALE:GREGORIAN
METHOD:PUBLISH
X-ORIGINAL-URL:https://wpgforfree.ca
X-WR-CALDESC:Events for Winnipeg for Free
REFRESH-INTERVAL;VALUE=DURATION:PT1H
X-Robots-Tag:noindex
X-PUBLISHED-TTL:PT1H
BEGIN:VTIMEZONE
TZID:America/Winnipeg
BEGIN:DAYLIGHT
TZOFFSETFROM:-0600
TZOFFSETTO:-0500
TZNAME:CDT
DTSTART:20250309T080000
END:DAYLIGHT
BEGIN:STANDARD
TZOFFSETFROM:-0500
TZOFFSETTO:-0600
TZNAME:CST
DTSTART:20251102T070000
END:STANDARD
END:VTIMEZONE
BEGIN:VEVENT
DTSTART;TZID=America/Winnipeg:20250906T180000
DTEND;TZID=America/Winnipeg:20250906T230000
DTSTAMP:20260421T204823
CREATED:20250815T212008Z
LAST-MODIFIED:20250815T214905Z
UID:141015-1757181600-1757199600@wpgforfree.ca
SUMMARY:Maryland Music Fest 2025
DESCRIPTION:Share This Story\n\n🎶 MARYLAND MUSIC FEST 2025 🎶 \nFREE live music plus vintage shopping\, food\, beverages & more at the @marylandmusicfest!! \n🎈 Saturday\, September 6 🎈 \nJoin us in the Maryland Food Fare parking lot (115 Maryland St) and catch performances by: \n@mamasoljames of @retrorhythmreview\n@frenchclassmusic\n@mitchell.makoons\n@strawberrypunchband\n@o.d.beresford \n🍻 Enjoy food & drink at the beer garden thanks to @goodneighbourbrewing\, @thehandsomedaughter & @demhoagieboyz \n🛍️ Shop the @luckygirlpopup + @chipsvintage pop-up featuring many incredible vendors TBA ~ 3pm – 9pm on Westminster between Sherbrook & Maryland \n🍕 Visit the official side stage at @shortyspizza for DJs all day! \nDon’t miss the FREE late nite afterparty ft. @peacockingmusic\, @merin_stagram_ + @glassreel ~ 10pm – 1am at The Handsome Daughter 🎊 \nPresented by @reallovewpg and @westbroadwaybiz \nThank you @mikochase for this really cool poster!!
URL:https://wpgforfree.ca/event/maryland-music-fest/
LOCATION:Food Fare Parking Lot\, 115 Maryland St.\, Winnipeg\, Manitoba\, Canada
CATEGORIES:Live Music,Shopping
ATTACH;FMTTYPE=image/webp:https://wpgforfree.ca/wp-content/uploads/2025/08/Maryland-music-Festival.webp
GEO:49.8820085;-97.1605889
X-APPLE-STRUCTURED-LOCATION;VALUE=URI;X-ADDRESS=Food Fare Parking Lot 115 Maryland St. Winnipeg Manitoba Canada;X-APPLE-RADIUS=500;X-TITLE=115 Maryland St.:geo:-97.1605889,49.8820085
END:VEVENT
END:VCALENDAR