BEGIN:VCALENDAR
VERSION:2.0
PRODID:-//Winnipeg for Free - ECPv5.16.4//NONSGML v1.0//EN
CALSCALE:GREGORIAN
METHOD:PUBLISH
X-WR-CALNAME:Winnipeg for Free
X-ORIGINAL-URL:https://wpgforfree.ca
X-WR-CALDESC:Events for Winnipeg for Free
REFRESH-INTERVAL;VALUE=DURATION:PT1H
X-Robots-Tag:noindex
X-PUBLISHED-TTL:PT1H
BEGIN:VTIMEZONE
TZID:America/Winnipeg
BEGIN:DAYLIGHT
TZOFFSETFROM:-0600
TZOFFSETTO:-0500
TZNAME:CDT
DTSTART:20250309T080000
END:DAYLIGHT
BEGIN:STANDARD
TZOFFSETFROM:-0500
TZOFFSETTO:-0600
TZNAME:CST
DTSTART:20251102T070000
END:STANDARD
END:VTIMEZONE
BEGIN:VEVENT
DTSTART;TZID=America/Winnipeg:20250925T140000
DTEND;TZID=America/Winnipeg:20250925T190000
DTSTAMP:20260422T234920
CREATED:20240912T211645Z
LAST-MODIFIED:20250924T025657Z
UID:91123-1758808800-1758826800@wpgforfree.ca
SUMMARY:2025 St. Vital Centre Job Fair
DESCRIPTION:Share This Story\nSt. Vital Centre Annual Job Fair – September 25\, 2025\nHere’s something worth checking out if you’re job hunting: the St. Vital Centre Annual Job Fair is happening on Thursday\, September 25\, 2025\, from 2:00 PM – 7:00 PM. For a few hours that day\, a bunch of retailers inside the mall will be looking to meet potential hires right in their stores. \nIt doesn’t matter if someone’s after full-time\, part-time\, or seasonal work—this is a solid chance to hand out resumes\, chat with managers\, and maybe even land a position before the day is done. \nWhy it’s worth stopping by\nThe nice thing about this job fair is that it’s super low-key but still gives applicants a chance to shine. Employers want people who show energy and a good attitude\, and being there in person can go a long way. \nA few quick things that can help: \n\nBring Your Resume – Extra copies never hurt.\nDress the Part – Business casual is usually the safe bet.\nKnow the Employers – A quick peek at who’s hiring helps.\nShow Enthusiasm – Retail loves positivity and good people skills.\n\n\n\n\nStores that are hiring\nA bunch of shops inside St. Vital Centre are part of this\, with openings across different schedules and seasons. Here are some of them: \n\nFreedom Mobile – Full-time & part-time positions\nGamestop/EB Games – Seasonal positions\nLululemon – Seasonal positions (apply online)\nJets Gear – Seasonal positions\nPurdy’s Chocolatier – Seasonal positions\nQuarks – Seasonal positions\nSt. Vital Centre Customer Service – Seasonal positions\nSotrendy Sunglasses – Full-time\, part-time & seasonal positions\n\n\n\n\n\n\n\nStitches – Full-time positions\nThinkkitchen – Seasonal positions\nTip Top – Part-time & seasonal positions\nWow Mobile Boutique – Full-time & part-time positions\n\nEvent Details\n📅 Date: Thursday\, September 25\, 2025\n🕑 Time: 2:00 PM – 7:00 PM\n📍 Location: Inside participating stores at St. Vital Centre \nImportant Tip\nDownload The Job Fair Application Guide \n Application Guide \nThis job fair could be the step that leads to the next big opportunity. \n\n\n\n\nUpcoming Events\n	\n		\n		\n		\n			\n					\n							08\n							January\n							2026\n							\n							\n				\n		\n			Free Entry to Manitoba Parks for 1 Year Starting April 1\, 2025Free Entry to Manitoba Parks for a Year Starting April 1\, 2025 Free Entry ito \nFind out more\n                        \n                        \n                        \n                        Multiple Locations\,\n\n\n\n\n\n\n\n\n	\n	\n		\n		\n		\n			\n					\n							21\n							April\n							2026\n							\n							\n				\n		\n			Free Admission to Winnipeg Police MuseumThe Winnipeg Police Museum offers free admission and features artifacts dating back to the late 1800s\, vintage vehicles and motorcycles\, and stories highlighting the history and service of the Winnipeg Police Service\, located at 245 Smith Street and open Tuesday to Friday from 10:00 AM to 3:00 PM. \nFind out more\n                        \n                        \n                        \n                        Winnipeg Police Museum\,\n\n245 Smith St.\n	\n		\n		Winnipeg\,\n\n	Manitoba\n\n\n	Canada\n\n\n+ Google Map\n	\n	\n		\n		\n		\n			\n					\n							24\n							April\n							2026\n							\n							\n				\n		\n			Free Admission to Canuck Amusements at Kildonan Place 2026The Canuck Amusements Carnival brings thrills\, games\, and family fun to Kildonan Place! Enjoy heart-pounding rides\, kiddie zones\, delicious treats & more. 2 Weekends! Free Entry! ($30 wristbands for unlimited rides). Don't miss out! \nFind out more\n                        \n                        \n                        \n                        Kildonan Place\,\n\n1555 Regent Ave W.\n	\n		\n		Winnipeg\,\n\n\n	R2C 4J2\n\n	CA\n\n\n+ Google Map\n	\n	\n		\n		\n		\n			\n					\n							24\n							April\n							2026\n							\n							\n				\n		\n			Weekend Round-Up: 10+ Free Events in Winnipeg April 24-26A list of free things to do in Winnipeg during the weekend including activities for the family\, live music\, arts\, movies\, and more. \nFind out more\n                        \n                        \n                        \n                        Winnipeg\, Manitoba\,\n\n\n	Winnipeg\,\n\n	Manitoba\n\n\n	Canada\n\n\n+ Google Map\n	\n	\n		\n		\n		\n			\n					\n							24\n							April\n							2026\n							\n							\n				\n		\n			Free Admission for Youth 14 and under at RodaramaHere’s a short\, SEO-friendly excerpt you can use: \n**Looking for things to do in Winnipeg this weekend?** Discover a mix of free events\, markets\, live music\, family activities\, and major attractions happening April 25. From carnival rides and car shows to community festivals and outdoor experiences\, there’s something for everyone to enjoy. \nFind out more\n                        \n                        \n                        \n                        Red River Exhibition Park\,\n\n3977 Portage Avenue\, Winnipeg\, MB R3K 2E8\n	\n		\n		Winnipeg\,\n\n\n	R3K 2E8\n\n	CA\n\n\n+ Google Map\n	\n	\n		\n		\n		\n			\n					\n							25\n							April\n							2026\n							\n							\n				\n		\n			Manitoba Robot Games 2026The Manitoba Robot Games returns to Winnipeg on April 25\, 2026\, with 17 exciting robot competitions at Tec-Voc’s Hornet Dome. Free for spectators\, it’s a fun and family-friendly way to experience STEM in action. \nFind out more\n                        \n                        \n                        \n                        Tec-Voc High School (The Hornet Dome)\,\n\n1555 Wall Street\n	\n		\n		Winnipeg\,\n\n	Manitoba\n\n\n	Canada\n\n\n+ Google Map\n	\n	\n		\n		\n		\n			\n					\n							25\n							April\n							2026\n							\n							\n				\n		\n			Astronomy Day at Assiniboine ParkEnjoy a free day of stargazing at Astronomy Day in Assiniboine Park\, featuring daytime and nighttime telescope viewing. Connect with experts and explore the wonders of the universe—no registration required. \nFind out more\n                        \n                        \n                        \n                        Assiniboine Park (Lyric Theatre and Field)\,\n\n55 Pavilion Crescent\, Winnipeg\, MB R3P 2N6\n	\n		\n		Winnipeg\,\n\n	Manitoba\n\n	R3P 2N6\n\n	Canada\n\n\n+ Google Map\n	\n	\n		\n		\n		\n			\n					\n							25\n							April\n							2026\n							\n							\n				\n		\n			Astronomy Day at Assiniboine ParkEnjoy a free day of stargazing at Astronomy Day in Assiniboine Park\, featuring daytime and nighttime telescope viewing. Connect with experts and explore the wonders of the universe—no registration required. \nFind out more\n                        \n                        \n                        \n                        Assiniboine Park (Lyric Theatre and Field)\,\n\n55 Pavilion Crescent\, Winnipeg\, MB R3P 2N6\n	\n		\n		Winnipeg\,\n\n	Manitoba\n\n	R3P 2N6\n\n	Canada\n\n\n+ Google Map\n	\n	\n		\n		\n		\n			\n					\n							01\n							May\n							2026\n							\n							\n				\n		\n			Jane's Walk Winnipeg 2026Explore Winnipeg during Jane’s Walk 2026 (May 1–3) with free\, community-led walking tours across the city featuring local history\, culture\, and hidden gems. \nFind out more\n                        \n                        \n                        \n                        Multiple Locations\,\n\n\n\n\n\n\n\n\n	\n	\n		\n		\n		\n			\n					\n							03\n							May\n							2026\n							\n							\n				\n		\n			Narcisse Snake Dens 2026See thousands of red-sided garter snakes gather at the Narcisse Snake Dens during Manitoba’s incredible spring mating season. This rare natural phenomenon offers a free\, unforgettable wildlife experience just outside Winnipeg. \nFind out more\n                        \n                        \n                        \n                        Narcisse Snake Dens\,\n\nHighway 17\n	\n		\n		Narcisse\,\n\n	Manitoba\n\n	R0C 2H0\n\n	Canada\n\n\n+ Google Map\n	\n                \n                 Load More
URL:https://wpgforfree.ca/event/stvital-job-fair/
LOCATION:St. Vital Centre\, 1225 St. Mary's Road\, Winnipeg\, R2M 5E5\, CA
CATEGORIES:Health,Tour,Trick or Treat
ATTACH;FMTTYPE=image/webp:https://wpgforfree.ca/wp-content/uploads/2024/09/St.-Vital-Job-Fair-2025-1.webp
GEO:49.8292939;-97.1140093
X-APPLE-STRUCTURED-LOCATION;VALUE=URI;X-ADDRESS=St. Vital Centre 1225 St. Mary's Road Winnipeg R2M 5E5 CA;X-APPLE-RADIUS=500;X-TITLE=1225 St. Mary's Road:geo:-97.1140093,49.8292939
END:VEVENT
END:VCALENDAR