BEGIN:VCALENDAR
VERSION:2.0
PRODID:-//Winnipeg for Free - ECPv5.16.4//NONSGML v1.0//EN
CALSCALE:GREGORIAN
METHOD:PUBLISH
X-WR-CALNAME:Winnipeg for Free
X-ORIGINAL-URL:https://wpgforfree.ca
X-WR-CALDESC:Events for Winnipeg for Free
REFRESH-INTERVAL;VALUE=DURATION:PT1H
X-Robots-Tag:noindex
X-PUBLISHED-TTL:PT1H
BEGIN:VTIMEZONE
TZID:America/Winnipeg
BEGIN:DAYLIGHT
TZOFFSETFROM:-0600
TZOFFSETTO:-0500
TZNAME:CDT
DTSTART:20250309T080000
END:DAYLIGHT
BEGIN:STANDARD
TZOFFSETFROM:-0500
TZOFFSETTO:-0600
TZNAME:CST
DTSTART:20251102T070000
END:STANDARD
END:VTIMEZONE
BEGIN:VEVENT
DTSTART;TZID=America/Winnipeg:20250308T090000
DTEND;TZID=America/Winnipeg:20250308T170000
DTSTAMP:20260424T182657
CREATED:20250226T054052Z
LAST-MODIFIED:20250227T014324Z
UID:136976-1741424400-1741453200@wpgforfree.ca
SUMMARY:Free Admission for Kids 12 and Under to 2025 PegSpo Sports Collectibles Expo
DESCRIPTION:Free Admission for Kids 12 and Under to 2025 PegSpo Sports Collectibles ExpoShare This Story\nPegSpo 2025: Winnipeg’s Largest Not-for-Profit Sports Collectibles Expo\n📅 Date: Saturday\, March 8\, 2025🕘 Time: 9:00 AM – 5:00 PM📍 Location: RBC Convention Centre\, Winnipeg\, Manitoba \nPegSpo 2025 is Winnipeg’s largest not-for-profit sports collectibles expo\, returning for its fourth year. Once again\, the event aims to provide a friendly\, affordable\, comfortable\, and exciting experience for sports fans\, collectors\, and traders. The expo is open to anyone looking to exhibit a collection\, buy\, sell\, or trade. Whether it’s game-worn items\, sports memorabilia\, or trading cards\, everything is available under one roof\, for one day only. All major sports are represented\, making it a must-visit event for collectors of all levels. \n\n\n\nWhat’s Happening at PegSpo 2025?\n🎟️ Door Prizes & Easter Egg Hunt – Every paid admission includes entry into a door prize draw\, plus a chance to participate in an Amazing Race-inspired Easter Egg Hunt with exciting prizes to be won. \n✍️ Free Autographs – Special show guests will be on-site\, offering attendees an opportunity to collect free autographs. \n💰 Buy\, Sell & Trade – Attendees are welcome to bring up to two game-worn memorabilia pieces or a reasonable number of sports cards and smaller items to sell or trade. \n💬 Collector Meetups – Many knowledgeable collectors will be present\, offering insights\, answering questions\, and sharing their expertise about the sports memorabilia industry. Whether buying\, trading\, or simply discussing collections\, this is a great place to connect with other collectors. \n\n\n\n\nTickets & Admission\n🎟️ Pre-Purchase: $10 CAD (available at partner locations – cash only)🎟️ At the Door: $15 CAD per ticket or two for $25 (cash\, credit\, or Interac accepted)👶 Kids Under 12: FREE with a paid admission \nOnline ticket sales will not be available due to logistical costs. Ticket purchase locations are expected to be announced in December 2024 once they are printed. \nAn Event Worth Attending\nPegSpo 2025 offers a unique opportunity to explore\, trade\, and purchase rare sports collectibles\, memorabilia\, and trading cards. With exclusive giveaways\, free autographs\, and a community of passionate collectors\, this event is a must-visit for sports enthusiasts. \n📅 Mark the calendar for March 8\, 2025\, and head to the RBC Convention Centre for a full day dedicated to sports collectibles. \n🔗 For ticket locations and event updates\, visit [official event website or social media]. \n\nDisclaimer: This event description is for informational purposes only and was modified slightly by Winnipeg for Free from the original description for readability and SEO purposes. PegSpo does not endorse this content\, and Winnipeg for Free is not affiliated with them in any way. Please confirm program details and availability directly with the event organizers. \n\n\n\n\nUpcoming Events\n\n	\n		\n		\n		\n			\n					\n							08\n							January\n							2026\n							\n							\n				\n		\n			Free Entry to Manitoba Parks for 1 Year Starting April 1\, 2025Free Entry to Manitoba Parks for a Year Starting April 1\, 2025 Free Entry ito \nFind out more\n                        \n                        \n                        \n                        Multiple Locations\,\n\n\n\n\n\n\n\n\n	\n	\n		\n		\n		\n			\n					\n							24\n							April\n							2026\n							\n							\n				\n		\n			Free Admission to Canuck Amusements at Kildonan Place 2026The Canuck Amusements Carnival brings thrills\, games\, and family fun to Kildonan Place! Enjoy heart-pounding rides\, kiddie zones\, delicious treats & more. 2 Weekends! Free Entry! ($30 wristbands for unlimited rides). Don't miss out! \nFind out more\n                        \n                        \n                        \n                        Kildonan Place\,\n\n1555 Regent Ave W.\n	\n		\n		Winnipeg\,\n\n\n	R2C 4J2\n\n	CA\n\n\n+ Google Map\n	\n	\n		\n		\n		\n			\n					\n							24\n							April\n							2026\n							\n							\n				\n		\n			Weekend Round-Up: 10+ Free Events in Winnipeg April 24-26A list of free things to do in Winnipeg during the weekend including activities for the family\, live music\, arts\, movies\, and more. \nFind out more\n                        \n                        \n                        \n                        Winnipeg\, Manitoba\,\n\n\n	Winnipeg\,\n\n	Manitoba\n\n\n	Canada\n\n\n+ Google Map\n	\n	\n		\n		\n		\n			\n					\n							24\n							April\n							2026\n							\n							\n				\n		\n			Free Admission for Youth 14 and under at RodaramaHere’s a short\, SEO-friendly excerpt you can use: \n**Looking for things to do in Winnipeg this weekend?** Discover a mix of free events\, markets\, live music\, family activities\, and major attractions happening April 25. From carnival rides and car shows to community festivals and outdoor experiences\, there’s something for everyone to enjoy. \nFind out more\n                        \n                        \n                        \n                        Red River Exhibition Park\,\n\n3977 Portage Avenue\, Winnipeg\, MB R3K 2E8\n	\n		\n		Winnipeg\,\n\n\n	R3K 2E8\n\n	CA\n\n\n+ Google Map\n	\n	\n		\n		\n		\n			\n					\n							25\n							April\n							2026\n							\n							\n				\n		\n			Manitoba Robot Games 2026The Manitoba Robot Games returns to Winnipeg on April 25\, 2026\, with 17 exciting robot competitions at Tec-Voc’s Hornet Dome. Free for spectators\, it’s a fun and family-friendly way to experience STEM in action. \nFind out more\n                        \n                        \n                        \n                        Tec-Voc High School (The Hornet Dome)\,\n\n1555 Wall Street\n	\n		\n		Winnipeg\,\n\n	Manitoba\n\n\n	Canada\n\n\n+ Google Map\n	\n	\n		\n		\n		\n			\n					\n							25\n							April\n							2026\n							\n							\n				\n		\n			Astronomy Day at Assiniboine ParkEnjoy a free day of stargazing at Astronomy Day in Assiniboine Park\, featuring daytime and nighttime telescope viewing. Connect with experts and explore the wonders of the universe—no registration required. \nFind out more\n                        \n                        \n                        \n                        Assiniboine Park (Lyric Theatre and Field)\,\n\n55 Pavilion Crescent\, Winnipeg\, MB R3P 2N6\n	\n		\n		Winnipeg\,\n\n	Manitoba\n\n	R3P 2N6\n\n	Canada\n\n\n+ Google Map\n	\n	\n		\n		\n		\n			\n					\n							25\n							April\n							2026\n							\n							\n				\n		\n			Astronomy Day at Assiniboine ParkEnjoy a free day of stargazing at Astronomy Day in Assiniboine Park\, featuring daytime and nighttime telescope viewing. Connect with experts and explore the wonders of the universe—no registration required. \nFind out more\n                        \n                        \n                        \n                        Assiniboine Park (Lyric Theatre and Field)\,\n\n55 Pavilion Crescent\, Winnipeg\, MB R3P 2N6\n	\n		\n		Winnipeg\,\n\n	Manitoba\n\n	R3P 2N6\n\n	Canada\n\n\n+ Google Map\n	\n	\n		\n		\n		\n			\n					\n							01\n							May\n							2026\n							\n							\n				\n		\n			Jane's Walk Winnipeg 2026Explore Winnipeg during Jane’s Walk 2026 (May 1–3) with free\, community-led walking tours across the city featuring local history\, culture\, and hidden gems. \nFind out more\n                        \n                        \n                        \n                        Multiple Locations\,\n\n\n\n\n\n\n\n\n	\n	\n		\n		\n		\n			\n					\n							02\n							May\n							2026\n							\n							\n				\n		\n			Free Comic Book Day In Winnipeg 2026Free Comic Book Day is the 1st Saturday in May. It's an International Event that celebrates comic books & the local comic shops that provide them. \nFind out more\n                        \n                        \n                        \n                        Multiple Locations\,\n\n\n\n\n\n\n\n\n	\n	\n		\n		\n		\n			\n					\n							03\n							May\n							2026\n							\n							\n				\n		\n			Narcisse Snake Dens 2026See thousands of red-sided garter snakes gather at the Narcisse Snake Dens during Manitoba’s incredible spring mating season. This rare natural phenomenon offers a free\, unforgettable wildlife experience just outside Winnipeg. \nFind out more\n                        \n                        \n                        \n                        Narcisse Snake Dens\,\n\nHighway 17\n	\n		\n		Narcisse\,\n\n	Manitoba\n\n	R0C 2H0\n\n	Canada\n\n\n+ Google Map\n	\n                \n                 Load More
URL:https://wpgforfree.ca/event/pegspo-sports-collectibles-expo/
LOCATION:RBC Convention Centre\, 375 York Ave\, Winnipeg\, MB\, Canada
CATEGORIES:Kid Friendly,Shopping,Sports
ATTACH;FMTTYPE=image/jpeg:https://wpgforfree.ca/wp-content/uploads/2025/02/2025-PegSpo-Sports-Collectibles-Expo.jpg
GEO:49.888932;-97.144665
X-APPLE-STRUCTURED-LOCATION;VALUE=URI;X-ADDRESS=RBC Convention Centre 375 York Ave Winnipeg MB Canada;X-APPLE-RADIUS=500;X-TITLE=375 York Ave:geo:-97.144665,49.888932
END:VEVENT
END:VCALENDAR