BEGIN:VCALENDAR
VERSION:2.0
PRODID:-//Winnipeg for Free - ECPv5.16.4//NONSGML v1.0//EN
CALSCALE:GREGORIAN
METHOD:PUBLISH
X-WR-CALNAME:Winnipeg for Free
X-ORIGINAL-URL:https://wpgforfree.ca
X-WR-CALDESC:Events for Winnipeg for Free
REFRESH-INTERVAL;VALUE=DURATION:PT1H
X-Robots-Tag:noindex
X-PUBLISHED-TTL:PT1H
BEGIN:VTIMEZONE
TZID:America/Winnipeg
BEGIN:DAYLIGHT
TZOFFSETFROM:-0600
TZOFFSETTO:-0500
TZNAME:CDT
DTSTART:20250309T080000
END:DAYLIGHT
BEGIN:STANDARD
TZOFFSETFROM:-0500
TZOFFSETTO:-0600
TZNAME:CST
DTSTART:20251102T070000
END:STANDARD
END:VTIMEZONE
BEGIN:VEVENT
DTSTART;TZID=America/Winnipeg:20250716T020000
DTEND;TZID=America/Winnipeg:20250727T120000
DTSTAMP:20260420T003720
CREATED:20250715T200120Z
LAST-MODIFIED:20250716T002552Z
UID:130168-1752631200-1753617600@wpgforfree.ca
SUMMARY:Winnipeg Fringe Festival at Old Market Square 2025
DESCRIPTION:Share This Story\n🎭 Fringin' at Old Market Square – Winnipeg Fringe Festival\nPlan your Winnipeg Fringe Festival adventure with a visit to Old Market Square—home to live music\, tasty food trucks\, street performers\, beverage pavilions\, and a vibrant vendor market. It’s a festival within a festival\, and admission is free! \n🎶 Live Music\nCatch free shows on the Bell MTS Outdoor Stage\, including noon-hour weekday concerts and evening performances from 8 PM to midnight. Bands include The Band at the Bottom of the Sea\, Dirty Catfish Brass Band\, Doctor Rocktopus\, The Kim Reimer Band\, Lady Muse & The Inspirations\, Mama Cutsworth\, The Messytones\, The Rangers\, The Real Folk Blues\, The Remedies\, Those Guys\, Tronic Soundspace\, and many more! \n🎪 Street Performers\nBe amazed by stunts\, comedy\, and crowd-pleasing tricks throughout the day—every day of the Fringe Festival! \n🎭 Bell MTS Outdoor Stage Schedule\nWednesday\, July 16\n\n\n6:00 PM — Vox Populi \n\n\n7:00 PM — The Captain's Prologue \n\n\n8:00 PM — Jovelle Balani \n\n\n9:00 PM — Star Blazers \n\n\n10:00 PM — Doctor Rocktopus \n\n\n\nThursday\, July 17\n\n\n12:00 PM — Shay Wolf Solo \n\n\n1:30 PM — The Captain's Prologue \n\n\n3:00 PM — Mikayla Marie \n\n\n4:30 PM — Piti Théâtre Company \n\n\n6:00 PM — Band at the Bottom of the Sea \n\n\n7:00 PM — Hercinia Arts \n\n\n8:00 PM — Dan Winters Band \n\n\n9:00 PM — River City Sabers \n\n\n10:00 PM — The Remedies \n\n\n11:00 PM — Kaptain \n\n\n\nFriday\, July 18\n\n\n12:00 PM — The Messytones \n\n\n1:30 PM — The Captain's Prologue \n\n\n3:00 PM — The Real Folk Blues \n\n\n4:30 PM — Piti Théâtre Company \n\n\n6:00 PM — Shay Wolf Band \n\n\n7:00 PM — Star Blazers \n\n\n8:00 PM — River City Sabers \n\n\n9:00 PM — Annaxis \n\n\n10:00 PM — Lady Muse & The Inspirations \n\n\n11:00 PM — Mama Cutsworth \n\n\n\nSaturday\, July 19\n\n\n12:00 PM — KITSUKI \n\n\n1:00 PM — BS Raps \n\n\n2:00 PM — The Captain's Prologue \n\n\n3:00 PM — Fernanda \n\n\n4:00 PM — Piti Théâtre Company \n\n\n5:00 PM — HAVS \n\n\n6:30 PM — Ben Notes Duo \n\n\n8:00 PM — Jana Jacobs \n\n\n9:00 PM — River City Sabers \n\n\n10:00 PM — Tea Fannie \n\n\n11:00 PM — Genie \n\n\n\nSunday\, July 20\n\n\n12:00 PM — KITSUKI \n\n\n1:00 PM — Violent Affection \n\n\n2:00 PM — Hercinia Arts \n\n\n3:00 PM — Karina Joy \n\n\n4:00 PM — Piti Théâtre Company \n\n\n5:00 PM — Cory Wojcik \n\n\n6:00 PM — Drum Cafe \n\n\n7:00 PM — Onello \n\n\n8:30 PM — Star Blazers \n\n\n10:00 PM — DJ Crease \n\n\n\nMonday\, July 21\n\n\n12:00 PM — Victoria Gwendoline \n\n\n1:30 PM — Kaylie Kreatrix \n\n\n2:30 PM — The Captain's Prologue \n\n\n3:00 PM — Dane Bjornson \n\n\n4:30 PM — Purple Room \n\n\n6:00 PM — Purple Room \n\n\n7:00 PM — Kaylie Kreatrix \n\n\n8:30 PM — The OB \n\n\n10:00 PM — Music by Ruiz \n\n\n\nTuesday\, July 22\n\n\n12:00 PM — Mari Padeanu Duo \n\n\n1:30 PM — The Captain's Prologue \n\n\n2:30 PM — Brett Hogan \n\n\n3:00 PM — Rein \n\n\n4:30 PM — Kaylie Kreatrix \n\n\n6:00 PM — Luana Cunha \n\n\n7:00 PM — Kwiat \n\n\n8:00 PM — The Astronomics \n\n\n9:00 PM — Kaylie Kreatrix \n\n\n10:00 PM — Nadia Douglas \n\n\n\nWednesday\, July 23\n\n\n12:00 PM — Victoria Gwendoline \n\n\n1:30 PM — Kaylie Kreatrix \n\n\n3:00 PM — Cory Wojcik \n\n\n4:30 PM — The Captain's Prologue \n\n\n6:00 PM — Josh Bellan \n\n\n7:00 PM — Kaylie Kreatrix \n\n\n8:00 PM — The Kim Reimer Band \n\n\n9:00 PM — Star Blazers \n\n\n10:00 PM — DJ Crease \n\n\n\nThursday\, July 24\n\n\n12:00 PM — Liz Madden \n\n\n1:30 PM — The Captain's Prologue \n\n\n3:00 PM — Cory Wojcik \n\n\n4:30 PM — Kaylie Kreatrix \n\n\n6:00 PM — Band at the Bottom of the Sea \n\n\n7:00 PM — Ben Notes \n\n\n8:00 PM — WHY \n\n\n9:00 PM — Sun Runner \n\n\n10:00 PM — Those Guys \n\n\n11:00 PM — Dirty Catfish Brass Band \n\n\n\nFriday\, July 25\n\n\n12:00 PM — Spectrums Trio \n\n\n1:30 PM — Kaylie Kreatrix \n\n\n2:30 PM — The Captain's Prologue \n\n\n3:00 PM — Josh Bellan \n\n\n4:30 PM — The Rangers \n\n\n6:00 PM — Star Blazers \n\n\n7:00 PM — The 12/21 \n\n\n8:00 PM — Kaylie Kreatrix \n\n\n9:00 PM — Love Letters \n\n\n10:00 PM — Tronic Soundspace \n\n\n11:00 PM — Genie \n\n\n\nSaturday\, July 26\n\n\n12:00 PM — Francesca Ysobel \n\n\n1:00 PM — Kris Cahatol \n\n\n2:00 PM — Star Blazers \n\n\n3:00 PM — Karina Joy \n\n\n4:00 PM — Kaylie Kreatrix \n\n\n5:00 PM — Cory Wojcik \n\n\n6:30 PM — Stephanie Sy \n\n\n7:30 PM — WHY \n\n\n8:30 PM — Kaylie Kreatrix \n\n\n9:30 PM — Sandman \n\n\n10:30 PM — Mama Cutsworth \n\n\n\nSunday\, July 27\n\n\n12:00 PM — Kaylie Kreatrix \n\n\n1:30 PM — Dane Bjornson \n\n\n3:00 PM — Star Blazers \n\n\n4:30 PM — Cory Wojcik \n\n\n6:00 PM — Kaylie Kreatrix \n\n\n7:00 PM — Stellar \n\n\n8:00 PM — The Haileys \n\n\n9:00 PM — Big Broadway Singalong (Presented by The Village Conservatory) \n\n\n\n\n\n🍻 Recharge and Relax\nCool off with a beverage at the Liquor Mart Patio and Torque Brewing Beer Tent featuring Blonde Ale\, Torque Road Trip Hazy Pale Ale\, Snapback IPA\, Mangoza!\, and Buenazo Cerveza. \n🌮 Food Trucks\nSatisfy any craving with eats from Cochrane Creek Farm\, India Palace\, KYU Grill\, Lemon Heaven\, Mini O’s Mini Donuts\, Miss Christine’s Kitchen\, Nucci’s Gelati\, Panda Tea\, The Churro Stop\, and The Little Eggplant. \n🛍️ Vendor Market\nVisit the vendor market in the Red River College courtyard and browse offerings from Achie Collection\, Bathala Scents\, Bookman\, Dany Metal Art\, Henna Tattoos by Sukh\, LOV boutique\, Luxx Studio Design\, Mariants Crystals\, Nyco Rudolph\, Prairie Breeze Folk Arts Studio\, Shirom Arts\, Waves & Whatknot\, and Worth a Wink. \n\n\n\n\n\n\n🎤 Support the Entertainers\nPerformers rely on your donations—so if you enjoy the show\, toss some appreciation into the hat! \n🚰 Amenities\n\nHydration station by Culligan Water\nWashrooms and changing station beside Red River College Paterson GlobalFoods Institute\nATMs available in the Info Tent\, Beer Tent\, and at the Patio entrance\n\n🐾 Pet Policy\nPlease leave pets at home—crowds\, heat\, and noise can be overwhelming. Trained service animals are welcome. \n\n\n\n\nUpcoming Events\n	\n		\n		\n		\n			\n					\n							08\n							January\n							2026\n							\n							\n				\n		\n			Free Entry to Manitoba Parks for 1 Year Starting April 1\, 2025Free Entry to Manitoba Parks for a Year Starting April 1\, 2025 Free Entry ito \nFind out more\n                        \n                        \n                        \n                        Multiple Locations\,\n\n\n\n\n\n\n\n\n	\n	\n		\n		\n		\n			\n					\n							21\n							April\n							2026\n							\n							\n				\n		\n			Free Admission to Winnipeg Police MuseumThe Winnipeg Police Museum offers free admission and features artifacts dating back to the late 1800s\, vintage vehicles and motorcycles\, and stories highlighting the history and service of the Winnipeg Police Service\, located at 245 Smith Street and open Tuesday to Friday from 10:00 AM to 3:00 PM. \nFind out more\n                        \n                        \n                        \n                        Winnipeg Police Museum\,\n\n245 Smith St.\n	\n		\n		Winnipeg\,\n\n	Manitoba\n\n\n	Canada\n\n\n+ Google Map\n	\n	\n		\n		\n		\n			\n					\n							24\n							April\n							2026\n							\n							\n				\n		\n			Free Admission for Youth 14 and under at RodaramaHere’s a short\, SEO-friendly excerpt you can use:\n\n**Looking for things to do in Winnipeg this weekend?** Discover a mix of free events\, markets\, live music\, family activities\, and major attractions happening April 25. From carnival rides and car shows to community festivals and outdoor experiences\, there’s something for everyone to enjoy. Find out more\n                        \n                        \n                        \n                        Red River Exhibition Park\,\n\n3977 Portage Avenue\, Winnipeg\, MB R3K 2E8\n	\n		\n		Winnipeg\,\n\n\n	R3K 2E8\n\n	CA\n\n\n+ Google Map\n	\n	\n		\n		\n		\n			\n					\n							25\n							April\n							2026\n							\n							\n				\n		\n			Manitoba Robot Games 2026The Manitoba Robot Games returns to Winnipeg on April 25\, 2026\, with 17 exciting robot competitions at Tec-Voc’s Hornet Dome. Free for spectators\, it’s a fun and family-friendly way to experience STEM in action. \nFind out more\n                        \n                        \n                        \n                        Tec-Voc High School (The Hornet Dome)\,\n\n1555 Wall Street\n	\n		\n		Winnipeg\,\n\n	Manitoba\n\n\n	Canada\n\n\n+ Google Map\n	\n	\n		\n		\n		\n			\n					\n							25\n							April\n							2026\n							\n							\n				\n		\n			Astronomy Day at Assiniboine ParkEnjoy a free day of stargazing at Astronomy Day in Assiniboine Park\, featuring daytime and nighttime telescope viewing. Connect with experts and explore the wonders of the universe—no registration required. \nFind out more\n                        \n                        \n                        \n                        Assiniboine Park (Lyric Theatre and Field)\,\n\n55 Pavilion Crescent\, Winnipeg\, MB R3P 2N6\n	\n		\n		Winnipeg\,\n\n	Manitoba\n\n	R3P 2N6\n\n	Canada\n\n\n+ Google Map\n	\n	\n		\n		\n		\n			\n					\n							25\n							April\n							2026\n							\n							\n				\n		\n			Astronomy Day at Assiniboine ParkEnjoy a free day of stargazing at Astronomy Day in Assiniboine Park\, featuring daytime and nighttime telescope viewing. Connect with experts and explore the wonders of the universe—no registration required. \nFind out more\n                        \n                        \n                        \n                        Assiniboine Park (Lyric Theatre and Field)\,\n\n55 Pavilion Crescent\, Winnipeg\, MB R3P 2N6\n	\n		\n		Winnipeg\,\n\n	Manitoba\n\n	R3P 2N6\n\n	Canada\n\n\n+ Google Map\n	\n	\n		\n		\n		\n			\n					\n							01\n							May\n							2026\n							\n							\n				\n		\n			Jane's Walk Winnipeg 2026Explore Winnipeg during Jane’s Walk 2026 (May 1–3) with free\, community-led walking tours across the city featuring local history\, culture\, and hidden gems. \nFind out more\n                        \n                        \n                        \n                        Multiple Locations\,\n\n\n\n\n\n\n\n\n	\n	\n		\n		\n		\n			\n					\n							03\n							May\n							2026\n							\n							\n				\n		\n			Narcisse Snake Dens 2026See thousands of red-sided garter snakes gather at the Narcisse Snake Dens during Manitoba’s incredible spring mating season. This rare natural phenomenon offers a free\, unforgettable wildlife experience just outside Winnipeg. \nFind out more\n                        \n                        \n                        \n                        Narcisse Snake Dens\,\n\nHighway 17\n	\n		\n		Narcisse\,\n\n	Manitoba\n\n	R0C 2H0\n\n	Canada\n\n\n+ Google Map\n	\n	\n		\n		\n		\n			\n					\n							03\n							May\n							2026\n							\n							\n				\n		\n			Community Movie Night at East End Community CentreEast End Community Club Free Movie Nights – Fall 2025 to Spring 2026 Dates: Sept \nFind out more\n                        \n                        \n                        \n                        East End Community Club\,\n\n517 Pandora Ave E.\n	\n		\n		Winnipeg\,\n\n\n	R2C 0A5\n\n	CA\n\n\n+ Google Map\n	\n	\n		\n		\n		\n			\n					\n							08\n							May\n							2026\n							\n							\n				\n		\n			City of Winnipeg Compost GiveawayFree compost is available for Winnipeg residents for a limited time\, while quantities last. Bring your own containers and take advantage of this giveaway to boost your garden and soil naturally. \nFind out more\n                        \n                        \n                        \n                        Multiple Locations\,\n\n\n\n\n\n\n\n\n	\n                \n                 Load More
URL:https://wpgforfree.ca/event/winnipeg-fringe-festival-at-old-market-square/
LOCATION:Old Market Square\, Winnipeg\, Manitoba\, Canada
CATEGORIES:Festival,Live Entertainment,Live Music,Multiday
ATTACH;FMTTYPE=image/webp:https://wpgforfree.ca/wp-content/uploads/2024/07/a-Winnipeg-Fringe-Festival-1.webp
GEO:49.8983902;-97.1402538
END:VEVENT
BEGIN:VEVENT
DTSTART;VALUE=DATE:20250723
DTEND;VALUE=DATE:20250728
DTSTAMP:20260420T003720
CREATED:20190722T014957Z
LAST-MODIFIED:20250704T001705Z
UID:53931-1753228800-1753660799@wpgforfree.ca
SUMMARY:RBC Sunset Screenings On the Beach at Gimli Film Festival
DESCRIPTION:🎬 RBC Sunset Screenings at the Gimli International Film Festival – July 23–27\, 2025\nCelebrate the 25th anniversary of the Gimli International Film Festival with five nights of free outdoor movies on the shore of Lake Winnipeg. Each night at 9:45 PM\, settle in with your chair\, blanket\, and snacks on Gimli Beach and enjoy a cinematic classic on a giant 11-meter screen floating on the water. \nDates: July 23–27\, 2025\nTime: 9:45 PM nightly\nLocation: Gimli Beach\, Manitoba\nCost: Free \n\n\n\n🍿 2025 Screening Line-up\n\nBest in Show (2000) – A mockumentary satire featuring Eugene Levy and Catherine O’Hara\nSpace Jam (1996) – The beloved animated-live-action hybrid starring Bugs Bunny and Michael Jordan\nStop Making Sense (1984) – Talking Heads concert film\, remastered in 4K\nAlmost Famous (2000) – A nostalgic coming-of-age tale set in the world of 1970s rock\nThe Thing (1982) – John Carpenter’s chilling sci-fi horror classic\n\n\n\n\n\n\n\n📌 Why You Should Go\n\nAbsolutely free: No tickets required—just show up and enjoy\nUnique experience: A floating screen and sunset backdrop create a magical outdoor theatre setting\nSomething for everyone: From family fun to cult classics\, there's a film for all ages and tastes\nEco-friendly shuttle: Shuttle rides from Winnipeg help reduce the carbon footprint\n\n📲 Stay Connected\nFor shuttle info and VIP upgrade passes\, visit the official festival website. Follow #GIFF25 and @GimliFilm on social media for updates\, trailers\, and special announcements. \nGet ready for unforgettable beachside movie nights that celebrate stories\, community\, and summer magic! \n\n\n\n\nUpcoming Events\n	\n		\n		\n		\n			\n					\n							08\n							January\n							2026\n							\n							\n				\n		\n			Free Entry to Manitoba Parks for 1 Year Starting April 1\, 2025Free Entry to Manitoba Parks for a Year Starting April 1\, 2025 Free Entry ito \nFind out more\n                        \n                        \n                        \n                        Multiple Locations\,\n\n\n\n\n\n\n\n\n	\n	\n		\n		\n		\n			\n					\n							21\n							April\n							2026\n							\n							\n				\n		\n			Free Admission to Winnipeg Police MuseumThe Winnipeg Police Museum offers free admission and features artifacts dating back to the late 1800s\, vintage vehicles and motorcycles\, and stories highlighting the history and service of the Winnipeg Police Service\, located at 245 Smith Street and open Tuesday to Friday from 10:00 AM to 3:00 PM. \nFind out more\n                        \n                        \n                        \n                        Winnipeg Police Museum\,\n\n245 Smith St.\n	\n		\n		Winnipeg\,\n\n	Manitoba\n\n\n	Canada\n\n\n+ Google Map\n	\n	\n		\n		\n		\n			\n					\n							24\n							April\n							2026\n							\n							\n				\n		\n			Free Admission for Youth 14 and under at RodaramaHere’s a short\, SEO-friendly excerpt you can use:\n\n**Looking for things to do in Winnipeg this weekend?** Discover a mix of free events\, markets\, live music\, family activities\, and major attractions happening April 25. From carnival rides and car shows to community festivals and outdoor experiences\, there’s something for everyone to enjoy. Find out more\n                        \n                        \n                        \n                        Red River Exhibition Park\,\n\n3977 Portage Avenue\, Winnipeg\, MB R3K 2E8\n	\n		\n		Winnipeg\,\n\n\n	R3K 2E8\n\n	CA\n\n\n+ Google Map\n	\n	\n		\n		\n		\n			\n					\n							25\n							April\n							2026\n							\n							\n				\n		\n			Manitoba Robot Games 2026The Manitoba Robot Games returns to Winnipeg on April 25\, 2026\, with 17 exciting robot competitions at Tec-Voc’s Hornet Dome. Free for spectators\, it’s a fun and family-friendly way to experience STEM in action. \nFind out more\n                        \n                        \n                        \n                        Tec-Voc High School (The Hornet Dome)\,\n\n1555 Wall Street\n	\n		\n		Winnipeg\,\n\n	Manitoba\n\n\n	Canada\n\n\n+ Google Map\n	\n	\n		\n		\n		\n			\n					\n							25\n							April\n							2026\n							\n							\n				\n		\n			Astronomy Day at Assiniboine ParkEnjoy a free day of stargazing at Astronomy Day in Assiniboine Park\, featuring daytime and nighttime telescope viewing. Connect with experts and explore the wonders of the universe—no registration required. \nFind out more\n                        \n                        \n                        \n                        Assiniboine Park (Lyric Theatre and Field)\,\n\n55 Pavilion Crescent\, Winnipeg\, MB R3P 2N6\n	\n		\n		Winnipeg\,\n\n	Manitoba\n\n	R3P 2N6\n\n	Canada\n\n\n+ Google Map\n	\n	\n		\n		\n		\n			\n					\n							25\n							April\n							2026\n							\n							\n				\n		\n			Astronomy Day at Assiniboine ParkEnjoy a free day of stargazing at Astronomy Day in Assiniboine Park\, featuring daytime and nighttime telescope viewing. Connect with experts and explore the wonders of the universe—no registration required. \nFind out more\n                        \n                        \n                        \n                        Assiniboine Park (Lyric Theatre and Field)\,\n\n55 Pavilion Crescent\, Winnipeg\, MB R3P 2N6\n	\n		\n		Winnipeg\,\n\n	Manitoba\n\n	R3P 2N6\n\n	Canada\n\n\n+ Google Map\n	\n	\n		\n		\n		\n			\n					\n							01\n							May\n							2026\n							\n							\n				\n		\n			Jane's Walk Winnipeg 2026Explore Winnipeg during Jane’s Walk 2026 (May 1–3) with free\, community-led walking tours across the city featuring local history\, culture\, and hidden gems. \nFind out more\n                        \n                        \n                        \n                        Multiple Locations\,\n\n\n\n\n\n\n\n\n	\n	\n		\n		\n		\n			\n					\n							03\n							May\n							2026\n							\n							\n				\n		\n			Narcisse Snake Dens 2026See thousands of red-sided garter snakes gather at the Narcisse Snake Dens during Manitoba’s incredible spring mating season. This rare natural phenomenon offers a free\, unforgettable wildlife experience just outside Winnipeg. \nFind out more\n                        \n                        \n                        \n                        Narcisse Snake Dens\,\n\nHighway 17\n	\n		\n		Narcisse\,\n\n	Manitoba\n\n	R0C 2H0\n\n	Canada\n\n\n+ Google Map\n	\n	\n		\n		\n		\n			\n					\n							03\n							May\n							2026\n							\n							\n				\n		\n			Community Movie Night at East End Community CentreEast End Community Club Free Movie Nights – Fall 2025 to Spring 2026 Dates: Sept \nFind out more\n                        \n                        \n                        \n                        East End Community Club\,\n\n517 Pandora Ave E.\n	\n		\n		Winnipeg\,\n\n\n	R2C 0A5\n\n	CA\n\n\n+ Google Map\n	\n	\n		\n		\n		\n			\n					\n							08\n							May\n							2026\n							\n							\n				\n		\n			City of Winnipeg Compost GiveawayFree compost is available for Winnipeg residents for a limited time\, while quantities last. Bring your own containers and take advantage of this giveaway to boost your garden and soil naturally. \nFind out more\n                        \n                        \n                        \n                        Multiple Locations\,\n\n\n\n\n\n\n\n\n	\n                \n                 Load More
URL:https://wpgforfree.ca/event/rbc-sunset-screenings-on-the-beach/
LOCATION:Gimli Beach\, Gimli\, Manitoba\, Canada
CATEGORIES:Movies,Multiday
ATTACH;FMTTYPE=image/webp:https://wpgforfree.ca/wp-content/uploads/2019/07/RBC-Sunset-Screenings.webp
END:VEVENT
BEGIN:VEVENT
DTSTART;TZID=America/Winnipeg:20250723T193000
DTEND;TZID=America/Winnipeg:20250725T193000
DTSTAMP:20260420T003720
CREATED:20190706T203952Z
LAST-MODIFIED:20250707T230058Z
UID:52777-1753299000-1753471800@wpgforfree.ca
SUMMARY:2025 Ballet In The Park at Assiniboine Park
DESCRIPTION:Share This Story\n🩰 Ballet in the Park at Assiniboine Park | July 23–25\, 2025\nExperience an enchanting summer tradition at the Lyric Theatre\, nestled in historic Assiniboine Park’s scenic surroundings\, from July 23–25 at 7:30 PM nightly. Featuring Canada’s Royal Winnipeg Ballet\, this beloved event offers a captivating showcase of mixed repertoire—ranging from student pieces to professional company performances—all performed under the prairie sky. \nLocation: Lyric Theatre\, 55 Pavilion Crescent\, Winnipeg\nDates: July 23–25\, 2025\nTime: 7:30 PM nightly\nAdmission: Free \n\n\n\n🌟 Why You Should Go\n\nFree\, accessible\, and family-friendly: This is a no-cost celebration of dance\, perfect for all ages\nIconic outdoor venue: Watch ballet unfold on the Lyric Stage in one of Winnipeg’s most historic parks\nPrairie-sky ambiance: Let live music and movement merge with warm summer evenings and natural beauty\nMixed performances: Enjoy a curated blend of student showcases and professional artistry\, reflecting the depth and diversity of ballet\n\n\n\n\n\n\n\n📌 Event Notes & Planning Tips\n\nDates & Times: July 23\, 24\, 25 – show starts at 7:30 PM; arrive early to secure your spot\nAdmission: Free to attend; bring lawn chairs or blankets\nWeather: Rain or shine—though cancellations may occur for severe conditions; follow official channels\nAccessibility: Open seating with accessible options at the Lyric Stage\nFamily Fun: Ideal for kids—poised for a summer evening together\n\nRSVP to get updates and about what's happening before the show\, whether updates and more. \n\nheight=”10px” id=”2″]\n More Info \n \n\n\n\n\nUpcoming Events\n	\n		\n		\n		\n			\n					\n							08\n							January\n							2026\n							\n							\n				\n		\n			Free Entry to Manitoba Parks for 1 Year Starting April 1\, 2025Free Entry to Manitoba Parks for a Year Starting April 1\, 2025 Free Entry ito \nFind out more\n                        \n                        \n                        \n                        Multiple Locations\,\n\n\n\n\n\n\n\n\n	\n	\n		\n		\n		\n			\n					\n							21\n							April\n							2026\n							\n							\n				\n		\n			Free Admission to Winnipeg Police MuseumThe Winnipeg Police Museum offers free admission and features artifacts dating back to the late 1800s\, vintage vehicles and motorcycles\, and stories highlighting the history and service of the Winnipeg Police Service\, located at 245 Smith Street and open Tuesday to Friday from 10:00 AM to 3:00 PM. \nFind out more\n                        \n                        \n                        \n                        Winnipeg Police Museum\,\n\n245 Smith St.\n	\n		\n		Winnipeg\,\n\n	Manitoba\n\n\n	Canada\n\n\n+ Google Map\n	\n	\n		\n		\n		\n			\n					\n							24\n							April\n							2026\n							\n							\n				\n		\n			Free Admission for Youth 14 and under at RodaramaHere’s a short\, SEO-friendly excerpt you can use:\n\n**Looking for things to do in Winnipeg this weekend?** Discover a mix of free events\, markets\, live music\, family activities\, and major attractions happening April 25. From carnival rides and car shows to community festivals and outdoor experiences\, there’s something for everyone to enjoy. Find out more\n                        \n                        \n                        \n                        Red River Exhibition Park\,\n\n3977 Portage Avenue\, Winnipeg\, MB R3K 2E8\n	\n		\n		Winnipeg\,\n\n\n	R3K 2E8\n\n	CA\n\n\n+ Google Map\n	\n	\n		\n		\n		\n			\n					\n							25\n							April\n							2026\n							\n							\n				\n		\n			Manitoba Robot Games 2026The Manitoba Robot Games returns to Winnipeg on April 25\, 2026\, with 17 exciting robot competitions at Tec-Voc’s Hornet Dome. Free for spectators\, it’s a fun and family-friendly way to experience STEM in action. \nFind out more\n                        \n                        \n                        \n                        Tec-Voc High School (The Hornet Dome)\,\n\n1555 Wall Street\n	\n		\n		Winnipeg\,\n\n	Manitoba\n\n\n	Canada\n\n\n+ Google Map\n	\n	\n		\n		\n		\n			\n					\n							25\n							April\n							2026\n							\n							\n				\n		\n			Astronomy Day at Assiniboine ParkEnjoy a free day of stargazing at Astronomy Day in Assiniboine Park\, featuring daytime and nighttime telescope viewing. Connect with experts and explore the wonders of the universe—no registration required. \nFind out more\n                        \n                        \n                        \n                        Assiniboine Park (Lyric Theatre and Field)\,\n\n55 Pavilion Crescent\, Winnipeg\, MB R3P 2N6\n	\n		\n		Winnipeg\,\n\n	Manitoba\n\n	R3P 2N6\n\n	Canada\n\n\n+ Google Map\n	\n	\n		\n		\n		\n			\n					\n							25\n							April\n							2026\n							\n							\n				\n		\n			Astronomy Day at Assiniboine ParkEnjoy a free day of stargazing at Astronomy Day in Assiniboine Park\, featuring daytime and nighttime telescope viewing. Connect with experts and explore the wonders of the universe—no registration required. \nFind out more\n                        \n                        \n                        \n                        Assiniboine Park (Lyric Theatre and Field)\,\n\n55 Pavilion Crescent\, Winnipeg\, MB R3P 2N6\n	\n		\n		Winnipeg\,\n\n	Manitoba\n\n	R3P 2N6\n\n	Canada\n\n\n+ Google Map\n	\n	\n		\n		\n		\n			\n					\n							01\n							May\n							2026\n							\n							\n				\n		\n			Jane's Walk Winnipeg 2026Explore Winnipeg during Jane’s Walk 2026 (May 1–3) with free\, community-led walking tours across the city featuring local history\, culture\, and hidden gems. \nFind out more\n                        \n                        \n                        \n                        Multiple Locations\,\n\n\n\n\n\n\n\n\n	\n	\n		\n		\n		\n			\n					\n							03\n							May\n							2026\n							\n							\n				\n		\n			Narcisse Snake Dens 2026See thousands of red-sided garter snakes gather at the Narcisse Snake Dens during Manitoba’s incredible spring mating season. This rare natural phenomenon offers a free\, unforgettable wildlife experience just outside Winnipeg. \nFind out more\n                        \n                        \n                        \n                        Narcisse Snake Dens\,\n\nHighway 17\n	\n		\n		Narcisse\,\n\n	Manitoba\n\n	R0C 2H0\n\n	Canada\n\n\n+ Google Map\n	\n	\n		\n		\n		\n			\n					\n							03\n							May\n							2026\n							\n							\n				\n		\n			Community Movie Night at East End Community CentreEast End Community Club Free Movie Nights – Fall 2025 to Spring 2026 Dates: Sept \nFind out more\n                        \n                        \n                        \n                        East End Community Club\,\n\n517 Pandora Ave E.\n	\n		\n		Winnipeg\,\n\n\n	R2C 0A5\n\n	CA\n\n\n+ Google Map\n	\n	\n		\n		\n		\n			\n					\n							08\n							May\n							2026\n							\n							\n				\n		\n			City of Winnipeg Compost GiveawayFree compost is available for Winnipeg residents for a limited time\, while quantities last. Bring your own containers and take advantage of this giveaway to boost your garden and soil naturally. \nFind out more\n                        \n                        \n                        \n                        Multiple Locations\,\n\n\n\n\n\n\n\n\n	\n                \n                 Load More
URL:https://wpgforfree.ca/event/ballet-in-the-park/
LOCATION:Assiniboine Park\, 55 Pavilion Crescent\, Winnipeg\, MB\, Canada
CATEGORIES:Live Entertainment,Multiday
ATTACH;FMTTYPE=image/webp:https://wpgforfree.ca/wp-content/uploads/2019/07/2025-ballet-in-the-park.webp
GEO:49.872132;-97.2301468
X-APPLE-STRUCTURED-LOCATION;VALUE=URI;X-ADDRESS=Assiniboine Park 55 Pavilion Crescent Winnipeg MB Canada;X-APPLE-RADIUS=500;X-TITLE=55 Pavilion Crescent:geo:-97.2301468,49.872132
END:VEVENT
END:VCALENDAR