BEGIN:VCALENDAR
VERSION:2.0
PRODID:-//Winnipeg for Free - ECPv5.16.4//NONSGML v1.0//EN
CALSCALE:GREGORIAN
METHOD:PUBLISH
X-WR-CALNAME:Winnipeg for Free
X-ORIGINAL-URL:https://wpgforfree.ca
X-WR-CALDESC:Events for Winnipeg for Free
REFRESH-INTERVAL;VALUE=DURATION:PT1H
X-Robots-Tag:noindex
X-PUBLISHED-TTL:PT1H
BEGIN:VTIMEZONE
TZID:America/Winnipeg
BEGIN:DAYLIGHT
TZOFFSETFROM:-0600
TZOFFSETTO:-0500
TZNAME:CDT
DTSTART:20250309T080000
END:DAYLIGHT
BEGIN:STANDARD
TZOFFSETFROM:-0500
TZOFFSETTO:-0600
TZNAME:CST
DTSTART:20251102T070000
END:STANDARD
END:VTIMEZONE
BEGIN:VEVENT
DTSTART;VALUE=DATE:20250711
DTEND;VALUE=DATE:20250714
DTSTAMP:20260421T111531
CREATED:20230714T175751Z
LAST-MODIFIED:20250710T000112Z
UID:102739-1752192000-1752451199@wpgforfree.ca
SUMMARY:Selkirk Triple S Fair and Rodeo 2025
DESCRIPTION:Share This Story\n🤠 Triple S Fair & Rodeo Returns to Selkirk Park – July 11–13\, 2025\nLocation: Selkirk Park\, Selkirk\, Manitoba\nDates: Friday to Sunday\, July 11–13\, 2025\nAdmission: Fair is free • Rodeo Arena: $10/day adults\, $5/day kids 6–12\, or $30 for a 3-day pass (includes parking). Kids 5 and under free. \nThree days of high-energy fun are coming to Selkirk Park! The Triple S Fair & Rodeo is a jam-packed weekend of rides\, music\, rodeo action\, family fun\, and community spirit—perfect for all ages. \n\n\n\n🎉 Free Fair Attractions\n\nChildren’s Festival: Crafts\, face painting\, Tiny Treasures Petting Zoo\, and more (Friday & Saturday)\nLive entertainment: Bubble Man\, Ryan Price Magic Show\, music & cultural showcases\nInteractive exhibits: Oak Hammock Marsh\, Fraser Reptiles\, and a dinosaur experience\nHome & Fine Arts Talent Exhibition\n\n🎡 Major Highlights\n\nMidway rides (daily)\nSelkirk Parade – Saturday\, July 12 at 10 AM\nBeer Gardens & nightly concerts by Jerry Sereda\nArtisan food trucks & local vendors\n\n\n\n\n\n\n\n🐎 Rodeo Action & Schedule\n\nFriday Night: Battle of the Broncs & Wild Pony Races – 7:15 PM\nSaturday Evening: Triple S Bull Bash – 6:15 PM\nDaily events include MTRA Team Roping\, 4D Barrel Racing Jackpot\, Pole Bending\nKB Clydesdales 6-horse hitch exhibition (Fri & Sat at 6 PM)\n\nWhether you're cheering from the bleachers or spinning on the ferris wheel\, the Triple S Fair & Rodeo promises an unforgettable weekend of Western fun and family tradition. \n\n\n\nSchedule of Events\nFriday\, July 11\nChildren’s Festival (11 AM – 4 PM) \n\n\nCrafts\, games\, face painting\, dinosaur exhibit \n\n\nOak Hammock Marsh activities \n\n\nTiny Treasures Petting Zoo (opens at 11 AM) \n\n\nEntertainment & Exhibits \n\n\n12 PM: Bubble Man Show (Stage) \n\n\n12 PM: Home & Fine Arts Exhibit Opens (Ag Building) \n\n\n1:30 PM: Ryan Price Magic Show (Kidzone Tent) \n\n\n3 PM: Bubble Man Show (Stage) \n\n\nMidway & Evening Events \n\n\n2 PM: Midway opens \n\n\n6 PM: Infield Bar & Food Booth opens \n\n\n7 PM: KB Clydesdales 6-Horse Hitch (Rodeo Arena) \n\n\n7:15 PM: Battle of the Broncs with Wild Pony Races & Barrel Racing Showdown \n\n\n8 PM: Open Pole Bending Jackpot (Horse Show Arena) \n\n\n9 PM – 1 AM: Jerry Sereda Live (Beer Gardens) \n\n\nAll Day: \n\n\nBeer Gardens open from 12 PM – 1 AM \n\n\n\n\n\n\n\n\nSaturday\, July 12\nMorning Events \n\n\n9:30 AM: 4D Barrel Racing Jackpot (Horse Show Arena) \n\n\n10 AM: Selkirk Parade \n\n\n11 AM: MTRA Team Roping (Rodeo Arena) \n\n\nFamily Fun (12 PM – 4 PM) \n\n\nTiny Treasures Petting Zoo\, crafts\, face painting \n\n\nFraser Reptiles\, Oak Hammock Marsh\, dinosaur exhibit \n\n\nEntertainment & Exhibits \n\n\n12 PM: Home & Fine Arts Exhibit opens (Ag Building) \n\n\n12:30 PM: Bubble Man Show (Stage) \n\n\n2 PM: Ryan Price Magic Show (Kidzone Tent) \n\n\n3:15 PM: Bubble Man Show (Stage) \n\n\nMidway & Evening Events \n\n\n12 PM: Midway opens \n\n\n12 PM: Infield Bar opens \n\n\n6 PM: KB Clydesdales 6-Horse Hitch (Rodeo Arena) \n\n\n6:15 PM: Triple S Bull Bash with Wild Pony Races & Barrel Racing Showdown \n\n\n9 PM – 1 AM: Jerry Sereda Live (Beer Gardens) \n\n\nAll Day: \n\n\nBeer Gardens open from 12 PM – 1 AM \n\n\n\n\n\n\n\n\n\n\n\nSunday\, July 13\n\n\n9:30 AM: 4D Barrel Racing Jackpot (Horse Show Arena) \n\n\n11 AM: MTRA Team Roping (Rodeo Arena) \n\n\n12 PM: Midway opens \n\n\n12 PM: Infield Bar opens \n\n\n12 PM: Home & Fine Arts Exhibit opens (Ag Building) \n\n\n1 PM – 4 PM: Tiny Treasures Petting Zoo \n\n\n\nNote: \n\n\nThe Children’s Festival runs Friday and Saturday only. \n\n\nAll events and times are subject to change. \n\n\nDon’t forget to explore the vendors\, food trucks\, and the Triple ‘S’ Tack Shop Barn near the Horse Show Arena. \n\n\n— \nDisclaimer: This event is not hosted by the City of Selkirk. For questions or details\, please contact the event organizers directly. \n\n\n\n\n\n\n  \n\n  \n\n\n\n\n\n\n\nAsk ChatGPT\n\n\n\n\n\n\n\n\n\n\n\n\nUpcoming Events\n	\n		\n		\n		\n			\n					\n							08\n							January\n							2026\n							\n							\n				\n		\n			Free Entry to Manitoba Parks for 1 Year Starting April 1\, 2025Free Entry to Manitoba Parks for a Year Starting April 1\, 2025 Free Entry ito \nFind out more\n                        \n                        \n                        \n                        Multiple Locations\,\n\n\n\n\n\n\n\n\n	\n	\n		\n		\n		\n			\n					\n							21\n							April\n							2026\n							\n							\n				\n		\n			Free Admission to Winnipeg Police MuseumThe Winnipeg Police Museum offers free admission and features artifacts dating back to the late 1800s\, vintage vehicles and motorcycles\, and stories highlighting the history and service of the Winnipeg Police Service\, located at 245 Smith Street and open Tuesday to Friday from 10:00 AM to 3:00 PM. \nFind out more\n                        \n                        \n                        \n                        Winnipeg Police Museum\,\n\n245 Smith St.\n	\n		\n		Winnipeg\,\n\n	Manitoba\n\n\n	Canada\n\n\n+ Google Map\n	\n	\n		\n		\n		\n			\n					\n							24\n							April\n							2026\n							\n							\n				\n		\n			Weekend Round-Up: 10+ Free Events in Winnipeg April 24-26A list of free things to do in Winnipeg during the weekend including activities for the family\, live music\, arts\, movies\, and more. \nFind out more\n                        \n                        \n                        \n                        Winnipeg\, Manitoba\,\n\n\n	Winnipeg\,\n\n	Manitoba\n\n\n	Canada\n\n\n+ Google Map\n	\n	\n		\n		\n		\n			\n					\n							24\n							April\n							2026\n							\n							\n				\n		\n			Free Admission for Youth 14 and under at RodaramaHere’s a short\, SEO-friendly excerpt you can use:\n\n**Looking for things to do in Winnipeg this weekend?** Discover a mix of free events\, markets\, live music\, family activities\, and major attractions happening April 25. From carnival rides and car shows to community festivals and outdoor experiences\, there’s something for everyone to enjoy. Find out more\n                        \n                        \n                        \n                        Red River Exhibition Park\,\n\n3977 Portage Avenue\, Winnipeg\, MB R3K 2E8\n	\n		\n		Winnipeg\,\n\n\n	R3K 2E8\n\n	CA\n\n\n+ Google Map\n	\n	\n		\n		\n		\n			\n					\n							25\n							April\n							2026\n							\n							\n				\n		\n			Manitoba Robot Games 2026The Manitoba Robot Games returns to Winnipeg on April 25\, 2026\, with 17 exciting robot competitions at Tec-Voc’s Hornet Dome. Free for spectators\, it’s a fun and family-friendly way to experience STEM in action. \nFind out more\n                        \n                        \n                        \n                        Tec-Voc High School (The Hornet Dome)\,\n\n1555 Wall Street\n	\n		\n		Winnipeg\,\n\n	Manitoba\n\n\n	Canada\n\n\n+ Google Map\n	\n	\n		\n		\n		\n			\n					\n							25\n							April\n							2026\n							\n							\n				\n		\n			Astronomy Day at Assiniboine ParkEnjoy a free day of stargazing at Astronomy Day in Assiniboine Park\, featuring daytime and nighttime telescope viewing. Connect with experts and explore the wonders of the universe—no registration required. \nFind out more\n                        \n                        \n                        \n                        Assiniboine Park (Lyric Theatre and Field)\,\n\n55 Pavilion Crescent\, Winnipeg\, MB R3P 2N6\n	\n		\n		Winnipeg\,\n\n	Manitoba\n\n	R3P 2N6\n\n	Canada\n\n\n+ Google Map\n	\n	\n		\n		\n		\n			\n					\n							25\n							April\n							2026\n							\n							\n				\n		\n			Astronomy Day at Assiniboine ParkEnjoy a free day of stargazing at Astronomy Day in Assiniboine Park\, featuring daytime and nighttime telescope viewing. Connect with experts and explore the wonders of the universe—no registration required. \nFind out more\n                        \n                        \n                        \n                        Assiniboine Park (Lyric Theatre and Field)\,\n\n55 Pavilion Crescent\, Winnipeg\, MB R3P 2N6\n	\n		\n		Winnipeg\,\n\n	Manitoba\n\n	R3P 2N6\n\n	Canada\n\n\n+ Google Map\n	\n	\n		\n		\n		\n			\n					\n							01\n							May\n							2026\n							\n							\n				\n		\n			Jane's Walk Winnipeg 2026Explore Winnipeg during Jane’s Walk 2026 (May 1–3) with free\, community-led walking tours across the city featuring local history\, culture\, and hidden gems. \nFind out more\n                        \n                        \n                        \n                        Multiple Locations\,\n\n\n\n\n\n\n\n\n	\n	\n		\n		\n		\n			\n					\n							03\n							May\n							2026\n							\n							\n				\n		\n			Narcisse Snake Dens 2026See thousands of red-sided garter snakes gather at the Narcisse Snake Dens during Manitoba’s incredible spring mating season. This rare natural phenomenon offers a free\, unforgettable wildlife experience just outside Winnipeg. \nFind out more\n                        \n                        \n                        \n                        Narcisse Snake Dens\,\n\nHighway 17\n	\n		\n		Narcisse\,\n\n	Manitoba\n\n	R0C 2H0\n\n	Canada\n\n\n+ Google Map\n	\n	\n		\n		\n		\n			\n					\n							03\n							May\n							2026\n							\n							\n				\n		\n			Community Movie Night at East End Community CentreEast End Community Club Free Movie Nights – Fall 2025 to Spring 2026 Dates: Sept \nFind out more\n                        \n                        \n                        \n                        East End Community Club\,\n\n517 Pandora Ave E.\n	\n		\n		Winnipeg\,\n\n\n	R2C 0A5\n\n	CA\n\n\n+ Google Map\n	\n                \n                 Load More
URL:https://wpgforfree.ca/event/selkirk-triple-s-fair-and-rodeo/
LOCATION:Selkiirk Park\, 486 Eveline St\, Winnipeg\, Manitoba\, Canada
CATEGORIES:Food,Live Entertainment,Live Music,Multiday
ATTACH;FMTTYPE=image/webp:https://wpgforfree.ca/wp-content/uploads/2023/07/soul-in-the-square.webp
GEO:49.8954221;-97.1385145
X-APPLE-STRUCTURED-LOCATION;VALUE=URI;X-ADDRESS=Selkiirk Park 486 Eveline St Winnipeg Manitoba Canada;X-APPLE-RADIUS=500;X-TITLE=486 Eveline St:geo:-97.1385145,49.8954221
END:VEVENT
BEGIN:VEVENT
DTSTART;TZID=America/Winnipeg:20250712T120000
DTEND;TZID=America/Winnipeg:20250713T210000
DTSTAMP:20260421T111531
CREATED:20250709T014644Z
LAST-MODIFIED:20250709T015024Z
UID:140371-1752321600-1752440400@wpgforfree.ca
SUMMARY:Food Truck at IKEA
DESCRIPTION:Share This Story\n🚚 Food Truck Rally at IKEA Winnipeg – July 2025\nLocation: IKEA Winnipeg\, 500 Sterling Lyon Parkway\nDates: Two-day event (exact dates TBA)\nTime: Duration: 9 hours daily\nAdmission: Free | Public event \nGet ready for two exciting days of food\, music\, and fun at the Food Truck Rally Featuring Show Ur Ride outside IKEA Winnipeg! Whether you're into cars\, cuisine\, dancing\, or live music\, this event brings it all together in one unforgettable celebration. \n\n\n\n🎉 What to Expect\n\n🏎 Motor Showcase: Classic cars\, custom rides\, and performance vehicles with interactive displays for car lovers of all ages.\n🎼 Live Music: Performances from local artists across genres like rock\, jazz\, pop\, and blues.\n💃 Latin Social Dancing: A high-energy night of rhythm\, movement\, and Latin dance fun.\n🍔 Food & Drink: A huge variety of food trucks offering global street eats and refreshing beverages.\n🛍 Artisan Market: Discover handmade goods\, crafts\, and one-of-a-kind items from talented local vendors.\n\n\n\n\n\n\n\n📌 Why Attend?\n\nIt’s a perfect summer night out for foodies\, car buffs\, music fans\, and dance lovers.\nMeet fellow enthusiasts and enjoy community vibes in a fun\, family-friendly setting.\nSupport local vendors and artists while soaking in free entertainment and energy.\n\nPresented by: Foodtrip Market\nStay tuned for official event times and lineups. Follow on social media for live updates! \n\n\n\n\nUpcoming Events\n	\n		\n		\n		\n			\n					\n							08\n							January\n							2026\n							\n							\n				\n		\n			Free Entry to Manitoba Parks for 1 Year Starting April 1\, 2025Free Entry to Manitoba Parks for a Year Starting April 1\, 2025 Free Entry ito \nFind out more\n                        \n                        \n                        \n                        Multiple Locations\,\n\n\n\n\n\n\n\n\n	\n	\n		\n		\n		\n			\n					\n							21\n							April\n							2026\n							\n							\n				\n		\n			Free Admission to Winnipeg Police MuseumThe Winnipeg Police Museum offers free admission and features artifacts dating back to the late 1800s\, vintage vehicles and motorcycles\, and stories highlighting the history and service of the Winnipeg Police Service\, located at 245 Smith Street and open Tuesday to Friday from 10:00 AM to 3:00 PM. \nFind out more\n                        \n                        \n                        \n                        Winnipeg Police Museum\,\n\n245 Smith St.\n	\n		\n		Winnipeg\,\n\n	Manitoba\n\n\n	Canada\n\n\n+ Google Map\n	\n	\n		\n		\n		\n			\n					\n							24\n							April\n							2026\n							\n							\n				\n		\n			Weekend Round-Up: 10+ Free Events in Winnipeg April 24-26A list of free things to do in Winnipeg during the weekend including activities for the family\, live music\, arts\, movies\, and more. \nFind out more\n                        \n                        \n                        \n                        Winnipeg\, Manitoba\,\n\n\n	Winnipeg\,\n\n	Manitoba\n\n\n	Canada\n\n\n+ Google Map\n	\n	\n		\n		\n		\n			\n					\n							24\n							April\n							2026\n							\n							\n				\n		\n			Free Admission for Youth 14 and under at RodaramaHere’s a short\, SEO-friendly excerpt you can use:\n\n**Looking for things to do in Winnipeg this weekend?** Discover a mix of free events\, markets\, live music\, family activities\, and major attractions happening April 25. From carnival rides and car shows to community festivals and outdoor experiences\, there’s something for everyone to enjoy. Find out more\n                        \n                        \n                        \n                        Red River Exhibition Park\,\n\n3977 Portage Avenue\, Winnipeg\, MB R3K 2E8\n	\n		\n		Winnipeg\,\n\n\n	R3K 2E8\n\n	CA\n\n\n+ Google Map\n	\n	\n		\n		\n		\n			\n					\n							25\n							April\n							2026\n							\n							\n				\n		\n			Manitoba Robot Games 2026The Manitoba Robot Games returns to Winnipeg on April 25\, 2026\, with 17 exciting robot competitions at Tec-Voc’s Hornet Dome. Free for spectators\, it’s a fun and family-friendly way to experience STEM in action. \nFind out more\n                        \n                        \n                        \n                        Tec-Voc High School (The Hornet Dome)\,\n\n1555 Wall Street\n	\n		\n		Winnipeg\,\n\n	Manitoba\n\n\n	Canada\n\n\n+ Google Map\n	\n	\n		\n		\n		\n			\n					\n							25\n							April\n							2026\n							\n							\n				\n		\n			Astronomy Day at Assiniboine ParkEnjoy a free day of stargazing at Astronomy Day in Assiniboine Park\, featuring daytime and nighttime telescope viewing. Connect with experts and explore the wonders of the universe—no registration required. \nFind out more\n                        \n                        \n                        \n                        Assiniboine Park (Lyric Theatre and Field)\,\n\n55 Pavilion Crescent\, Winnipeg\, MB R3P 2N6\n	\n		\n		Winnipeg\,\n\n	Manitoba\n\n	R3P 2N6\n\n	Canada\n\n\n+ Google Map\n	\n	\n		\n		\n		\n			\n					\n							25\n							April\n							2026\n							\n							\n				\n		\n			Astronomy Day at Assiniboine ParkEnjoy a free day of stargazing at Astronomy Day in Assiniboine Park\, featuring daytime and nighttime telescope viewing. Connect with experts and explore the wonders of the universe—no registration required. \nFind out more\n                        \n                        \n                        \n                        Assiniboine Park (Lyric Theatre and Field)\,\n\n55 Pavilion Crescent\, Winnipeg\, MB R3P 2N6\n	\n		\n		Winnipeg\,\n\n	Manitoba\n\n	R3P 2N6\n\n	Canada\n\n\n+ Google Map\n	\n	\n		\n		\n		\n			\n					\n							01\n							May\n							2026\n							\n							\n				\n		\n			Jane's Walk Winnipeg 2026Explore Winnipeg during Jane’s Walk 2026 (May 1–3) with free\, community-led walking tours across the city featuring local history\, culture\, and hidden gems. \nFind out more\n                        \n                        \n                        \n                        Multiple Locations\,\n\n\n\n\n\n\n\n\n	\n	\n		\n		\n		\n			\n					\n							03\n							May\n							2026\n							\n							\n				\n		\n			Narcisse Snake Dens 2026See thousands of red-sided garter snakes gather at the Narcisse Snake Dens during Manitoba’s incredible spring mating season. This rare natural phenomenon offers a free\, unforgettable wildlife experience just outside Winnipeg. \nFind out more\n                        \n                        \n                        \n                        Narcisse Snake Dens\,\n\nHighway 17\n	\n		\n		Narcisse\,\n\n	Manitoba\n\n	R0C 2H0\n\n	Canada\n\n\n+ Google Map\n	\n	\n		\n		\n		\n			\n					\n							03\n							May\n							2026\n							\n							\n				\n		\n			Community Movie Night at East End Community CentreEast End Community Club Free Movie Nights – Fall 2025 to Spring 2026 Dates: Sept \nFind out more\n                        \n                        \n                        \n                        East End Community Club\,\n\n517 Pandora Ave E.\n	\n		\n		Winnipeg\,\n\n\n	R2C 0A5\n\n	CA\n\n\n+ Google Map\n	\n                \n                 Load More
URL:https://wpgforfree.ca/event/food-truck-at-ikea/
LOCATION:IKEA Winnipeg\, 500 Sterling Lyon Parkway\, Winnipeg\, R3P 1E7\, CA
CATEGORIES:Food,Live Entertainment,Live Music,Multiday
ATTACH;FMTTYPE=image/webp:https://wpgforfree.ca/wp-content/uploads/2025/07/soul-in-the-square-1.webp
GEO:49.8392129;-97.2115556
X-APPLE-STRUCTURED-LOCATION;VALUE=URI;X-ADDRESS=IKEA Winnipeg 500 Sterling Lyon Parkway Winnipeg R3P 1E7 CA;X-APPLE-RADIUS=500;X-TITLE=500 Sterling Lyon Parkway:geo:-97.2115556,49.8392129
END:VEVENT
END:VCALENDAR