BEGIN:VCALENDAR
VERSION:2.0
PRODID:-//Winnipeg for Free - ECPv5.16.4//NONSGML v1.0//EN
CALSCALE:GREGORIAN
METHOD:PUBLISH
X-ORIGINAL-URL:https://wpgforfree.ca
X-WR-CALDESC:Events for Winnipeg for Free
REFRESH-INTERVAL;VALUE=DURATION:PT1H
X-Robots-Tag:noindex
X-PUBLISHED-TTL:PT1H
BEGIN:VTIMEZONE
TZID:America/Winnipeg
BEGIN:DAYLIGHT
TZOFFSETFROM:-0600
TZOFFSETTO:-0500
TZNAME:CDT
DTSTART:20260308T080000
END:DAYLIGHT
BEGIN:STANDARD
TZOFFSETFROM:-0500
TZOFFSETTO:-0600
TZNAME:CST
DTSTART:20261101T070000
END:STANDARD
END:VTIMEZONE
BEGIN:VEVENT
DTSTART;VALUE=DATE:20260502
DTEND;VALUE=DATE:20260503
DTSTAMP:20260424T002006
CREATED:20190426T025525Z
LAST-MODIFIED:20260424T010321Z
UID:48779-1777680000-1777766399@wpgforfree.ca
SUMMARY:Free Comic Book Day In Winnipeg 2026
DESCRIPTION:Share This Story\n\nWhat is Free Comic Book Day?\nCelebrate Free Comic Book Day 2026 on Saturday\, May 2—a must-attend event for comic book fans\, families\, and anyone curious about the world of superheroes and storytelling. \nHeld annually on the first Saturday in May\, Free Comic Book Day is a global celebration where participating comic shops give away free comic books while supplies last. \n\n\n\n\n\n  \nWhat to Expect\nThis exciting day is the perfect opportunity to explore new titles\, discover iconic characters\, and support local comic book stores. Whether you're a longtime collector or just getting started\, visitors can pick up a variety of free comics from major publishers like Marvel Comics and DC Comics\, as well as independent creators. \nMany locations also host special activities such as artist meet-and-greets\, cosplay events\, giveaways\, and exclusive discounts on merchandise. Each store may offer a different selection of free comics and promotions\, so it’s worth visiting multiple shops or checking ahead for details. \n Participating Stores \n\n\n\n\nEvent Details\nFree Comic Book Day is a fun\, family-friendly event that brings communities together through a shared love of comics and creativity. Be sure to arrive early\, as popular titles go quickly! \nDate: Saturday\, May 2\, 2026\nCost: Free (comics available while supplies last)\nLocation: Participating comic book stores (varies by location) \nDon’t miss your chance to grab free comics and experience one of the biggest annual celebrations in pop culture! \n Participating Stores \n\nUpcoming Events\n	\n		\n		\n		\n			\n					\n							08\n							January\n							2026\n							\n							\n				\n		\n			Free Entry to Manitoba Parks for 1 Year Starting April 1\, 2025Free Entry to Manitoba Parks for a Year Starting April 1\, 2025 Free Entry ito \nFind out more\n                        \n                        \n                        \n                        Multiple Locations\,\n\n\n\n\n\n\n\n\n	\n	\n		\n		\n		\n			\n					\n							21\n							April\n							2026\n							\n							\n				\n		\n			Free Admission to Winnipeg Police MuseumThe Winnipeg Police Museum offers free admission and features artifacts dating back to the late 1800s\, vintage vehicles and motorcycles\, and stories highlighting the history and service of the Winnipeg Police Service\, located at 245 Smith Street and open Tuesday to Friday from 10:00 AM to 3:00 PM. \nFind out more\n                        \n                        \n                        \n                        Winnipeg Police Museum\,\n\n245 Smith St.\n	\n		\n		Winnipeg\,\n\n	Manitoba\n\n\n	Canada\n\n\n+ Google Map\n	\n	\n		\n		\n		\n			\n					\n							24\n							April\n							2026\n							\n							\n				\n		\n			Free Admission to Canuck Amusements at Kildonan Place 2026The Canuck Amusements Carnival brings thrills\, games\, and family fun to Kildonan Place! Enjoy heart-pounding rides\, kiddie zones\, delicious treats & more. 2 Weekends! Free Entry! ($30 wristbands for unlimited rides). Don't miss out! \nFind out more\n                        \n                        \n                        \n                        Kildonan Place\,\n\n1555 Regent Ave W.\n	\n		\n		Winnipeg\,\n\n\n	R2C 4J2\n\n	CA\n\n\n+ Google Map\n	\n	\n		\n		\n		\n			\n					\n							24\n							April\n							2026\n							\n							\n				\n		\n			Weekend Round-Up: 10+ Free Events in Winnipeg April 24-26A list of free things to do in Winnipeg during the weekend including activities for the family\, live music\, arts\, movies\, and more. \nFind out more\n                        \n                        \n                        \n                        Winnipeg\, Manitoba\,\n\n\n	Winnipeg\,\n\n	Manitoba\n\n\n	Canada\n\n\n+ Google Map\n	\n	\n		\n		\n		\n			\n					\n							24\n							April\n							2026\n							\n							\n				\n		\n			Free Admission for Youth 14 and under at RodaramaHere’s a short\, SEO-friendly excerpt you can use: \n**Looking for things to do in Winnipeg this weekend?** Discover a mix of free events\, markets\, live music\, family activities\, and major attractions happening April 25. From carnival rides and car shows to community festivals and outdoor experiences\, there’s something for everyone to enjoy. \nFind out more\n                        \n                        \n                        \n                        Red River Exhibition Park\,\n\n3977 Portage Avenue\, Winnipeg\, MB R3K 2E8\n	\n		\n		Winnipeg\,\n\n\n	R3K 2E8\n\n	CA\n\n\n+ Google Map\n	\n	\n		\n		\n		\n			\n					\n							25\n							April\n							2026\n							\n							\n				\n		\n			Manitoba Robot Games 2026The Manitoba Robot Games returns to Winnipeg on April 25\, 2026\, with 17 exciting robot competitions at Tec-Voc’s Hornet Dome. Free for spectators\, it’s a fun and family-friendly way to experience STEM in action. \nFind out more\n                        \n                        \n                        \n                        Tec-Voc High School (The Hornet Dome)\,\n\n1555 Wall Street\n	\n		\n		Winnipeg\,\n\n	Manitoba\n\n\n	Canada\n\n\n+ Google Map\n	\n	\n		\n		\n		\n			\n					\n							25\n							April\n							2026\n							\n							\n				\n		\n			Astronomy Day at Assiniboine ParkEnjoy a free day of stargazing at Astronomy Day in Assiniboine Park\, featuring daytime and nighttime telescope viewing. Connect with experts and explore the wonders of the universe—no registration required. \nFind out more\n                        \n                        \n                        \n                        Assiniboine Park (Lyric Theatre and Field)\,\n\n55 Pavilion Crescent\, Winnipeg\, MB R3P 2N6\n	\n		\n		Winnipeg\,\n\n	Manitoba\n\n	R3P 2N6\n\n	Canada\n\n\n+ Google Map\n	\n	\n		\n		\n		\n			\n					\n							25\n							April\n							2026\n							\n							\n				\n		\n			Astronomy Day at Assiniboine ParkEnjoy a free day of stargazing at Astronomy Day in Assiniboine Park\, featuring daytime and nighttime telescope viewing. Connect with experts and explore the wonders of the universe—no registration required. \nFind out more\n                        \n                        \n                        \n                        Assiniboine Park (Lyric Theatre and Field)\,\n\n55 Pavilion Crescent\, Winnipeg\, MB R3P 2N6\n	\n		\n		Winnipeg\,\n\n	Manitoba\n\n	R3P 2N6\n\n	Canada\n\n\n+ Google Map\n	\n	\n		\n		\n		\n			\n					\n							01\n							May\n							2026\n							\n							\n				\n		\n			Jane's Walk Winnipeg 2026Explore Winnipeg during Jane’s Walk 2026 (May 1–3) with free\, community-led walking tours across the city featuring local history\, culture\, and hidden gems. \nFind out more\n                        \n                        \n                        \n                        Multiple Locations\,\n\n\n\n\n\n\n\n\n	\n	\n		\n		\n		\n			\n					\n							02\n							May\n							2026\n							\n							\n				\n		\n			Free Comic Book Day In Winnipeg 2026Free Comic Book Day is the 1st Saturday in May. It's an International Event that celebrates comic books & the local comic shops that provide them. \nFind out more\n                        \n                        \n                        \n                        Multiple Locations\,\n\n\n\n\n\n\n\n\n	\n                \n                 Load More
URL:https://wpgforfree.ca/event/free-comic-book-day-in-winnipeg/
LOCATION:Multiple Locations
CATEGORIES:Art,geekdom,Kid Friendly
ATTACH;FMTTYPE=image/webp:https://wpgforfree.ca/wp-content/uploads/2019/04/Free-Comic-Book-Day-2026.webp
END:VEVENT
BEGIN:VEVENT
DTSTART;TZID=America/Winnipeg:20260508T090000
DTEND;TZID=America/Winnipeg:20260508T180000
DTSTAMP:20260424T002006
CREATED:20240509T174123Z
LAST-MODIFIED:20260419T012213Z
UID:128601-1778230800-1778263200@wpgforfree.ca
SUMMARY:Grace Hospital Family Fun Day 2026
DESCRIPTION:Share This Story\n\nGrace Hospital Family Fun Day 2026\nJOIN US ON FRIDAY\, MAY 8TH! \nStarting at 9am\, listen to our radiothon on CJOB680 where you can catch up on what’s happening at Grace Hospital\, hear patient stories and learn how your support will contribute to vital equipment and programs. \nOur volunteer street teams will be out at Portage and Sturgeon collecting donations\, and free ice cream sandwiches will be handed out at the hospital during the day. \nAt 4pm\, the free family celebrations begin! Find us at Sturgeon Creek Parkway (just in front of Grace Hospital) and help us celebrate! \n\n\n\n\n\nEntertainment\, Activities & Food\n\nLocal artists Al Simmons\, Royal Canadian Air Force Party Band and Magician Evan Morgan performing under the big tent\nPrancing Pony Portable Petting Zoo with cute and cuddly animals\nNew this year – pony rides\nJuggling and hula hoop fun with the Winnipeg Circus Club\nVisit from Spiderman and Elsa – don’t forget to take a picture\nFree treats including hamburgers and hot dogs from the FoodFare barbeque\nFree ice cream sandwiches from Sargent Sundae\n\nVisit the Wellness Ambassadors at the Blue Cross Tent and learn more about health and wellness in our community. \nStop by the Grace Hospital Foundation tent\, spin the wheel to win some swag\, or donate to get a pair of cool sunglasses to wear this summer. \n\n\n\n\n\nEvent Schedule\n\n9AM–6PM: Radiothon – 680 CJOB\n11AM–5PM: Donation Drive\n11AM–7PM: Ice Cream Giveaway (while supplies last)\n4PM–7PM: Free Family Fun – Circus Club\, Petting Zoo\, Facepainting\n4PM–7PM: Free Barbeque (while supplies last)\n4:15PM: RCAF Party Band\n5:15PM: Al Simmons performs live\n5:45PM: RCAF Party Band\n6:15PM: Evan Morgan Magic performs live\n\nPresented by: WINPAK – IT’S OUR NATURE TO PROTECT™ \n\n\nUpcoming Events\n	\n		\n		\n		\n			\n					\n							08\n							January\n							2026\n							\n							\n				\n		\n			Free Entry to Manitoba Parks for 1 Year Starting April 1\, 2025Free Entry to Manitoba Parks for a Year Starting April 1\, 2025 Free Entry ito \nFind out more\n                        \n                        \n                        \n                        Multiple Locations\,\n\n\n\n\n\n\n\n\n	\n	\n		\n		\n		\n			\n					\n							21\n							April\n							2026\n							\n							\n				\n		\n			Free Admission to Winnipeg Police MuseumThe Winnipeg Police Museum offers free admission and features artifacts dating back to the late 1800s\, vintage vehicles and motorcycles\, and stories highlighting the history and service of the Winnipeg Police Service\, located at 245 Smith Street and open Tuesday to Friday from 10:00 AM to 3:00 PM. \nFind out more\n                        \n                        \n                        \n                        Winnipeg Police Museum\,\n\n245 Smith St.\n	\n		\n		Winnipeg\,\n\n	Manitoba\n\n\n	Canada\n\n\n+ Google Map\n	\n	\n		\n		\n		\n			\n					\n							24\n							April\n							2026\n							\n							\n				\n		\n			Free Admission to Canuck Amusements at Kildonan Place 2026The Canuck Amusements Carnival brings thrills\, games\, and family fun to Kildonan Place! Enjoy heart-pounding rides\, kiddie zones\, delicious treats & more. 2 Weekends! Free Entry! ($30 wristbands for unlimited rides). Don't miss out! \nFind out more\n                        \n                        \n                        \n                        Kildonan Place\,\n\n1555 Regent Ave W.\n	\n		\n		Winnipeg\,\n\n\n	R2C 4J2\n\n	CA\n\n\n+ Google Map\n	\n	\n		\n		\n		\n			\n					\n							24\n							April\n							2026\n							\n							\n				\n		\n			Weekend Round-Up: 10+ Free Events in Winnipeg April 24-26A list of free things to do in Winnipeg during the weekend including activities for the family\, live music\, arts\, movies\, and more. \nFind out more\n                        \n                        \n                        \n                        Winnipeg\, Manitoba\,\n\n\n	Winnipeg\,\n\n	Manitoba\n\n\n	Canada\n\n\n+ Google Map\n	\n	\n		\n		\n		\n			\n					\n							24\n							April\n							2026\n							\n							\n				\n		\n			Free Admission for Youth 14 and under at RodaramaHere’s a short\, SEO-friendly excerpt you can use: \n**Looking for things to do in Winnipeg this weekend?** Discover a mix of free events\, markets\, live music\, family activities\, and major attractions happening April 25. From carnival rides and car shows to community festivals and outdoor experiences\, there’s something for everyone to enjoy. \nFind out more\n                        \n                        \n                        \n                        Red River Exhibition Park\,\n\n3977 Portage Avenue\, Winnipeg\, MB R3K 2E8\n	\n		\n		Winnipeg\,\n\n\n	R3K 2E8\n\n	CA\n\n\n+ Google Map\n	\n	\n		\n		\n		\n			\n					\n							25\n							April\n							2026\n							\n							\n				\n		\n			Manitoba Robot Games 2026The Manitoba Robot Games returns to Winnipeg on April 25\, 2026\, with 17 exciting robot competitions at Tec-Voc’s Hornet Dome. Free for spectators\, it’s a fun and family-friendly way to experience STEM in action. \nFind out more\n                        \n                        \n                        \n                        Tec-Voc High School (The Hornet Dome)\,\n\n1555 Wall Street\n	\n		\n		Winnipeg\,\n\n	Manitoba\n\n\n	Canada\n\n\n+ Google Map\n	\n	\n		\n		\n		\n			\n					\n							25\n							April\n							2026\n							\n							\n				\n		\n			Astronomy Day at Assiniboine ParkEnjoy a free day of stargazing at Astronomy Day in Assiniboine Park\, featuring daytime and nighttime telescope viewing. Connect with experts and explore the wonders of the universe—no registration required. \nFind out more\n                        \n                        \n                        \n                        Assiniboine Park (Lyric Theatre and Field)\,\n\n55 Pavilion Crescent\, Winnipeg\, MB R3P 2N6\n	\n		\n		Winnipeg\,\n\n	Manitoba\n\n	R3P 2N6\n\n	Canada\n\n\n+ Google Map\n	\n	\n		\n		\n		\n			\n					\n							25\n							April\n							2026\n							\n							\n				\n		\n			Astronomy Day at Assiniboine ParkEnjoy a free day of stargazing at Astronomy Day in Assiniboine Park\, featuring daytime and nighttime telescope viewing. Connect with experts and explore the wonders of the universe—no registration required. \nFind out more\n                        \n                        \n                        \n                        Assiniboine Park (Lyric Theatre and Field)\,\n\n55 Pavilion Crescent\, Winnipeg\, MB R3P 2N6\n	\n		\n		Winnipeg\,\n\n	Manitoba\n\n	R3P 2N6\n\n	Canada\n\n\n+ Google Map\n	\n	\n		\n		\n		\n			\n					\n							01\n							May\n							2026\n							\n							\n				\n		\n			Jane's Walk Winnipeg 2026Explore Winnipeg during Jane’s Walk 2026 (May 1–3) with free\, community-led walking tours across the city featuring local history\, culture\, and hidden gems. \nFind out more\n                        \n                        \n                        \n                        Multiple Locations\,\n\n\n\n\n\n\n\n\n	\n	\n		\n		\n		\n			\n					\n							02\n							May\n							2026\n							\n							\n				\n		\n			Free Comic Book Day In Winnipeg 2026Free Comic Book Day is the 1st Saturday in May. It's an International Event that celebrates comic books & the local comic shops that provide them. \nFind out more\n                        \n                        \n                        \n                        Multiple Locations\,\n\n\n\n\n\n\n\n\n	\n                \n                 Load More
URL:https://wpgforfree.ca/event/grace-hospital-family-fun-day/
LOCATION:Grace Hospital Foundation\, Grace Hospital Foundation\, 300 Booth Dr.\, Manitoba
CATEGORIES:Kid Friendly
ATTACH;FMTTYPE=image/webp:https://wpgforfree.ca/wp-content/uploads/2024/05/Grace-Hospital-Family-Fun-Day-2026.webp
GEO:49.882263;-97.277446
X-APPLE-STRUCTURED-LOCATION;VALUE=URI;X-ADDRESS=Grace Hospital Foundation Grace Hospital Foundation 300 Booth Dr. Manitoba;X-APPLE-RADIUS=500;X-TITLE=Grace Hospital Foundation:geo:-97.277446,49.882263
END:VEVENT
END:VCALENDAR