BEGIN:VCALENDAR
VERSION:2.0
PRODID:-//Winnipeg for Free - ECPv5.16.4//NONSGML v1.0//EN
CALSCALE:GREGORIAN
METHOD:PUBLISH
X-WR-CALNAME:Winnipeg for Free
X-ORIGINAL-URL:https://wpgforfree.ca
X-WR-CALDESC:Events for Winnipeg for Free
REFRESH-INTERVAL;VALUE=DURATION:PT1H
X-Robots-Tag:noindex
X-PUBLISHED-TTL:PT1H
BEGIN:VTIMEZONE
TZID:America/Chicago
BEGIN:DAYLIGHT
TZOFFSETFROM:-0600
TZOFFSETTO:-0500
TZNAME:CDT
DTSTART:20250309T080000
END:DAYLIGHT
BEGIN:STANDARD
TZOFFSETFROM:-0500
TZOFFSETTO:-0600
TZNAME:CST
DTSTART:20251102T070000
END:STANDARD
END:VTIMEZONE
BEGIN:VEVENT
DTSTART;VALUE=DATE:20251201
DTEND;VALUE=DATE:20260101
DTSTAMP:20260419T155442
CREATED:20181127T040341Z
LAST-MODIFIED:20251216T064622Z
UID:40782-1764547200-1767225599@wpgforfree.ca
SUMMARY:2025 Linden Lights
DESCRIPTION:  \n  \nLinden Lights: A Winnipeg Holiday Classic\nIf you’ve lived in Winnipeg for a while\, you’ve probably heard someone say\, “Have you gone to Linden Lights yet?” And if you haven’t… yeah\, it’s worth it. \nEvery December\, the Lindenwoods neighbourhood turns into a full-on holiday light zone\, with residents going all out decorating their houses and even entire streets. It’s free\, it’s low-pressure\, and it somehow manages to feel festive without being chaotic — which is honestly kind of rare this time of year. \nWhat to Know (Nothing Fancy\, Just the Basics)What: Linden LightsWhere: Linden Woods\, southwest WinnipegWhen: December (usually early to mid-month)Cost: FreeBest time to go: After dark — roughly 5:00 PM to 10:00 PM \n\n \n\n\nThe Streets Everyone Talks About\nThe fun part is spotting the themed streets. Neighbours coordinate decorations and turn whole blocks into mini attractions: \n\n🍭 Candy Cane Lane (Foxmeadow Drive) – Exactly what it sounds like. Red\, white\, and aggressively festive.\n🐻 Polar Bear Land (Hennessey Drive) – Glowing polar bears everywhere. Very on-brand for Winnipeg winter.\n🏠 Gingerbread Lane / Nutcracker Lane – These pop up depending on the year\, but they always feel like something out of a Christmas storybook.\n\n\n \n\n\nWhy People Keep Going Back\nLinden Lights is perfect if you want something Christmassy without committing to tickets\, schedules\, or standing outside freezing for an hour. You just drive slowly through the neighbourhood\, sip whatever warm drink you brought along\, and take it all in. \nSome houses have lights synced to music\, some go full animated display mode\, and others just quietly shine — but together it works. There’s also a friendly competition vibe\, with residents aiming for “best house” or “best street” bragging rights through the Linden Woods Community Centre. \nA Couple Local Tips: Take it slow\, be patient with traffic\, and be respectful — people actually live here. If you see signs about tuning your radio to a certain station\, do it. And if you’re looking for a route map\, here it is.If you’re craving something festive\, free\, and very Winnipeg\, Linden Lights checks all the boxes. It’s one of those traditions that doesn’t try too hard — and that’s exactly why it works. \n\n\n\n\n\nUpcoming Events\n	\n		\n		\n		\n			\n					\n							08\n							January\n							2026\n							\n							\n				\n		\n			Free Entry to Manitoba Parks for 1 Year Starting April 1\, 2025Free Entry to Manitoba Parks for a Year Starting April 1\, 2025 Free Entry ito \nFind out more\n                        \n                        \n                        \n                        Multiple Locations\,\n\n\n\n\n\n\n\n\n	\n	\n		\n		\n		\n			\n					\n							17\n							April\n							2026\n							\n							\n				\n		\n			Weekend Round-Up: 10+ Free Events in Winnipeg April 17-19A list of free things to do in Winnipeg during the weekend including activities for the family\, live music\, arts\, movies\, and more. \nFind out more\n                        \n                        \n                        \n                        Winnipeg\, Manitoba\,\n\n\n	Winnipeg\,\n\n	Manitoba\n\n\n	Canada\n\n\n+ Google Map\n	\n	\n		\n		\n		\n			\n					\n							19\n							April\n							2026\n							\n							\n				\n		\n			Community Movie Night at East End Community CentreEast End Community Club Free Movie Nights – Fall 2025 to Spring 2026 Dates: Sept \nFind out more\n                        \n                        \n                        \n                        East End Community Club\,\n\n517 Pandora Ave E.\n	\n		\n		Winnipeg\,\n\n\n	R2C 0A5\n\n	CA\n\n\n+ Google Map\n	\n	\n		\n		\n		\n			\n					\n							21\n							April\n							2026\n							\n							\n				\n		\n			Free Admission to Winnipeg Police MuseumThe Winnipeg Police Museum offers free admission and features artifacts dating back to the late 1800s\, vintage vehicles and motorcycles\, and stories highlighting the history and service of the Winnipeg Police Service\, located at 245 Smith Street and open Tuesday to Friday from 10:00 AM to 3:00 PM. \nFind out more\n                        \n                        \n                        \n                        Winnipeg Police Museum\,\n\n245 Smith St.\n	\n		\n		Winnipeg\,\n\n	Manitoba\n\n\n	Canada\n\n\n+ Google Map\n	\n	\n		\n		\n		\n			\n					\n							24\n							April\n							2026\n							\n							\n				\n		\n			Free Admission for Youth 14 and under at RodaramaHere’s a short\, SEO-friendly excerpt you can use: \n**Looking for things to do in Winnipeg this weekend?** Discover a mix of free events\, markets\, live music\, family activities\, and major attractions happening April 25. From carnival rides and car shows to community festivals and outdoor experiences\, there’s something for everyone to enjoy. \nFind out more\n                        \n                        \n                        \n                        Red River Exhibition Park\,\n\n3977 Portage Avenue\, Winnipeg\, MB R3K 2E8\n	\n		\n		Winnipeg\,\n\n\n	R3K 2E8\n\n	CA\n\n\n+ Google Map\n	\n	\n		\n		\n		\n			\n					\n							25\n							April\n							2026\n							\n							\n				\n		\n			Manitoba Robot Games 2026The Manitoba Robot Games returns to Winnipeg on April 25\, 2026\, with 17 exciting robot competitions at Tec-Voc’s Hornet Dome. Free for spectators\, it’s a fun and family-friendly way to experience STEM in action. \nFind out more\n                        \n                        \n                        \n                        Tec-Voc High School (The Hornet Dome)\,\n\n1555 Wall Street\n	\n		\n		Winnipeg\,\n\n	Manitoba\n\n\n	Canada\n\n\n+ Google Map\n	\n	\n		\n		\n		\n			\n					\n							25\n							April\n							2026\n							\n							\n				\n		\n			Astronomy Day at Assiniboine ParkEnjoy a free day of stargazing at Astronomy Day in Assiniboine Park\, featuring daytime and nighttime telescope viewing. Connect with experts and explore the wonders of the universe—no registration required. \nFind out more\n                        \n                        \n                        \n                        Assiniboine Park (Lyric Theatre and Field)\,\n\n55 Pavilion Crescent\, Winnipeg\, MB R3P 2N6\n	\n		\n		Winnipeg\,\n\n	Manitoba\n\n	R3P 2N6\n\n	Canada\n\n\n+ Google Map\n	\n	\n		\n		\n		\n			\n					\n							25\n							April\n							2026\n							\n							\n				\n		\n			Astronomy Day at Assiniboine ParkEnjoy a free day of stargazing at Astronomy Day in Assiniboine Park\, featuring daytime and nighttime telescope viewing. Connect with experts and explore the wonders of the universe—no registration required. \nFind out more\n                        \n                        \n                        \n                        Assiniboine Park (Lyric Theatre and Field)\,\n\n55 Pavilion Crescent\, Winnipeg\, MB R3P 2N6\n	\n		\n		Winnipeg\,\n\n	Manitoba\n\n	R3P 2N6\n\n	Canada\n\n\n+ Google Map\n	\n	\n		\n		\n		\n			\n					\n							01\n							May\n							2026\n							\n							\n				\n		\n			Jane's Walk Winnipeg 2026Explore Winnipeg during Jane’s Walk 2026 (May 1–3) with free\, community-led walking tours across the city featuring local history\, culture\, and hidden gems. \nFind out more\n                        \n                        \n                        \n                        Multiple Locations\,\n\n\n\n\n\n\n\n\n	\n	\n		\n		\n		\n			\n					\n							03\n							May\n							2026\n							\n							\n				\n		\n			Narcisse Snake Dens 2026See thousands of red-sided garter snakes gather at the Narcisse Snake Dens during Manitoba’s incredible spring mating season. This rare natural phenomenon offers a free\, unforgettable wildlife experience just outside Winnipeg. \nFind out more\n                        \n                        \n                        \n                        Narcisse Snake Dens\,\n\nHighway 17\n	\n		\n		Narcisse\,\n\n	Manitoba\n\n	R0C 2H0\n\n	Canada\n\n\n+ Google Map\n	\n                \n                 Load More
URL:https://wpgforfree.ca/event/linden-lights/
LOCATION:Lindenwoods\, Winnipeg\, Manitoba\, Canada
CATEGORIES:Christmas,Holiday
ATTACH;FMTTYPE=image/webp:https://wpgforfree.ca/wp-content/uploads/2018/11/2025-Linden-Lights-2.webp
END:VEVENT
END:VCALENDAR