BEGIN:VCALENDAR
VERSION:2.0
PRODID:-//Winnipeg for Free - ECPv5.16.4//NONSGML v1.0//EN
CALSCALE:GREGORIAN
METHOD:PUBLISH
X-WR-CALNAME:Winnipeg for Free
X-ORIGINAL-URL:https://wpgforfree.ca
X-WR-CALDESC:Events for Winnipeg for Free
REFRESH-INTERVAL;VALUE=DURATION:PT1H
X-Robots-Tag:noindex
X-PUBLISHED-TTL:PT1H
BEGIN:VTIMEZONE
TZID:America/Chicago
BEGIN:DAYLIGHT
TZOFFSETFROM:-0600
TZOFFSETTO:-0500
TZNAME:CDT
DTSTART:20240310T080000
END:DAYLIGHT
BEGIN:STANDARD
TZOFFSETFROM:-0500
TZOFFSETTO:-0600
TZNAME:CST
DTSTART:20241103T070000
END:STANDARD
TZID:America/Winnipeg
BEGIN:DAYLIGHT
TZOFFSETFROM:-0600
TZOFFSETTO:-0500
TZNAME:CDT
DTSTART:20240310T080000
END:DAYLIGHT
BEGIN:STANDARD
TZOFFSETFROM:-0500
TZOFFSETTO:-0600
TZNAME:CST
DTSTART:20241103T070000
END:STANDARD
END:VTIMEZONE
BEGIN:VEVENT
DTSTART;VALUE=DATE:20241026
DTEND;VALUE=DATE:20241028
DTSTAMP:20260424T104844
CREATED:20181019T170733Z
LAST-MODIFIED:20241022T022903Z
UID:38897-1729900800-1730073599@wpgforfree.ca
SUMMARY:Halloween at IKEA
DESCRIPTION:Halloween at IKEAShare This Story\n🎃 Come for Spooktacular Halloween Fun at IKEA Winnipeg! 🎃 \nGet ready for a frightfully fun weekend at IKEA Winnipeg! From October 26 to October 27\, 2024\, the store is transforming into a Halloween haven filled with activities for the whole family. Here’s what you can look forward to: \n🕷️ Spooky Face Painting: Get spooky at IKEA Winnipeg’s face painting event! On October 26th from 11am to 2pm in the Children’s Department\, let your little ones transform into their favorite Halloween characters with fun and creative face painting. Don’t forget to dress up in your best Halloween costumes to make the day even more spooktacular! This free event is perfect for getting into the Halloween spirit with the whole family. No registration required. \nThe article continues below \n🎃 Join Us for Spooktacular Halloween Fun at IKEA Winnipeg! 🎃 \nGet ready for a frightfully fun weekend at IKEA Winnipeg! From October 26 to October 27\, 2024\, the store is transforming into a Halloween haven filled with activities for the whole family. Here’s what you can look forward to: \n🕷️ Spooky Face Painting: Get spooky at IKEA Winnipeg’s face painting event! On October 26th from 11am to 2pm in the Children’s Department\, let your little ones transform into their favorite Halloween characters with fun and creative face painting. Don’t forget to dress up in your best Halloween costumes to make the day even more spooktacular! This free event is perfect for getting into the Halloween spirit with the whole family. No registration required. \n\n\n\n🎬 Halloween Movie Screenings: Enjoy two days of spooky fun with Halloween movie screenings on October 26th & 27th. A lineup of Halloween favorites that the whole family can enjoy will be shown. No registration required. \nSaturday\, October 26th: \n\nCorpse Bride at 12 pm (PG)\nParaNorman at 2 pm (PG)\nScooby-Doo The Live Action at 4 pm (PG)\n\nSunday\, October 27th: \n\nBeetlejuice at 12 pm (PG13)\nScooby-Doo and the Ghoul School at 2 pm (PG)\nThe Addams Family at 4 pm (PG13)\n\nBring the kids\, dress up in your favorite costumes\, and enjoy a fun-filled weekend of Halloween magic! \n\n\n\n\n🍪 Cookie Decorating Workshop: Bring your little ones to IKEA Winnipeg’s Cookie Decorating Workshop on October 27th from 2pm to 3pm in the Restaurant. Let their creativity flow as they decorate delicious cookies with festive Halloween designs. This event is fully booked\, but you can join the waiting list. You need to be logged in to your IKEA Family account to sign up. Create an account if you don’t already have one! \nDon’t miss out on this eerie-sistible event! Visit IKEA Winnipeg at 500 Sterling Lyon Parkway and make this Halloween one to remember. For more details\, check out the event page and follow IKEA Winnipeg on social media for updates. \n\nPlease note: This blog post is for informational purposes only. Winnipeg for Free is not associated with IKEA Winnipeg in any manner. Confirm program details and availability directly with them.  \n\n\n\n\nUpcoming Events\n\n	\n		\n		\n		\n			\n					\n							08\n							January\n							2026\n							\n							\n				\n		\n			Free Entry to Manitoba Parks for 1 Year Starting April 1\, 2025Free Entry to Manitoba Parks for a Year Starting April 1\, 2025 Free Entry ito \nFind out more\n                        \n                        \n                        \n                        Multiple Locations\,\n\n\n\n\n\n\n\n\n	\n	\n		\n		\n		\n			\n					\n							21\n							April\n							2026\n							\n							\n				\n		\n			Free Admission to Winnipeg Police MuseumThe Winnipeg Police Museum offers free admission and features artifacts dating back to the late 1800s\, vintage vehicles and motorcycles\, and stories highlighting the history and service of the Winnipeg Police Service\, located at 245 Smith Street and open Tuesday to Friday from 10:00 AM to 3:00 PM. \nFind out more\n                        \n                        \n                        \n                        Winnipeg Police Museum\,\n\n245 Smith St.\n	\n		\n		Winnipeg\,\n\n	Manitoba\n\n\n	Canada\n\n\n+ Google Map\n	\n	\n		\n		\n		\n			\n					\n							24\n							April\n							2026\n							\n							\n				\n		\n			Free Admission to Canuck Amusements at Kildonan Place 2026The Canuck Amusements Carnival brings thrills\, games\, and family fun to Kildonan Place! Enjoy heart-pounding rides\, kiddie zones\, delicious treats & more. 2 Weekends! Free Entry! ($30 wristbands for unlimited rides). Don't miss out! \nFind out more\n                        \n                        \n                        \n                        Kildonan Place\,\n\n1555 Regent Ave W.\n	\n		\n		Winnipeg\,\n\n\n	R2C 4J2\n\n	CA\n\n\n+ Google Map\n	\n	\n		\n		\n		\n			\n					\n							24\n							April\n							2026\n							\n							\n				\n		\n			Weekend Round-Up: 10+ Free Events in Winnipeg April 24-26A list of free things to do in Winnipeg during the weekend including activities for the family\, live music\, arts\, movies\, and more. \nFind out more\n                        \n                        \n                        \n                        Winnipeg\, Manitoba\,\n\n\n	Winnipeg\,\n\n	Manitoba\n\n\n	Canada\n\n\n+ Google Map\n	\n	\n		\n		\n		\n			\n					\n							24\n							April\n							2026\n							\n							\n				\n		\n			Free Admission for Youth 14 and under at RodaramaHere’s a short\, SEO-friendly excerpt you can use: \n**Looking for things to do in Winnipeg this weekend?** Discover a mix of free events\, markets\, live music\, family activities\, and major attractions happening April 25. From carnival rides and car shows to community festivals and outdoor experiences\, there’s something for everyone to enjoy. \nFind out more\n                        \n                        \n                        \n                        Red River Exhibition Park\,\n\n3977 Portage Avenue\, Winnipeg\, MB R3K 2E8\n	\n		\n		Winnipeg\,\n\n\n	R3K 2E8\n\n	CA\n\n\n+ Google Map\n	\n	\n		\n		\n		\n			\n					\n							25\n							April\n							2026\n							\n							\n				\n		\n			Manitoba Robot Games 2026The Manitoba Robot Games returns to Winnipeg on April 25\, 2026\, with 17 exciting robot competitions at Tec-Voc’s Hornet Dome. Free for spectators\, it’s a fun and family-friendly way to experience STEM in action. \nFind out more\n                        \n                        \n                        \n                        Tec-Voc High School (The Hornet Dome)\,\n\n1555 Wall Street\n	\n		\n		Winnipeg\,\n\n	Manitoba\n\n\n	Canada\n\n\n+ Google Map\n	\n	\n		\n		\n		\n			\n					\n							25\n							April\n							2026\n							\n							\n				\n		\n			Astronomy Day at Assiniboine ParkEnjoy a free day of stargazing at Astronomy Day in Assiniboine Park\, featuring daytime and nighttime telescope viewing. Connect with experts and explore the wonders of the universe—no registration required. \nFind out more\n                        \n                        \n                        \n                        Assiniboine Park (Lyric Theatre and Field)\,\n\n55 Pavilion Crescent\, Winnipeg\, MB R3P 2N6\n	\n		\n		Winnipeg\,\n\n	Manitoba\n\n	R3P 2N6\n\n	Canada\n\n\n+ Google Map\n	\n	\n		\n		\n		\n			\n					\n							25\n							April\n							2026\n							\n							\n				\n		\n			Astronomy Day at Assiniboine ParkEnjoy a free day of stargazing at Astronomy Day in Assiniboine Park\, featuring daytime and nighttime telescope viewing. Connect with experts and explore the wonders of the universe—no registration required. \nFind out more\n                        \n                        \n                        \n                        Assiniboine Park (Lyric Theatre and Field)\,\n\n55 Pavilion Crescent\, Winnipeg\, MB R3P 2N6\n	\n		\n		Winnipeg\,\n\n	Manitoba\n\n	R3P 2N6\n\n	Canada\n\n\n+ Google Map\n	\n	\n		\n		\n		\n			\n					\n							01\n							May\n							2026\n							\n							\n				\n		\n			Jane's Walk Winnipeg 2026Explore Winnipeg during Jane’s Walk 2026 (May 1–3) with free\, community-led walking tours across the city featuring local history\, culture\, and hidden gems. \nFind out more\n                        \n                        \n                        \n                        Multiple Locations\,\n\n\n\n\n\n\n\n\n	\n	\n		\n		\n		\n			\n					\n							02\n							May\n							2026\n							\n							\n				\n		\n			Free Comic Book Day In Winnipeg 2026Free Comic Book Day is the 1st Saturday in May. It's an International Event that celebrates comic books & the local comic shops that provide them. \nFind out more\n                        \n                        \n                        \n                        Multiple Locations\,\n\n\n\n\n\n\n\n\n	\n                \n                 Load More
URL:https://wpgforfree.ca/event/halloween-at-ikea/
LOCATION:Ikea\, 500 Sterling Lyon Pkwy\, Winnipeg\, MB\, Canada
CATEGORIES:Halloween,Kid Friendly
GEO:49.8392129;-97.2115557
X-APPLE-STRUCTURED-LOCATION;VALUE=URI;X-ADDRESS=Ikea 500 Sterling Lyon Pkwy Winnipeg MB Canada;X-APPLE-RADIUS=500;X-TITLE=500 Sterling Lyon Pkwy:geo:-97.2115557,49.8392129
END:VEVENT
BEGIN:VEVENT
DTSTART;TZID=America/Winnipeg:20241027T100000
DTEND;TZID=America/Winnipeg:20241027T160000
DTSTAMP:20260424T104845
CREATED:20241016T005059Z
LAST-MODIFIED:20241016T005316Z
UID:133710-1730023200-1730044800@wpgforfree.ca
SUMMARY:Free Admission for Kids Wearing a Costume at Royal Aviation Museum
DESCRIPTION:Free Admission for Kids Wearing a Costume at Royal Aviation MuseumShare This Story\nJoin the Royal Aviation Museum for a spooktacular Halloween celebration! This family-friendly event features a variety of activities\, including: \nIn addition to trick-or-treating and game stations\, they’re planning STEM activities\, face painting\, and their signature costume parade and contest\, and more. \nChildren under 12 who arrive in costume receive free admission with a paying adult. \nSchedule: \n\n10:00 AM – 4:00 PM: Trick-or-treating (while supplies last)\n10:30 AM – 2:30 PM: Face painting\n11:00 AM – 4:00 PM: Candy catapult and Halloween I-Spy activities (upstairs classroom)\n2:45 PM: Costume contest\n\nJoin the Royal Aviation Museum for a spooktacular Halloween celebration! This family-friendly event features a variety of activities\, including: \nIn addition to trick-or-treating and game stations\, they’re planning STEM activities\, face painting\, and their signature costume parade and contest\, and more. \nChildren under 12 who arrive in costume receive free admission with a paying adult. \nSchedule: \n\n10:00 AM – 4:00 PM: Trick-or-treating (while supplies last)\n10:30 AM – 2:30 PM: Face painting\n11:00 AM – 4:00 PM: Candy catapult and Halloween I-Spy activities (upstairs classroom)\n2:45 PM: Costume contest\n\n\n\n\n\nUpcoming Events\n\n	\n		\n		\n		\n			\n					\n							08\n							January\n							2026\n							\n							\n				\n		\n			Free Entry to Manitoba Parks for 1 Year Starting April 1\, 2025Free Entry to Manitoba Parks for a Year Starting April 1\, 2025 Free Entry ito \nFind out more\n                        \n                        \n                        \n                        Multiple Locations\,\n\n\n\n\n\n\n\n\n	\n	\n		\n		\n		\n			\n					\n							21\n							April\n							2026\n							\n							\n				\n		\n			Free Admission to Winnipeg Police MuseumThe Winnipeg Police Museum offers free admission and features artifacts dating back to the late 1800s\, vintage vehicles and motorcycles\, and stories highlighting the history and service of the Winnipeg Police Service\, located at 245 Smith Street and open Tuesday to Friday from 10:00 AM to 3:00 PM. \nFind out more\n                        \n                        \n                        \n                        Winnipeg Police Museum\,\n\n245 Smith St.\n	\n		\n		Winnipeg\,\n\n	Manitoba\n\n\n	Canada\n\n\n+ Google Map\n	\n	\n		\n		\n		\n			\n					\n							24\n							April\n							2026\n							\n							\n				\n		\n			Free Admission to Canuck Amusements at Kildonan Place 2026The Canuck Amusements Carnival brings thrills\, games\, and family fun to Kildonan Place! Enjoy heart-pounding rides\, kiddie zones\, delicious treats & more. 2 Weekends! Free Entry! ($30 wristbands for unlimited rides). Don't miss out! \nFind out more\n                        \n                        \n                        \n                        Kildonan Place\,\n\n1555 Regent Ave W.\n	\n		\n		Winnipeg\,\n\n\n	R2C 4J2\n\n	CA\n\n\n+ Google Map\n	\n	\n		\n		\n		\n			\n					\n							24\n							April\n							2026\n							\n							\n				\n		\n			Weekend Round-Up: 10+ Free Events in Winnipeg April 24-26A list of free things to do in Winnipeg during the weekend including activities for the family\, live music\, arts\, movies\, and more. \nFind out more\n                        \n                        \n                        \n                        Winnipeg\, Manitoba\,\n\n\n	Winnipeg\,\n\n	Manitoba\n\n\n	Canada\n\n\n+ Google Map\n	\n	\n		\n		\n		\n			\n					\n							24\n							April\n							2026\n							\n							\n				\n		\n			Free Admission for Youth 14 and under at RodaramaHere’s a short\, SEO-friendly excerpt you can use: \n**Looking for things to do in Winnipeg this weekend?** Discover a mix of free events\, markets\, live music\, family activities\, and major attractions happening April 25. From carnival rides and car shows to community festivals and outdoor experiences\, there’s something for everyone to enjoy. \nFind out more\n                        \n                        \n                        \n                        Red River Exhibition Park\,\n\n3977 Portage Avenue\, Winnipeg\, MB R3K 2E8\n	\n		\n		Winnipeg\,\n\n\n	R3K 2E8\n\n	CA\n\n\n+ Google Map\n	\n	\n		\n		\n		\n			\n					\n							25\n							April\n							2026\n							\n							\n				\n		\n			Manitoba Robot Games 2026The Manitoba Robot Games returns to Winnipeg on April 25\, 2026\, with 17 exciting robot competitions at Tec-Voc’s Hornet Dome. Free for spectators\, it’s a fun and family-friendly way to experience STEM in action. \nFind out more\n                        \n                        \n                        \n                        Tec-Voc High School (The Hornet Dome)\,\n\n1555 Wall Street\n	\n		\n		Winnipeg\,\n\n	Manitoba\n\n\n	Canada\n\n\n+ Google Map\n	\n	\n		\n		\n		\n			\n					\n							25\n							April\n							2026\n							\n							\n				\n		\n			Astronomy Day at Assiniboine ParkEnjoy a free day of stargazing at Astronomy Day in Assiniboine Park\, featuring daytime and nighttime telescope viewing. Connect with experts and explore the wonders of the universe—no registration required. \nFind out more\n                        \n                        \n                        \n                        Assiniboine Park (Lyric Theatre and Field)\,\n\n55 Pavilion Crescent\, Winnipeg\, MB R3P 2N6\n	\n		\n		Winnipeg\,\n\n	Manitoba\n\n	R3P 2N6\n\n	Canada\n\n\n+ Google Map\n	\n	\n		\n		\n		\n			\n					\n							25\n							April\n							2026\n							\n							\n				\n		\n			Astronomy Day at Assiniboine ParkEnjoy a free day of stargazing at Astronomy Day in Assiniboine Park\, featuring daytime and nighttime telescope viewing. Connect with experts and explore the wonders of the universe—no registration required. \nFind out more\n                        \n                        \n                        \n                        Assiniboine Park (Lyric Theatre and Field)\,\n\n55 Pavilion Crescent\, Winnipeg\, MB R3P 2N6\n	\n		\n		Winnipeg\,\n\n	Manitoba\n\n	R3P 2N6\n\n	Canada\n\n\n+ Google Map\n	\n	\n		\n		\n		\n			\n					\n							01\n							May\n							2026\n							\n							\n				\n		\n			Jane's Walk Winnipeg 2026Explore Winnipeg during Jane’s Walk 2026 (May 1–3) with free\, community-led walking tours across the city featuring local history\, culture\, and hidden gems. \nFind out more\n                        \n                        \n                        \n                        Multiple Locations\,\n\n\n\n\n\n\n\n\n	\n	\n		\n		\n		\n			\n					\n							02\n							May\n							2026\n							\n							\n				\n		\n			Free Comic Book Day In Winnipeg 2026Free Comic Book Day is the 1st Saturday in May. It's an International Event that celebrates comic books & the local comic shops that provide them. \nFind out more\n                        \n                        \n                        \n                        Multiple Locations\,\n\n\n\n\n\n\n\n\n	\n                \n                 Load More
URL:https://wpgforfree.ca/event/free-admission-for-kids-wearing-a-costume-at-royal-aviation-museum/
LOCATION:Royal Aviation Museum of Western Canada\, 2088 Wellington Avenue\, Winnipeg\, Manitoba\, R3H 0Y8\, Canada
CATEGORIES:Halloween,Kid Friendly
GEO:49.8957509;-97.2209644
X-APPLE-STRUCTURED-LOCATION;VALUE=URI;X-ADDRESS=Royal Aviation Museum of Western Canada 2088 Wellington Avenue Winnipeg Manitoba R3H 0Y8 Canada;X-APPLE-RADIUS=500;X-TITLE=2088 Wellington Avenue:geo:-97.2209644,49.8957509
END:VEVENT
END:VCALENDAR