BEGIN:VCALENDAR
VERSION:2.0
PRODID:-//Winnipeg for Free - ECPv5.16.4//NONSGML v1.0//EN
CALSCALE:GREGORIAN
METHOD:PUBLISH
X-ORIGINAL-URL:https://wpgforfree.ca
X-WR-CALDESC:Events for Winnipeg for Free
REFRESH-INTERVAL;VALUE=DURATION:PT1H
X-Robots-Tag:noindex
X-PUBLISHED-TTL:PT1H
BEGIN:VTIMEZONE
TZID:America/Winnipeg
BEGIN:DAYLIGHT
TZOFFSETFROM:-0600
TZOFFSETTO:-0500
TZNAME:CDT
DTSTART:20250309T080000
END:DAYLIGHT
BEGIN:STANDARD
TZOFFSETFROM:-0500
TZOFFSETTO:-0600
TZNAME:CST
DTSTART:20251102T070000
END:STANDARD
END:VTIMEZONE
BEGIN:VEVENT
DTSTART;TZID=America/Winnipeg:20251011T163000
DTEND;TZID=America/Winnipeg:20251011T223000
DTSTAMP:20260419T150530
CREATED:20241015T000740Z
LAST-MODIFIED:20251010T200344Z
UID:133666-1760200200-1760221800@wpgforfree.ca
SUMMARY:Diwali Mela 2024
DESCRIPTION:Share This Story\nDiwali Mela 2025 at RBC Convention Centre Winnipeg\nCelebrate the Festival of Lights in Winnipeg!The Hindu Society of Manitoba proudly presents Diwali Mela 2025 — an evening full of light\, color\, and culture — happening on Saturday\, October 11\, 2025\, at the RBC Convention Centre (375 York Avenue). \n🌟 Event Highlights \n\n\nFood Stalls: Open from 4:30 PM\, featuring a variety of authentic and mouthwatering Indian cuisines. \n\n\nCultural Program: From 7:00 PM to 10:30 PM\, enjoy vibrant classical\, folk\, and contemporary dances representing diverse traditions from across India. \n\n\nRaffle Draw: Exciting prizes to be won\, including• 1st Prize – 2 Return Air Tickets to India (Riya Travels)• 2nd Prize – 6 Nights All-Inclusive Stay for Two in Mexico (Ola Travels)• 3rd Prize – Apple iPad Air 11″ 128GB with Apple Pencil (Dawat Restaurant)• 4th Prize – Apple iPad Air 11″ 128GB (Access Credit Union)Total 10 prizes available! \n\n\n🎉 Admission: Free!This event is open to everyone\, so bring your family and friends to experience the tastes and talents of India — right here in the heart of Winnipeg. \n📞 Contact for Advertisements / Stalls: \n\n\nAnita Roy: 204-930-0653 \n\n\nReena Waliya: 204-999-6292 \n\n\nSatish Kumar: 204-688-6361 \n\n\nSponsored by RBC Royal Bank\, Diwali Mela 2025 is a community celebration of light\, culture\, and togetherness. Don’t miss this chance to meet\, greet\, and share the joy of Diwali! \n\n\n\n\nUpcoming Events\n	\n		\n		\n		\n			\n					\n							08\n							January\n							2026\n							\n							\n				\n		\n			Free Entry to Manitoba Parks for 1 Year Starting April 1\, 2025Free Entry to Manitoba Parks for a Year Starting April 1\, 2025 Free Entry ito \nFind out more\n                        \n                        \n                        \n                        Multiple Locations\,\n\n\n\n\n\n\n\n\n	\n	\n		\n		\n		\n			\n					\n							17\n							April\n							2026\n							\n							\n				\n		\n			Weekend Round-Up: 10+ Free Events in Winnipeg April 17-19A list of free things to do in Winnipeg during the weekend including activities for the family\, live music\, arts\, movies\, and more. \nFind out more\n                        \n                        \n                        \n                        Winnipeg\, Manitoba\,\n\n\n	Winnipeg\,\n\n	Manitoba\n\n\n	Canada\n\n\n+ Google Map\n	\n	\n		\n		\n		\n			\n					\n							19\n							April\n							2026\n							\n							\n				\n		\n			Community Movie Night at East End Community CentreEast End Community Club Free Movie Nights – Fall 2025 to Spring 2026 Dates: Sept \nFind out more\n                        \n                        \n                        \n                        East End Community Club\,\n\n517 Pandora Ave E.\n	\n		\n		Winnipeg\,\n\n\n	R2C 0A5\n\n	CA\n\n\n+ Google Map\n	\n	\n		\n		\n		\n			\n					\n							21\n							April\n							2026\n							\n							\n				\n		\n			Free Admission to Winnipeg Police MuseumThe Winnipeg Police Museum offers free admission and features artifacts dating back to the late 1800s\, vintage vehicles and motorcycles\, and stories highlighting the history and service of the Winnipeg Police Service\, located at 245 Smith Street and open Tuesday to Friday from 10:00 AM to 3:00 PM. \nFind out more\n                        \n                        \n                        \n                        Winnipeg Police Museum\,\n\n245 Smith St.\n	\n		\n		Winnipeg\,\n\n	Manitoba\n\n\n	Canada\n\n\n+ Google Map\n	\n	\n		\n		\n		\n			\n					\n							24\n							April\n							2026\n							\n							\n				\n		\n			Free Admission for Youth 14 and under at RodaramaHere’s a short\, SEO-friendly excerpt you can use: \n**Looking for things to do in Winnipeg this weekend?** Discover a mix of free events\, markets\, live music\, family activities\, and major attractions happening April 25. From carnival rides and car shows to community festivals and outdoor experiences\, there’s something for everyone to enjoy. \nFind out more\n                        \n                        \n                        \n                        Red River Exhibition Park\,\n\n3977 Portage Avenue\, Winnipeg\, MB R3K 2E8\n	\n		\n		Winnipeg\,\n\n\n	R3K 2E8\n\n	CA\n\n\n+ Google Map\n	\n	\n		\n		\n		\n			\n					\n							25\n							April\n							2026\n							\n							\n				\n		\n			Manitoba Robot Games 2026The Manitoba Robot Games returns to Winnipeg on April 25\, 2026\, with 17 exciting robot competitions at Tec-Voc’s Hornet Dome. Free for spectators\, it’s a fun and family-friendly way to experience STEM in action. \nFind out more\n                        \n                        \n                        \n                        Tec-Voc High School (The Hornet Dome)\,\n\n1555 Wall Street\n	\n		\n		Winnipeg\,\n\n	Manitoba\n\n\n	Canada\n\n\n+ Google Map\n	\n	\n		\n		\n		\n			\n					\n							25\n							April\n							2026\n							\n							\n				\n		\n			Astronomy Day at Assiniboine ParkEnjoy a free day of stargazing at Astronomy Day in Assiniboine Park\, featuring daytime and nighttime telescope viewing. Connect with experts and explore the wonders of the universe—no registration required. \nFind out more\n                        \n                        \n                        \n                        Assiniboine Park (Lyric Theatre and Field)\,\n\n55 Pavilion Crescent\, Winnipeg\, MB R3P 2N6\n	\n		\n		Winnipeg\,\n\n	Manitoba\n\n	R3P 2N6\n\n	Canada\n\n\n+ Google Map\n	\n	\n		\n		\n		\n			\n					\n							25\n							April\n							2026\n							\n							\n				\n		\n			Astronomy Day at Assiniboine ParkEnjoy a free day of stargazing at Astronomy Day in Assiniboine Park\, featuring daytime and nighttime telescope viewing. Connect with experts and explore the wonders of the universe—no registration required. \nFind out more\n                        \n                        \n                        \n                        Assiniboine Park (Lyric Theatre and Field)\,\n\n55 Pavilion Crescent\, Winnipeg\, MB R3P 2N6\n	\n		\n		Winnipeg\,\n\n	Manitoba\n\n	R3P 2N6\n\n	Canada\n\n\n+ Google Map\n	\n	\n		\n		\n		\n			\n					\n							01\n							May\n							2026\n							\n							\n				\n		\n			Jane's Walk Winnipeg 2026Explore Winnipeg during Jane’s Walk 2026 (May 1–3) with free\, community-led walking tours across the city featuring local history\, culture\, and hidden gems. \nFind out more\n                        \n                        \n                        \n                        Multiple Locations\,\n\n\n\n\n\n\n\n\n	\n	\n		\n		\n		\n			\n					\n							03\n							May\n							2026\n							\n							\n				\n		\n			Narcisse Snake Dens 2026See thousands of red-sided garter snakes gather at the Narcisse Snake Dens during Manitoba’s incredible spring mating season. This rare natural phenomenon offers a free\, unforgettable wildlife experience just outside Winnipeg. \nFind out more\n                        \n                        \n                        \n                        Narcisse Snake Dens\,\n\nHighway 17\n	\n		\n		Narcisse\,\n\n	Manitoba\n\n	R0C 2H0\n\n	Canada\n\n\n+ Google Map\n	\n                \n                 Load More
URL:https://wpgforfree.ca/event/diwali-mela/
LOCATION:RBC Convention Centre\, RBC Convention Centre Winnipeg 375 York Avenue\, Winnipeg\, MB R3C 3J3\, Winnipeg\, R3C 3J3\, CA
CATEGORIES:Culture,Food,Live Entertainment
ATTACH;FMTTYPE=image/webp:https://wpgforfree.ca/wp-content/uploads/2024/10/Diwali-Mela.webp
GEO:49.8890235;-97.1445429
X-APPLE-STRUCTURED-LOCATION;VALUE=URI;X-ADDRESS=RBC Convention Centre RBC Convention Centre Winnipeg 375 York Avenue Winnipeg MB R3C 3J3 Winnipeg R3C 3J3 CA;X-APPLE-RADIUS=500;X-TITLE=RBC Convention Centre Winnipeg 375 York Avenue\, Winnipeg\, MB R3C 3J3:geo:-97.1445429,49.8890235
END:VEVENT
END:VCALENDAR