BEGIN:VCALENDAR
VERSION:2.0
PRODID:-//Winnipeg for Free - ECPv5.16.4//NONSGML v1.0//EN
CALSCALE:GREGORIAN
METHOD:PUBLISH
X-WR-CALNAME:Winnipeg for Free
X-ORIGINAL-URL:https://wpgforfree.ca
X-WR-CALDESC:Events for Winnipeg for Free
REFRESH-INTERVAL;VALUE=DURATION:PT1H
X-Robots-Tag:noindex
X-PUBLISHED-TTL:PT1H
BEGIN:VTIMEZONE
TZID:America/Winnipeg
BEGIN:DAYLIGHT
TZOFFSETFROM:-0600
TZOFFSETTO:-0500
TZNAME:CDT
DTSTART:20250309T080000
END:DAYLIGHT
BEGIN:STANDARD
TZOFFSETFROM:-0500
TZOFFSETTO:-0600
TZNAME:CST
DTSTART:20251102T070000
END:STANDARD
END:VTIMEZONE
BEGIN:VEVENT
DTSTART;TZID=America/Winnipeg:20251203T211500
DTEND;TZID=America/Winnipeg:20251203T214500
DTSTAMP:20260422T101615
CREATED:20241003T171412Z
LAST-MODIFIED:20251128T024154Z
UID:58262-1764796500-1764798300@wpgforfree.ca
SUMMARY:CPKC Holiday Train 2025
DESCRIPTION:CPKC Holiday Train – Winnipeg Stop (December 3\, 2025) \nGet ready\, Winnipeg — the 2025 CPKC Holiday Train is rolling into town on Tuesday\, December 3\, from 9:15 PM to 9:45 PM at Panet Road & Molson Street! 🚂✨ \nThis free\, family-friendly event features a live outdoor concert right from the train’s stage\, with performances by Jade Eagleson and Teigen Gayse. Enjoy holiday lights\, festive music\, and a magical community atmosphere under the winter sky. \nThe CPKC Holiday Train spreads joy across 196 stops in Canada and the U.S. between November 19 and December 21\, 2025\, raising donations for local food banks along the way. Attendees are encouraged to bring non-perishable food items or cash donations to help support Winnipeg Harvest and other local food programs. \nDon’t miss one of Winnipeg’s most heartwarming holiday traditions — a glowing train\, live music\, and the spirit of giving all in one unforgettable night. \nDate: Wednesday\, December 3\, 2025\nTime: 9:15 PM – 9:45 PM\nLocation: Panet Road & Molson Street\, Winnipeg\nAdmission: Free \n\n\n🚆 Manitoba Stops to Mark on Your Calendar\nWhitemouth – Wednesday\, Dec 3\, 7:00 PM – 7:30 PM📍 Whitemouth Hotel\, Railway Avenue \nWinnipeg – Wednesday\, Dec 3\, 9:15 PM – 9:45 PM📍 Panet Road & Molson Street (near the tracks — you’ll hear it before you see it!) \nPortage la Prairie – Friday\, Dec 5\, 11:30 AM – 12:00 PM📍 309 1st Street NW \nNeepawa – Friday\, Dec 5\, 2:30 PM – 3:00 PM📍 Railway Street between Mountain Ave & Currie Ave \nMinnedosa – Friday\, Dec 5\, 4:00 PM – 4:30 PM📍 30 2nd Avenue NW \nShoal Lake – Friday\, Dec 5\, around 5:30 PM – 6:00 PM📍 North Railway Avenue
URL:https://wpgforfree.ca/event/cpkc-holiday-train/
LOCATION:Panet Rd & Molson St\, Winnipeg
CATEGORIES:Cause,Health,Live Entertainment,Live Music,Winter Carnival
ATTACH;FMTTYPE=image/jpeg:https://wpgforfree.ca/wp-content/uploads/2019/11/CPKC-Holiday-Train.jpg
GEO:49.8954221;-97.1385145
END:VEVENT
END:VCALENDAR