BEGIN:VCALENDAR
VERSION:2.0
PRODID:-//Winnipeg for Free - ECPv5.16.4//NONSGML v1.0//EN
CALSCALE:GREGORIAN
METHOD:PUBLISH
X-ORIGINAL-URL:https://wpgforfree.ca
X-WR-CALDESC:Events for Winnipeg for Free
REFRESH-INTERVAL;VALUE=DURATION:PT1H
X-Robots-Tag:noindex
X-PUBLISHED-TTL:PT1H
BEGIN:VTIMEZONE
TZID:America/Winnipeg
BEGIN:DAYLIGHT
TZOFFSETFROM:-0600
TZOFFSETTO:-0500
TZNAME:CDT
DTSTART:20250309T080000
END:DAYLIGHT
BEGIN:STANDARD
TZOFFSETFROM:-0500
TZOFFSETTO:-0600
TZNAME:CST
DTSTART:20251102T070000
END:STANDARD
END:VTIMEZONE
BEGIN:VEVENT
DTSTART;VALUE=DATE:20250314
DTEND;VALUE=DATE:20250316
DTSTAMP:20260420T072842
CREATED:20250106T211811Z
LAST-MODIFIED:20250310T042516Z
UID:135731-1741910400-1742083199@wpgforfree.ca
SUMMARY:Breaking Barriers: Indigenous People in Policing Career Workshop
DESCRIPTION:Breaking Barriers: Indigenous People in Policing Career WorkshopShare This Story\nBreaking Barriers: Indigenous People in Policing Career Workshop \nIndigenous people interested in a career with the Winnipeg Police Service have an exciting opportunity coming up. A two-day career workshop\, specifically designed for Indigenous people\, will be hosted by the Winnipeg Police Service Recruiting Unit. This event focuses on breaking barriers and providing valuable insights into a rewarding career in law enforcement\, emphasizing the role of Indigenous People in Policing. \nWorkshop Details\n\nDates: March 14–15\, 2025\nLocation: Winnipeg Police Headquarters\, 245 Smith Street\n\nThe article continues below \nBreaking Barriers: Indigenous People in Policing Career Workshop \nIndigenous people interested in a career with the Winnipeg Police Service have an exciting opportunity coming up. A two-day career workshop\, specifically designed for Indigenous people\, will be hosted by the Winnipeg Police Service Recruiting Unit. This event focuses on breaking barriers and providing valuable insights into a rewarding career in law enforcement\, emphasizing the role of Indigenous People in Policing. \nWorkshop Details\n\nDates: March 14–15\, 2025\nLocation: Winnipeg Police Headquarters\, 245 Smith Street\n\n\n\n\nWhat to Expect\nParticipants at this workshop can look forward to: \n\nHearing from inspiring keynote speakers: Professionals from various areas of the Winnipeg Police Service will share their experiences and insights\, highlighting the contributions of Indigenous People in Policing.\nGaining hands-on experience: Activities will provide a glimpse into the daily responsibilities of policing.\nBuilding valuable networking connections: The event offers opportunities to meet mentors and others who share similar career interests.\n\nThe workshop will also include detailed information about the hiring process\, what to expect during the application stages\, and the opportunities available within law enforcement\, particularly for Indigenous People in Policing. \n\n\n\nRegistration Information\n\nRegister online: winnipeg.ca/policerecruiting\nRegistration deadline: Friday\, February 21\, 2025\n\n\n Click Here to Register \n \nWhy Attend?\nThis workshop is a chance to break barriers and take the first step toward a meaningful career in law enforcement. It’s a unique opportunity to gain insights\, experience\, and connections that can help shape the path toward joining the Winnipeg Police Service. \nThe focus on Indigenous People in Policing ensures that participants can better understand how their heritage and perspective can make a difference in the community. \nSpaces are limited\, so early registration is encouraged. \nFor anyone who has been considering a career in policing\, this event could be the perfect opportunity to learn more and start the journey toward an impactful and fulfilling profession. Visit winnipeg.ca/policerecruiting for more details or to register. \n\nDisclaimer: This event description is for informational purposes only and was modified slightly by Winnipeg for Free from the original description for SEO purposes. Insert does not endorse this content\, and Winnipeg for Free is not affiliated with them in any way. Please confirm program details and availability directly with the event organizers. \nDisclaimer: This event description is for informational purposes only and was written by Winnipeg for Free. While Winnipeg for Free takes every step to provide accurate information\, insert does not endorse this content\, and Winnipeg for Free is not affiliated with them in any way. Please confirm program details and availability directly with the event organizer. \nDisclaimer: This blog post is for informational purposes only and was written by Winnipeg for Free. While Winnipeg for Free takes every step to provide accurate information\, insert does not endorse this content\, and Winnipeg for Free is not affiliated with them in any way. Please confirm program details and availability directly with company/organization mentioned. \n\n\n\n\nUpcoming Events\n\n	\n		\n		\n		\n			\n					\n							08\n							January\n							2026\n							\n							\n				\n		\n			Free Entry to Manitoba Parks for 1 Year Starting April 1\, 2025Free Entry to Manitoba Parks for a Year Starting April 1\, 2025 Free Entry ito \nFind out more\n                        \n                        \n                        \n                        Multiple Locations\,\n\n\n\n\n\n\n\n\n	\n	\n		\n		\n		\n			\n					\n							21\n							April\n							2026\n							\n							\n				\n		\n			Free Admission to Winnipeg Police MuseumThe Winnipeg Police Museum offers free admission and features artifacts dating back to the late 1800s\, vintage vehicles and motorcycles\, and stories highlighting the history and service of the Winnipeg Police Service\, located at 245 Smith Street and open Tuesday to Friday from 10:00 AM to 3:00 PM. \nFind out more\n                        \n                        \n                        \n                        Winnipeg Police Museum\,\n\n245 Smith St.\n	\n		\n		Winnipeg\,\n\n	Manitoba\n\n\n	Canada\n\n\n+ Google Map\n	\n	\n		\n		\n		\n			\n					\n							24\n							April\n							2026\n							\n							\n				\n		\n			Free Admission for Youth 14 and under at RodaramaHere’s a short\, SEO-friendly excerpt you can use: \n**Looking for things to do in Winnipeg this weekend?** Discover a mix of free events\, markets\, live music\, family activities\, and major attractions happening April 25. From carnival rides and car shows to community festivals and outdoor experiences\, there’s something for everyone to enjoy. \nFind out more\n                        \n                        \n                        \n                        Red River Exhibition Park\,\n\n3977 Portage Avenue\, Winnipeg\, MB R3K 2E8\n	\n		\n		Winnipeg\,\n\n\n	R3K 2E8\n\n	CA\n\n\n+ Google Map\n	\n	\n		\n		\n		\n			\n					\n							25\n							April\n							2026\n							\n							\n				\n		\n			Manitoba Robot Games 2026The Manitoba Robot Games returns to Winnipeg on April 25\, 2026\, with 17 exciting robot competitions at Tec-Voc’s Hornet Dome. Free for spectators\, it’s a fun and family-friendly way to experience STEM in action. \nFind out more\n                        \n                        \n                        \n                        Tec-Voc High School (The Hornet Dome)\,\n\n1555 Wall Street\n	\n		\n		Winnipeg\,\n\n	Manitoba\n\n\n	Canada\n\n\n+ Google Map\n	\n	\n		\n		\n		\n			\n					\n							25\n							April\n							2026\n							\n							\n				\n		\n			Astronomy Day at Assiniboine ParkEnjoy a free day of stargazing at Astronomy Day in Assiniboine Park\, featuring daytime and nighttime telescope viewing. Connect with experts and explore the wonders of the universe—no registration required. \nFind out more\n                        \n                        \n                        \n                        Assiniboine Park (Lyric Theatre and Field)\,\n\n55 Pavilion Crescent\, Winnipeg\, MB R3P 2N6\n	\n		\n		Winnipeg\,\n\n	Manitoba\n\n	R3P 2N6\n\n	Canada\n\n\n+ Google Map\n	\n	\n		\n		\n		\n			\n					\n							25\n							April\n							2026\n							\n							\n				\n		\n			Astronomy Day at Assiniboine ParkEnjoy a free day of stargazing at Astronomy Day in Assiniboine Park\, featuring daytime and nighttime telescope viewing. Connect with experts and explore the wonders of the universe—no registration required. \nFind out more\n                        \n                        \n                        \n                        Assiniboine Park (Lyric Theatre and Field)\,\n\n55 Pavilion Crescent\, Winnipeg\, MB R3P 2N6\n	\n		\n		Winnipeg\,\n\n	Manitoba\n\n	R3P 2N6\n\n	Canada\n\n\n+ Google Map\n	\n	\n		\n		\n		\n			\n					\n							01\n							May\n							2026\n							\n							\n				\n		\n			Jane's Walk Winnipeg 2026Explore Winnipeg during Jane’s Walk 2026 (May 1–3) with free\, community-led walking tours across the city featuring local history\, culture\, and hidden gems. \nFind out more\n                        \n                        \n                        \n                        Multiple Locations\,\n\n\n\n\n\n\n\n\n	\n	\n		\n		\n		\n			\n					\n							03\n							May\n							2026\n							\n							\n				\n		\n			Narcisse Snake Dens 2026See thousands of red-sided garter snakes gather at the Narcisse Snake Dens during Manitoba’s incredible spring mating season. This rare natural phenomenon offers a free\, unforgettable wildlife experience just outside Winnipeg. \nFind out more\n                        \n                        \n                        \n                        Narcisse Snake Dens\,\n\nHighway 17\n	\n		\n		Narcisse\,\n\n	Manitoba\n\n	R0C 2H0\n\n	Canada\n\n\n+ Google Map\n	\n	\n		\n		\n		\n			\n					\n							03\n							May\n							2026\n							\n							\n				\n		\n			Community Movie Night at East End Community CentreEast End Community Club Free Movie Nights – Fall 2025 to Spring 2026 Dates: Sept \nFind out more\n                        \n                        \n                        \n                        East End Community Club\,\n\n517 Pandora Ave E.\n	\n		\n		Winnipeg\,\n\n\n	R2C 0A5\n\n	CA\n\n\n+ Google Map\n	\n	\n		\n		\n		\n			\n					\n							08\n							May\n							2026\n							\n							\n				\n		\n			City of Winnipeg Compost GiveawayFree compost is available for Winnipeg residents for a limited time\, while quantities last. Bring your own containers and take advantage of this giveaway to boost your garden and soil naturally. \nFind out more\n                        \n                        \n                        \n                        Multiple Locations\,\n\n\n\n\n\n\n\n\n	\n                \n                 Load More
URL:https://wpgforfree.ca/event/breaking-barriers-indigenous-people-in-policing-career-workshop/
LOCATION:Winnipeg Police Headquarters\, 45 Smith Street\, Winnipeg\, Manitoba
CATEGORIES:Career,Cause,Community
GEO:49.8864317;-97.1384291
X-APPLE-STRUCTURED-LOCATION;VALUE=URI;X-ADDRESS=Winnipeg Police Headquarters 45 Smith Street Winnipeg Manitoba;X-APPLE-RADIUS=500;X-TITLE=45 Smith Street:geo:-97.1384291,49.8864317
END:VEVENT
BEGIN:VEVENT
DTSTART;VALUE=DATE:20250314
DTEND;VALUE=DATE:20250316
DTSTAMP:20260420T072842
CREATED:20250123T224220Z
LAST-MODIFIED:20250123T224939Z
UID:136275-1741910400-1742083199@wpgforfree.ca
SUMMARY:Breaking Barriers: Women in Policing Career Workshop
DESCRIPTION:Are you considering a career with the Winnipeg Police Service? \nJoin us for a two-day career workshop designed exclusively for women interested in law enforcement. Hosted by the Winnipeg Police Service Recruiting Unit\, this event offers an exciting opportunity to explore a rewarding career in policing. \n📅 Workshop Dates: March 14–15\, 2025\n📍 Location: Details provided upon registration \n\n\n\nDuring this comprehensive event\, participants will:\n• Hear from inspiring keynote speakers across the Service\n• Gain hands-on experience\n• Build valuable networking connections \nLearn about the hiring process\, application expectations\, and the opportunities a career in law enforcement can offer!\nRegister online: winnipeg.ca/policerecruiting\nRegistration deadline: Friday\, February 21\, 2025 \nDon’t miss this chance to break barriers and take the first step toward an incredible career. \n\n\n\n\nUpcoming Events\n\n	\n		\n		\n		\n			\n					\n							08\n							January\n							2026\n							\n							\n				\n		\n			Free Entry to Manitoba Parks for 1 Year Starting April 1\, 2025Free Entry to Manitoba Parks for a Year Starting April 1\, 2025 Free Entry ito \nFind out more\n                        \n                        \n                        \n                        Multiple Locations\,\n\n\n\n\n\n\n\n\n	\n	\n		\n		\n		\n			\n					\n							21\n							April\n							2026\n							\n							\n				\n		\n			Free Admission to Winnipeg Police MuseumThe Winnipeg Police Museum offers free admission and features artifacts dating back to the late 1800s\, vintage vehicles and motorcycles\, and stories highlighting the history and service of the Winnipeg Police Service\, located at 245 Smith Street and open Tuesday to Friday from 10:00 AM to 3:00 PM. \nFind out more\n                        \n                        \n                        \n                        Winnipeg Police Museum\,\n\n245 Smith St.\n	\n		\n		Winnipeg\,\n\n	Manitoba\n\n\n	Canada\n\n\n+ Google Map\n	\n	\n		\n		\n		\n			\n					\n							24\n							April\n							2026\n							\n							\n				\n		\n			Free Admission for Youth 14 and under at RodaramaHere’s a short\, SEO-friendly excerpt you can use: \n**Looking for things to do in Winnipeg this weekend?** Discover a mix of free events\, markets\, live music\, family activities\, and major attractions happening April 25. From carnival rides and car shows to community festivals and outdoor experiences\, there’s something for everyone to enjoy. \nFind out more\n                        \n                        \n                        \n                        Red River Exhibition Park\,\n\n3977 Portage Avenue\, Winnipeg\, MB R3K 2E8\n	\n		\n		Winnipeg\,\n\n\n	R3K 2E8\n\n	CA\n\n\n+ Google Map\n	\n	\n		\n		\n		\n			\n					\n							25\n							April\n							2026\n							\n							\n				\n		\n			Manitoba Robot Games 2026The Manitoba Robot Games returns to Winnipeg on April 25\, 2026\, with 17 exciting robot competitions at Tec-Voc’s Hornet Dome. Free for spectators\, it’s a fun and family-friendly way to experience STEM in action. \nFind out more\n                        \n                        \n                        \n                        Tec-Voc High School (The Hornet Dome)\,\n\n1555 Wall Street\n	\n		\n		Winnipeg\,\n\n	Manitoba\n\n\n	Canada\n\n\n+ Google Map\n	\n	\n		\n		\n		\n			\n					\n							25\n							April\n							2026\n							\n							\n				\n		\n			Astronomy Day at Assiniboine ParkEnjoy a free day of stargazing at Astronomy Day in Assiniboine Park\, featuring daytime and nighttime telescope viewing. Connect with experts and explore the wonders of the universe—no registration required. \nFind out more\n                        \n                        \n                        \n                        Assiniboine Park (Lyric Theatre and Field)\,\n\n55 Pavilion Crescent\, Winnipeg\, MB R3P 2N6\n	\n		\n		Winnipeg\,\n\n	Manitoba\n\n	R3P 2N6\n\n	Canada\n\n\n+ Google Map\n	\n	\n		\n		\n		\n			\n					\n							25\n							April\n							2026\n							\n							\n				\n		\n			Astronomy Day at Assiniboine ParkEnjoy a free day of stargazing at Astronomy Day in Assiniboine Park\, featuring daytime and nighttime telescope viewing. Connect with experts and explore the wonders of the universe—no registration required. \nFind out more\n                        \n                        \n                        \n                        Assiniboine Park (Lyric Theatre and Field)\,\n\n55 Pavilion Crescent\, Winnipeg\, MB R3P 2N6\n	\n		\n		Winnipeg\,\n\n	Manitoba\n\n	R3P 2N6\n\n	Canada\n\n\n+ Google Map\n	\n	\n		\n		\n		\n			\n					\n							01\n							May\n							2026\n							\n							\n				\n		\n			Jane's Walk Winnipeg 2026Explore Winnipeg during Jane’s Walk 2026 (May 1–3) with free\, community-led walking tours across the city featuring local history\, culture\, and hidden gems. \nFind out more\n                        \n                        \n                        \n                        Multiple Locations\,\n\n\n\n\n\n\n\n\n	\n	\n		\n		\n		\n			\n					\n							03\n							May\n							2026\n							\n							\n				\n		\n			Narcisse Snake Dens 2026See thousands of red-sided garter snakes gather at the Narcisse Snake Dens during Manitoba’s incredible spring mating season. This rare natural phenomenon offers a free\, unforgettable wildlife experience just outside Winnipeg. \nFind out more\n                        \n                        \n                        \n                        Narcisse Snake Dens\,\n\nHighway 17\n	\n		\n		Narcisse\,\n\n	Manitoba\n\n	R0C 2H0\n\n	Canada\n\n\n+ Google Map\n	\n	\n		\n		\n		\n			\n					\n							03\n							May\n							2026\n							\n							\n				\n		\n			Community Movie Night at East End Community CentreEast End Community Club Free Movie Nights – Fall 2025 to Spring 2026 Dates: Sept \nFind out more\n                        \n                        \n                        \n                        East End Community Club\,\n\n517 Pandora Ave E.\n	\n		\n		Winnipeg\,\n\n\n	R2C 0A5\n\n	CA\n\n\n+ Google Map\n	\n	\n		\n		\n		\n			\n					\n							08\n							May\n							2026\n							\n							\n				\n		\n			City of Winnipeg Compost GiveawayFree compost is available for Winnipeg residents for a limited time\, while quantities last. Bring your own containers and take advantage of this giveaway to boost your garden and soil naturally. \nFind out more\n                        \n                        \n                        \n                        Multiple Locations\,\n\n\n\n\n\n\n\n\n	\n                \n                 Load More
URL:https://wpgforfree.ca/event/breaking-barriers-women-in-policing-career-workshop/
LOCATION:TBA\, Winnipeg\, Manitoba\, Canada
CATEGORIES:Career
ATTACH;FMTTYPE=image/jpeg:https://wpgforfree.ca/wp-content/uploads/2025/01/Breaking-Barriers-Women-in-Policing-Career-Workshop-1.jpg
END:VEVENT
END:VCALENDAR