BEGIN:VCALENDAR
VERSION:2.0
PRODID:-//Winnipeg for Free - ECPv5.16.4//NONSGML v1.0//EN
CALSCALE:GREGORIAN
METHOD:PUBLISH
X-WR-CALNAME:Winnipeg for Free
X-ORIGINAL-URL:https://wpgforfree.ca
X-WR-CALDESC:Events for Winnipeg for Free
REFRESH-INTERVAL;VALUE=DURATION:PT1H
X-Robots-Tag:noindex
X-PUBLISHED-TTL:PT1H
BEGIN:VTIMEZONE
TZID:America/Winnipeg
BEGIN:DAYLIGHT
TZOFFSETFROM:-0600
TZOFFSETTO:-0500
TZNAME:CDT
DTSTART:20200308T080000
END:DAYLIGHT
BEGIN:STANDARD
TZOFFSETFROM:-0500
TZOFFSETTO:-0600
TZNAME:CST
DTSTART:20201101T070000
END:STANDARD
END:VTIMEZONE
BEGIN:VEVENT
DTSTART;TZID=America/Winnipeg:20200307T143000
DTEND;TZID=America/Winnipeg:20200307T153000
DTSTAMP:20260421T155642
CREATED:20200207T061425Z
LAST-MODIFIED:20200207T061425Z
UID:61842-1583591400-1583595000@wpgforfree.ca
SUMMARY:Sharing Dance Free Open Classes
DESCRIPTION:Sharing Dance encourages everyone to embrace the pure joy of dance in a healthy\, fun and FREE open dance classes for kids ages 8-12. No registration required. \nJoin us and discover how dance can enhance fundamental movement skills\, inspire creativity and improve mental and emotion well-being. \nVisit rwb.org/sharingdance for more information
URL:https://wpgforfree.ca/event/sharing-dance-free-open-classes-3-12/
LOCATION:Royal Winnipeg Ballet School\, 380 Graham Avenue\, Winnipeg\, R3C 4K2\, CA
CATEGORIES:Career,Kid Friendly
GEO:49.8910536;-97.1462468
X-APPLE-STRUCTURED-LOCATION;VALUE=URI;X-ADDRESS=Royal Winnipeg Ballet School 380 Graham Avenue Winnipeg R3C 4K2 CA;X-APPLE-RADIUS=500;X-TITLE=380 Graham Avenue:geo:-97.1462468,49.8910536
END:VEVENT
END:VCALENDAR