BEGIN:VCALENDAR
VERSION:2.0
PRODID:-//Winnipeg for Free - ECPv5.16.4//NONSGML v1.0//EN
CALSCALE:GREGORIAN
METHOD:PUBLISH
X-WR-CALNAME:Winnipeg for Free
X-ORIGINAL-URL:https://wpgforfree.ca
X-WR-CALDESC:Events for Winnipeg for Free
REFRESH-INTERVAL;VALUE=DURATION:PT1H
X-Robots-Tag:noindex
X-PUBLISHED-TTL:PT1H
BEGIN:VTIMEZONE
TZID:America/Winnipeg
BEGIN:DAYLIGHT
TZOFFSETFROM:-0600
TZOFFSETTO:-0500
TZNAME:CDT
DTSTART:20250309T080000
END:DAYLIGHT
BEGIN:STANDARD
TZOFFSETFROM:-0500
TZOFFSETTO:-0600
TZNAME:CST
DTSTART:20251102T070000
END:STANDARD
END:VTIMEZONE
BEGIN:VEVENT
DTSTART;TZID=America/Winnipeg:20250524T110000
DTEND;TZID=America/Winnipeg:20250525T144500
DTSTAMP:20260422T103844
CREATED:20210429T182015Z
LAST-MODIFIED:20250504T023715Z
UID:67392-1748084400-1748184300@wpgforfree.ca
SUMMARY:Haunted History Tour at Doors Open Winnipeg
DESCRIPTION:Haunted History Tour at Doors Open WinnipegShare This Story\nDon't Miss the Doors Open Winnipeg Haunted History Tour! \nThrill seekers and history buffs\, rejoice! The Doors Open Winnipeg Haunted History Tour is back to weave a chilling tapestry of Winnipeg's past. Led by a renowned city historian\, author of “Haunted Winnipeg: Ghost Stories from the Heart of the Continent\,” this Haunted History Tour at Doors Open Winnipeg promises a unique blend of historical facts and the city's most enduring ghost stories. \nExplore Winnipeg's Haunted Landmarks: \nThe Doors Open Winnipeg Haunted History Tour will take you on a spooky journey through the exteriors of three of Winnipeg's most iconic buildings\, steeped in history and rumored hauntings: \n\nThe infamous Vaughan Street Jail\nThe majestic Manitoba Legislature Building\nThe opulent Dalnavert Museum\n\n444 Vaughan Street\nMay 24th\, 2025 & May 25th\, 2025\nSaturday: 11:00am & 2:00pm\nSunday: 11:00am & 2:00pm \n\n\n\nA Spooky Family Outing: \nThis Doors Open Winnipeg Haunted History Tour is suitable for ages 10 and up\, making it a perfect opportunity for a thrilling family outing or an unforgettable adventure with friends. \nAccessibility Information: \nThe Haunted History Tour at Doors Open Winnipeg is wheelchair accessible\, but some sidewalks may be uneven. \nTour Details: \n\nGuided tours depart at 11:00 am and 2:00 pm from the fountain at Memorial Provincial Park (across from Vaughan Street Jail) and conclude at 61 Carlton Street (Dalnavert Museum).\nEach Haunted History Tour at Doors Open Winnipeg lasts approximately 45 minutes and is limited to 25 guests for a personalized experience.\n\n\n\n\n\nRegistration is Required: \nRegistration for the Doors Open Winnipeg Haunted History Tour is mandatory. The registration link will be available online starting Saturday\, May 17 at  noon. Click the button below on May 17. \n Click Here to Register  \nPrepare for the Weather: \nThe Doors Open Winnipeg Haunted History Tour will proceed as planned in light rain. However\, the organizers reserve the right to cancel in case of heavy downpours or thunderstorms. Please check the forecast beforehand and dress accordingly. \nEvent Details: \n\nEvent Title: Doors Open Winnipeg Haunted History Tour\nDate: May 24-25\nTour Times: 11:00 am and 2:00 pm\nMeeting Point: Fountain at Memorial Provincial Park (across from Vaughan Street Jail)\n\n\n\n\n\nUpcoming Events\n\n	\n		\n		\n		\n			\n					\n							08\n							January\n							2026\n							\n							\n				\n		\n			Free Entry to Manitoba Parks for 1 Year Starting April 1\, 2025Free Entry to Manitoba Parks for a Year Starting April 1\, 2025 Free Entry ito \nFind out more\n                        \n                        \n                        \n                        Multiple Locations\,\n\n\n\n\n\n\n\n\n	\n	\n		\n		\n		\n			\n					\n							21\n							April\n							2026\n							\n							\n				\n		\n			Free Admission to Winnipeg Police MuseumThe Winnipeg Police Museum offers free admission and features artifacts dating back to the late 1800s\, vintage vehicles and motorcycles\, and stories highlighting the history and service of the Winnipeg Police Service\, located at 245 Smith Street and open Tuesday to Friday from 10:00 AM to 3:00 PM. \nFind out more\n                        \n                        \n                        \n                        Winnipeg Police Museum\,\n\n245 Smith St.\n	\n		\n		Winnipeg\,\n\n	Manitoba\n\n\n	Canada\n\n\n+ Google Map\n	\n	\n		\n		\n		\n			\n					\n							24\n							April\n							2026\n							\n							\n				\n		\n			Free Admission to Canuck Amusements at Kildonan Place 2026The Canuck Amusements Carnival brings thrills\, games\, and family fun to Kildonan Place! Enjoy heart-pounding rides\, kiddie zones\, delicious treats & more. 2 Weekends! Free Entry! ($30 wristbands for unlimited rides). Don't miss out! \nFind out more\n                        \n                        \n                        \n                        Kildonan Place\,\n\n1555 Regent Ave W.\n	\n		\n		Winnipeg\,\n\n\n	R2C 4J2\n\n	CA\n\n\n+ Google Map\n	\n	\n		\n		\n		\n			\n					\n							24\n							April\n							2026\n							\n							\n				\n		\n			Weekend Round-Up: 10+ Free Events in Winnipeg April 24-26A list of free things to do in Winnipeg during the weekend including activities for the family\, live music\, arts\, movies\, and more. \nFind out more\n                        \n                        \n                        \n                        Winnipeg\, Manitoba\,\n\n\n	Winnipeg\,\n\n	Manitoba\n\n\n	Canada\n\n\n+ Google Map\n	\n	\n		\n		\n		\n			\n					\n							24\n							April\n							2026\n							\n							\n				\n		\n			Free Admission for Youth 14 and under at RodaramaHere’s a short\, SEO-friendly excerpt you can use: \n**Looking for things to do in Winnipeg this weekend?** Discover a mix of free events\, markets\, live music\, family activities\, and major attractions happening April 25. From carnival rides and car shows to community festivals and outdoor experiences\, there’s something for everyone to enjoy. \nFind out more\n                        \n                        \n                        \n                        Red River Exhibition Park\,\n\n3977 Portage Avenue\, Winnipeg\, MB R3K 2E8\n	\n		\n		Winnipeg\,\n\n\n	R3K 2E8\n\n	CA\n\n\n+ Google Map\n	\n	\n		\n		\n		\n			\n					\n							25\n							April\n							2026\n							\n							\n				\n		\n			Manitoba Robot Games 2026The Manitoba Robot Games returns to Winnipeg on April 25\, 2026\, with 17 exciting robot competitions at Tec-Voc’s Hornet Dome. Free for spectators\, it’s a fun and family-friendly way to experience STEM in action. \nFind out more\n                        \n                        \n                        \n                        Tec-Voc High School (The Hornet Dome)\,\n\n1555 Wall Street\n	\n		\n		Winnipeg\,\n\n	Manitoba\n\n\n	Canada\n\n\n+ Google Map\n	\n	\n		\n		\n		\n			\n					\n							25\n							April\n							2026\n							\n							\n				\n		\n			Astronomy Day at Assiniboine ParkEnjoy a free day of stargazing at Astronomy Day in Assiniboine Park\, featuring daytime and nighttime telescope viewing. Connect with experts and explore the wonders of the universe—no registration required. \nFind out more\n                        \n                        \n                        \n                        Assiniboine Park (Lyric Theatre and Field)\,\n\n55 Pavilion Crescent\, Winnipeg\, MB R3P 2N6\n	\n		\n		Winnipeg\,\n\n	Manitoba\n\n	R3P 2N6\n\n	Canada\n\n\n+ Google Map\n	\n	\n		\n		\n		\n			\n					\n							25\n							April\n							2026\n							\n							\n				\n		\n			Astronomy Day at Assiniboine ParkEnjoy a free day of stargazing at Astronomy Day in Assiniboine Park\, featuring daytime and nighttime telescope viewing. Connect with experts and explore the wonders of the universe—no registration required. \nFind out more\n                        \n                        \n                        \n                        Assiniboine Park (Lyric Theatre and Field)\,\n\n55 Pavilion Crescent\, Winnipeg\, MB R3P 2N6\n	\n		\n		Winnipeg\,\n\n	Manitoba\n\n	R3P 2N6\n\n	Canada\n\n\n+ Google Map\n	\n	\n		\n		\n		\n			\n					\n							01\n							May\n							2026\n							\n							\n				\n		\n			Jane's Walk Winnipeg 2026Explore Winnipeg during Jane’s Walk 2026 (May 1–3) with free\, community-led walking tours across the city featuring local history\, culture\, and hidden gems. \nFind out more\n                        \n                        \n                        \n                        Multiple Locations\,\n\n\n\n\n\n\n\n\n	\n	\n		\n		\n		\n			\n					\n							03\n							May\n							2026\n							\n							\n				\n		\n			Narcisse Snake Dens 2026See thousands of red-sided garter snakes gather at the Narcisse Snake Dens during Manitoba’s incredible spring mating season. This rare natural phenomenon offers a free\, unforgettable wildlife experience just outside Winnipeg. \nFind out more\n                        \n                        \n                        \n                        Narcisse Snake Dens\,\n\nHighway 17\n	\n		\n		Narcisse\,\n\n	Manitoba\n\n	R0C 2H0\n\n	Canada\n\n\n+ Google Map\n	\n                \n                 Load More
URL:https://wpgforfree.ca/event/haunted-history-tour/
LOCATION:Vaughan Street Jail\, 444 York Avenue\, Winnipeg\, Manitoba\, Canada
CATEGORIES:Doors Open Winnipeg,Multiday
ATTACH;FMTTYPE=image/jpeg:https://wpgforfree.ca/wp-content/uploads/2021/04/Haunted-History-Tour-at-Doors-Open-Winnipeg-2.jpg
GEO:49.8877027;-97.1478492
X-APPLE-STRUCTURED-LOCATION;VALUE=URI;X-ADDRESS=Vaughan Street Jail 444 York Avenue Winnipeg Manitoba Canada;X-APPLE-RADIUS=500;X-TITLE=444 York Avenue:geo:-97.1478492,49.8877027
END:VEVENT
END:VCALENDAR