BEGIN:VCALENDAR
VERSION:2.0
PRODID:-//Winnipeg for Free - ECPv5.16.4//NONSGML v1.0//EN
CALSCALE:GREGORIAN
METHOD:PUBLISH
X-WR-CALNAME:Winnipeg for Free
X-ORIGINAL-URL:https://wpgforfree.ca
X-WR-CALDESC:Events for Winnipeg for Free
REFRESH-INTERVAL;VALUE=DURATION:PT1H
X-Robots-Tag:noindex
X-PUBLISHED-TTL:PT1H
BEGIN:VTIMEZONE
TZID:America/Winnipeg
BEGIN:DAYLIGHT
TZOFFSETFROM:-0600
TZOFFSETTO:-0500
TZNAME:CDT
DTSTART:20240310T080000
END:DAYLIGHT
BEGIN:STANDARD
TZOFFSETFROM:-0500
TZOFFSETTO:-0600
TZNAME:CST
DTSTART:20241103T070000
END:STANDARD
END:VTIMEZONE
BEGIN:VEVENT
DTSTART;TZID=America/Winnipeg:20240819T180000
DTEND;TZID=America/Winnipeg:20240819T223000
DTSTAMP:20260421T200611
CREATED:20240813T000246Z
LAST-MODIFIED:20240817T031850Z
UID:131842-1724090400-1724106600@wpgforfree.ca
SUMMARY:Downtown Family Movie Nights
DESCRIPTION:Downtown Family Movie NightsShare This Story\nDowntown Family Movie Nights presented by the WCB invites the public to experience a magical cinematic evening under the stars. Two FREE evenings of fun\, entertainment\, and community bonding await attendees\, featuring family-friendly films\, activities\, and delicious local snacks. \nAUGUST 19: ENCANTO AUGUST 30: WONKA \nTIME: Programming starts at 6 p.m.\, movie begins at 8:30 p.m.LOCATION: Bonnycastle Park – 260 Assiniboine Avenue ADMISSION: FREE \nSCHEDULE \n● 6:00 p.m. – 8:30 p.m.: Giant games\, inflatables\, face painting\, photo booth\, arts & crafts workshops\, cotton candy\, food vendors\, and more! \n● 7:00 p.m. – 8 p.m.: Family dance party\, featuring music by live DJs. \n● 8:30 p.m. – 10:30 p.m.: Featured movie \nThe article continues below \nDowntown Family Movie Nights presented by the WCB invites the public to experience a magical cinematic evening under the stars. Two FREE evenings of fun\, entertainment\, and community bonding await attendees\, featuring family-friendly films\, activities\, and delicious local snacks. \nAUGUST 15: ENCANTO AUGUST 30: WONKA \nTIME: Programming starts at 6 p.m.\, movie begins at 8:30 p.m.LOCATION: Bonnycastle Park – 260 Assiniboine Avenue ADMISSION: FREE \nSCHEDULE \n● 6:00 p.m. – 8:30 p.m.: Giant games\, inflatables\, face painting\, photo booth\, arts & crafts workshops\, cotton candy\, food vendors\, and more! \n● 7:00 p.m. – 8 p.m.: Family dance party\, featuring music by live DJs. \n● 8:30 p.m. – 10:30 p.m.: Featured movie \n\n\n\nEncanto\, Disney’s magical film about the extraordinary Madrigal Family\, transports audiences to a beautiful Colombian village and celebrates the power of family and heartwarming music. Bring a picnic blanket and sing along to this 2021 blockbuster’s hits like “We Don’t Talk About Bruno” and “The Family Madrigal”. \nWonka\, the 2023 prequel to the classic “Charlie and the Chocolate Factory”\, takes viewers back to the origins of the famous chocolatier. Discover young Willy Wonka’s early days and his dream of opening his own chocolate shop. \n\n\n\n\nA VIP Seating Contest is underway on Downtown Winnipeg BIZ’s Instagram page. Participants can enter for a chance to win prime viewing spots for their family\, ensuring a perfect view of the big screen. To add an extra layer of fun and creativity\, attendees are encouraged to dress up as their favorite characters. \n\nPlease note: This blog post is for informational purposes only. Winnipeg for Free is not associated with Downtown Winnipeg Biz and Workers Compensation Board of Manitoba in any manner. Confirm program details and availability directly with them.  \n\n\n\n\nUpcoming Events\n\n	\n		\n		\n		\n			\n					\n							08\n							January\n							2026\n							\n							\n				\n		\n			Free Entry to Manitoba Parks for 1 Year Starting April 1\, 2025Free Entry to Manitoba Parks for a Year Starting April 1\, 2025 Free Entry ito \nFind out more\n                        \n                        \n                        \n                        Multiple Locations\,\n\n\n\n\n\n\n\n\n	\n	\n		\n		\n		\n			\n					\n							21\n							April\n							2026\n							\n							\n				\n		\n			Free Admission to Winnipeg Police MuseumThe Winnipeg Police Museum offers free admission and features artifacts dating back to the late 1800s\, vintage vehicles and motorcycles\, and stories highlighting the history and service of the Winnipeg Police Service\, located at 245 Smith Street and open Tuesday to Friday from 10:00 AM to 3:00 PM. \nFind out more\n                        \n                        \n                        \n                        Winnipeg Police Museum\,\n\n245 Smith St.\n	\n		\n		Winnipeg\,\n\n	Manitoba\n\n\n	Canada\n\n\n+ Google Map\n	\n	\n		\n		\n		\n			\n					\n							24\n							April\n							2026\n							\n							\n				\n		\n			Free Admission to Canuck Amusements at Kildonan Place 2026The Canuck Amusements Carnival brings thrills\, games\, and family fun to Kildonan Place! Enjoy heart-pounding rides\, kiddie zones\, delicious treats & more. 2 Weekends! Free Entry! ($30 wristbands for unlimited rides). Don't miss out! \nFind out more\n                        \n                        \n                        \n                        Kildonan Place\,\n\n1555 Regent Ave W.\n	\n		\n		Winnipeg\,\n\n\n	R2C 4J2\n\n	CA\n\n\n+ Google Map\n	\n	\n		\n		\n		\n			\n					\n							24\n							April\n							2026\n							\n							\n				\n		\n			Weekend Round-Up: 10+ Free Events in Winnipeg April 24-26A list of free things to do in Winnipeg during the weekend including activities for the family\, live music\, arts\, movies\, and more. \nFind out more\n                        \n                        \n                        \n                        Winnipeg\, Manitoba\,\n\n\n	Winnipeg\,\n\n	Manitoba\n\n\n	Canada\n\n\n+ Google Map\n	\n	\n		\n		\n		\n			\n					\n							24\n							April\n							2026\n							\n							\n				\n		\n			Free Admission for Youth 14 and under at RodaramaHere’s a short\, SEO-friendly excerpt you can use: \n**Looking for things to do in Winnipeg this weekend?** Discover a mix of free events\, markets\, live music\, family activities\, and major attractions happening April 25. From carnival rides and car shows to community festivals and outdoor experiences\, there’s something for everyone to enjoy. \nFind out more\n                        \n                        \n                        \n                        Red River Exhibition Park\,\n\n3977 Portage Avenue\, Winnipeg\, MB R3K 2E8\n	\n		\n		Winnipeg\,\n\n\n	R3K 2E8\n\n	CA\n\n\n+ Google Map\n	\n	\n		\n		\n		\n			\n					\n							25\n							April\n							2026\n							\n							\n				\n		\n			Manitoba Robot Games 2026The Manitoba Robot Games returns to Winnipeg on April 25\, 2026\, with 17 exciting robot competitions at Tec-Voc’s Hornet Dome. Free for spectators\, it’s a fun and family-friendly way to experience STEM in action. \nFind out more\n                        \n                        \n                        \n                        Tec-Voc High School (The Hornet Dome)\,\n\n1555 Wall Street\n	\n		\n		Winnipeg\,\n\n	Manitoba\n\n\n	Canada\n\n\n+ Google Map\n	\n	\n		\n		\n		\n			\n					\n							25\n							April\n							2026\n							\n							\n				\n		\n			Astronomy Day at Assiniboine ParkEnjoy a free day of stargazing at Astronomy Day in Assiniboine Park\, featuring daytime and nighttime telescope viewing. Connect with experts and explore the wonders of the universe—no registration required. \nFind out more\n                        \n                        \n                        \n                        Assiniboine Park (Lyric Theatre and Field)\,\n\n55 Pavilion Crescent\, Winnipeg\, MB R3P 2N6\n	\n		\n		Winnipeg\,\n\n	Manitoba\n\n	R3P 2N6\n\n	Canada\n\n\n+ Google Map\n	\n	\n		\n		\n		\n			\n					\n							25\n							April\n							2026\n							\n							\n				\n		\n			Astronomy Day at Assiniboine ParkEnjoy a free day of stargazing at Astronomy Day in Assiniboine Park\, featuring daytime and nighttime telescope viewing. Connect with experts and explore the wonders of the universe—no registration required. \nFind out more\n                        \n                        \n                        \n                        Assiniboine Park (Lyric Theatre and Field)\,\n\n55 Pavilion Crescent\, Winnipeg\, MB R3P 2N6\n	\n		\n		Winnipeg\,\n\n	Manitoba\n\n	R3P 2N6\n\n	Canada\n\n\n+ Google Map\n	\n	\n		\n		\n		\n			\n					\n							01\n							May\n							2026\n							\n							\n				\n		\n			Jane's Walk Winnipeg 2026Explore Winnipeg during Jane’s Walk 2026 (May 1–3) with free\, community-led walking tours across the city featuring local history\, culture\, and hidden gems. \nFind out more\n                        \n                        \n                        \n                        Multiple Locations\,\n\n\n\n\n\n\n\n\n	\n	\n		\n		\n		\n			\n					\n							03\n							May\n							2026\n							\n							\n				\n		\n			Narcisse Snake Dens 2026See thousands of red-sided garter snakes gather at the Narcisse Snake Dens during Manitoba’s incredible spring mating season. This rare natural phenomenon offers a free\, unforgettable wildlife experience just outside Winnipeg. \nFind out more\n                        \n                        \n                        \n                        Narcisse Snake Dens\,\n\nHighway 17\n	\n		\n		Narcisse\,\n\n	Manitoba\n\n	R0C 2H0\n\n	Canada\n\n\n+ Google Map\n	\n                \n                 Load More
URL:https://wpgforfree.ca/event/downtown-family-movie-nights/
LOCATION:Bonnycastle Park\, 260 Assiniboine Ave.\, Winnipeg\, Manitoba\, Canada
CATEGORIES:Kid Friendly,Movies
ATTACH;FMTTYPE=image/jpeg:https://wpgforfree.ca/wp-content/uploads/2024/08/Downtown-Family-Movie-Nights-1.jpg
END:VEVENT
END:VCALENDAR